BEGIN:VCALENDAR
VERSION:2.0
PRODID:-//Welcome To Ely - ECPv6.15.20//NONSGML v1.0//EN
CALSCALE:GREGORIAN
METHOD:PUBLISH
X-WR-CALNAME:Welcome To Ely
X-ORIGINAL-URL:https://elynevada.net
X-WR-CALDESC:Events for Welcome To Ely
REFRESH-INTERVAL;VALUE=DURATION:PT1H
X-Robots-Tag:noindex
X-PUBLISHED-TTL:PT1H
BEGIN:VTIMEZONE
TZID:America/Los_Angeles
BEGIN:DAYLIGHT
TZOFFSETFROM:-0800
TZOFFSETTO:-0700
TZNAME:PDT
DTSTART:20240310T100000
END:DAYLIGHT
BEGIN:STANDARD
TZOFFSETFROM:-0700
TZOFFSETTO:-0800
TZNAME:PST
DTSTART:20241103T090000
END:STANDARD
BEGIN:DAYLIGHT
TZOFFSETFROM:-0800
TZOFFSETTO:-0700
TZNAME:PDT
DTSTART:20250309T100000
END:DAYLIGHT
BEGIN:STANDARD
TZOFFSETFROM:-0700
TZOFFSETTO:-0800
TZNAME:PST
DTSTART:20251102T090000
END:STANDARD
BEGIN:DAYLIGHT
TZOFFSETFROM:-0800
TZOFFSETTO:-0700
TZNAME:PDT
DTSTART:20260308T100000
END:DAYLIGHT
BEGIN:STANDARD
TZOFFSETFROM:-0700
TZOFFSETTO:-0800
TZNAME:PST
DTSTART:20261101T090000
END:STANDARD
END:VTIMEZONE
BEGIN:VEVENT
DTSTART;TZID=America/Los_Angeles:20250503T060000
DTEND;TZID=America/Los_Angeles:20250503T140000
DTSTAMP:20260423T092759
CREATED:20250408T011832Z
LAST-MODIFIED:20250408T011833Z
UID:10003962-1746252000-1746280800@elynevada.net
SUMMARY:2nd Annual Save Comins Lake Pike-Out
DESCRIPTION:2nd Annual Save Comins Lake Pike-Out\nJoin NDOW for the 2nd Annual Save Comins Lake Pike-Out! We are calling on local anglers to volunteer to fish out as many Northern Pike from Comins Lake as we can. Northern Pike are aquatic invasive species (AIS) that negatively impact the Comins Lake fishery.\n\nAnglers volunteering for the event will be entered in age-group categories for a chance to win 1st\, 2nd and 3rd place prizes for biggest pike caught (lbs) and most pike caught. Age-group categories are (1) 5 to 9 years old (2) 10 to 15 years old and (3) 16+ years old. Please bring your own fishing gear and tackle.\n\nOfficial Start Time: 6:00 AMFish Check-In Opens: 8:00 AMPrize Presentations: 1:30 PM\n\nTO REGISTER: All participants must register to be eligible for the prize categories and registration is FREE. Entry is limited for each group\, be sure to register ASAP via the links below.\n– Adult (16+) regsistration: https://ndow.galaxydigital.com/need/detail/?need_id=1064038\n– Youth (5-15) registration: https://www.register-ed.com/events/view/227199\n\nIf you plan to bring any watercraft\, please prepare for AIS watercraft inspections prior to launching. Watercraft inspections will take place at the following locations:\nRoadside at Alamo – every day 8:00 AM – 5:00 PMComins Lake – Friday\, May 2nd 2:00 PM – 6:00 PMComins Lake – Saturday\, May 3rd 5:30 AM – 10:00 AM
URL:https://elynevada.net/event/2nd-annual-save-comins-lake-pike-out/
LOCATION:Comins Lake\, Lake in Nevada\, Ely\, NV\, United States
CATEGORIES:Community
ATTACH;FMTTYPE=image/jpeg:https://elynevada.net/wp-content/uploads/2025/04/NDOW-Pike-Out.jpg
END:VEVENT
END:VCALENDAR