BEGIN:VCALENDAR
VERSION:2.0
PRODID:-//Welcome To Ely - ECPv6.15.20//NONSGML v1.0//EN
CALSCALE:GREGORIAN
METHOD:PUBLISH
X-ORIGINAL-URL:https://elynevada.net
X-WR-CALDESC:Events for Welcome To Ely
REFRESH-INTERVAL;VALUE=DURATION:PT1H
X-Robots-Tag:noindex
X-PUBLISHED-TTL:PT1H
BEGIN:VTIMEZONE
TZID:America/Los_Angeles
BEGIN:DAYLIGHT
TZOFFSETFROM:-0800
TZOFFSETTO:-0700
TZNAME:PDT
DTSTART:20240310T100000
END:DAYLIGHT
BEGIN:STANDARD
TZOFFSETFROM:-0700
TZOFFSETTO:-0800
TZNAME:PST
DTSTART:20241103T090000
END:STANDARD
BEGIN:DAYLIGHT
TZOFFSETFROM:-0800
TZOFFSETTO:-0700
TZNAME:PDT
DTSTART:20250309T100000
END:DAYLIGHT
BEGIN:STANDARD
TZOFFSETFROM:-0700
TZOFFSETTO:-0800
TZNAME:PST
DTSTART:20251102T090000
END:STANDARD
BEGIN:DAYLIGHT
TZOFFSETFROM:-0800
TZOFFSETTO:-0700
TZNAME:PDT
DTSTART:20260308T100000
END:DAYLIGHT
BEGIN:STANDARD
TZOFFSETFROM:-0700
TZOFFSETTO:-0800
TZNAME:PST
DTSTART:20261101T090000
END:STANDARD
END:VTIMEZONE
BEGIN:VEVENT
DTSTART;TZID=America/Los_Angeles:20250712T100000
DTEND;TZID=America/Los_Angeles:20250712T160000
DTSTAMP:20260423T063803
CREATED:20250128T193920Z
LAST-MODIFIED:20250128T194014Z
UID:10003287-1752314400-1752336000@elynevada.net
SUMMARY:Ely Renaissance Village OPEN
DESCRIPTION:Ely Renaissance Village Open!\nFor the ultimate heritage experience of White Pine County\, the Ely Renaissance Village may top the list.\nTour a total of nine houses\, seven of which have each been themed after a different ethnic background that helped shape our community. The Village is made for vacation planning and is open Fridays and Saturdays in the summer. Check out the 360 video below\, which allows you to click and drag different views as it provides you a feel for the site before visiting it in person: https://bit.ly/3hGMr5d\n\nLearn More Here!
URL:https://elynevada.net/event/ely-renaissance-village-open-2/2025-07-12/
LOCATION:Ely Renaissance Village\, 400\, Ely\, NV\, 89301\, United States
CATEGORIES:Arts & Culture,Community,History
ATTACH;FMTTYPE=image/jpeg:https://elynevada.net/wp-content/uploads/2022/01/CoopyRenVillage4_SM.jpg
END:VEVENT
BEGIN:VEVENT
DTSTART;TZID=America/Los_Angeles:20250712T163000
DTEND;TZID=America/Los_Angeles:20250712T180000
DTSTAMP:20260423T063803
CREATED:20240201T082226Z
LAST-MODIFIED:20250303T202510Z
UID:10003883-1752337800-1752343200@elynevada.net
SUMMARY:NNRY Bingo Bash Express
DESCRIPTION:Bingo Bash Express\nBingo Was His Namo… on the Train!!!!!!!!!!!!!! \nJoin us for a game of bingo while riding behind a vintage steam locomotive! When the train leaves you will receive two bingo cards\, with the option to purchase more. As you travel along the tracks\, the caller will announce bingo numbers over the sound system. Winners who hit a bingo\, will receive prizes! \nTickets and More Info at www.NNRY.com
URL:https://elynevada.net/event/bingo-bash-express/2025-07-12/
LOCATION:Nevada Northern Railway\, 1100 Avenue A\, Ely\, NV\, 89301\, United States
CATEGORIES:Arts & Culture,Community,History,Sports
ATTACH;FMTTYPE=image/jpeg:https://elynevada.net/wp-content/uploads/2024/02/Bingo.-On-the-Train.jpg
END:VEVENT
BEGIN:VEVENT
DTSTART;TZID=America/Los_Angeles:20250712T180000
DTEND;TZID=America/Los_Angeles:20250712T210000
DTSTAMP:20260423T063803
CREATED:20250530T183727Z
LAST-MODIFIED:20250530T183728Z
UID:10004022-1752343200-1752354000@elynevada.net
SUMMARY:Summer Concerts in the Park - 2025
DESCRIPTION:Ely Summer Concerts in the Park – 2025\nJoin us this summer for our Ely Summer Concerts in the Park – 2025!    We’re very excited to keep the music going this summer\, and it’s all taking place at Broadbent Park. Looking forward to seeing the community come down for these FREE shows. Let’s support these amazing musicians and let them feel welcome. Everyone is invited! These shows are made for families\, and blankets in the grass. \n \nJuly 12th – Carson Chandler Band \nThe Carson Chandler Band has performed at many venues since its April 2024 debut. Some of these locations include the Annual Genoa Western Heritage Days\, the 2024 Night In The Country Festival in Yerington NV\, the Reno Rodeo\, Legends Bay Casino’s annual Battle Of The Bands\, the Douglas County Rodeo\, various fundraisers for the Sutro Tunnel in Dayton NV\, and Rhythm & Rawhide Reimagined at the Silver Legacy for the Reno Rodeo Foundation. All in all\, the band has been making a lot of noise all over the Northern Nevada ranges. \nWebsite: Discover Northern Nevada’s Local country artist Carson Chandler \nInstagram: Carson Chandler (@carsonchandlerofficial) • Instagram photos and videos \nFacebook: Carson Chancler Facebook \nTikTok: Carson Chandler (@carsonchandlerofficial) | TikTok \nSpotify: Spotify – Carson Chandler
URL:https://elynevada.net/event/summer-concerts-in-the-park-2025-2/
LOCATION:Broadbent Park
CATEGORIES:Arts & Culture,Community,Concert
ATTACH;FMTTYPE=image/jpeg:https://elynevada.net/wp-content/uploads/2024/04/Ely-Summer-Concerts-Facebook-Cover_2025.jpg
ORGANIZER;CN="White PIne County Tourism and Recreation":MAILTO:nicole.collard@elynevada.net
END:VEVENT
END:VCALENDAR