BEGIN:VCALENDAR
VERSION:2.0
PRODID:-//Welcome To Ely - ECPv6.15.20//NONSGML v1.0//EN
CALSCALE:GREGORIAN
METHOD:PUBLISH
X-WR-CALNAME:Welcome To Ely
X-ORIGINAL-URL:https://elynevada.net
X-WR-CALDESC:Events for Welcome To Ely
REFRESH-INTERVAL;VALUE=DURATION:PT1H
X-Robots-Tag:noindex
X-PUBLISHED-TTL:PT1H
BEGIN:VTIMEZONE
TZID:America/Los_Angeles
BEGIN:DAYLIGHT
TZOFFSETFROM:-0800
TZOFFSETTO:-0700
TZNAME:PDT
DTSTART:20240310T100000
END:DAYLIGHT
BEGIN:STANDARD
TZOFFSETFROM:-0700
TZOFFSETTO:-0800
TZNAME:PST
DTSTART:20241103T090000
END:STANDARD
BEGIN:DAYLIGHT
TZOFFSETFROM:-0800
TZOFFSETTO:-0700
TZNAME:PDT
DTSTART:20250309T100000
END:DAYLIGHT
BEGIN:STANDARD
TZOFFSETFROM:-0700
TZOFFSETTO:-0800
TZNAME:PST
DTSTART:20251102T090000
END:STANDARD
BEGIN:DAYLIGHT
TZOFFSETFROM:-0800
TZOFFSETTO:-0700
TZNAME:PDT
DTSTART:20260308T100000
END:DAYLIGHT
BEGIN:STANDARD
TZOFFSETFROM:-0700
TZOFFSETTO:-0800
TZNAME:PST
DTSTART:20261101T090000
END:STANDARD
END:VTIMEZONE
BEGIN:VEVENT
DTSTART;TZID=America/Los_Angeles:20250802T100000
DTEND;TZID=America/Los_Angeles:20250802T160000
DTSTAMP:20260423T063808
CREATED:20250128T193920Z
LAST-MODIFIED:20250128T194014Z
UID:10003293-1754128800-1754150400@elynevada.net
SUMMARY:Ely Renaissance Village OPEN
DESCRIPTION:Ely Renaissance Village Open!\nFor the ultimate heritage experience of White Pine County\, the Ely Renaissance Village may top the list.\nTour a total of nine houses\, seven of which have each been themed after a different ethnic background that helped shape our community. The Village is made for vacation planning and is open Fridays and Saturdays in the summer. Check out the 360 video below\, which allows you to click and drag different views as it provides you a feel for the site before visiting it in person: https://bit.ly/3hGMr5d\n\nLearn More Here!
URL:https://elynevada.net/event/ely-renaissance-village-open-2/2025-08-02/
LOCATION:Ely Renaissance Village\, 400\, Ely\, NV\, 89301\, United States
CATEGORIES:Arts & Culture,Community,History
ATTACH;FMTTYPE=image/jpeg:https://elynevada.net/wp-content/uploads/2022/01/CoopyRenVillage4_SM.jpg
END:VEVENT
BEGIN:VEVENT
DTSTART;TZID=America/Los_Angeles:20250802T183000
DTEND;TZID=America/Los_Angeles:20250802T213000
DTSTAMP:20260423T063808
CREATED:20250715T233012Z
LAST-MODIFIED:20250715T233013Z
UID:10004038-1754159400-1754170200@elynevada.net
SUMMARY:Symphony Under the Stars
DESCRIPTION:Symphony Under the Stars\nThe Reno Pops Symphony Orchestra\, with special guest\, Country Music Star\, Lacy J Dalton\, perform live at the White Pine County Fairgrounds for Symphony Under the Stars – a concert kicking off at Sunset on August 2\, 2025.\n\nThis FREE CONCERT is open to the public.\n\nBRING YOUR BLANKET\, for the grassy terrace stepped amphitheater\, and enjoy the open air as the sun sets and the coveted Dark Skies cover the crowd in their splendor as 45 classical musical artists perform a 90-minute set of exquisite music.\n\nThis event is hosted and presented by the Ely Film\, Art\, & Music Festival.
URL:https://elynevada.net/event/symphony-under-the-stars/
LOCATION:White Pine County Fairgrounds\, 78 n mcgill hwy\, Ely\, NV\, United States
CATEGORIES:Arts & Culture,Community
ATTACH;FMTTYPE=image/jpeg:https://elynevada.net/wp-content/uploads/2025/07/Symphony-Under-the-Stars-Event.jpg
ORGANIZER;CN="Ely Film%2C Art%2C & Music Festival":MAILTO:nevadafilmmuseum@gmail.com
END:VEVENT
END:VCALENDAR