BEGIN:VCALENDAR
VERSION:2.0
PRODID:-//Welcome To Ely - ECPv6.15.20//NONSGML v1.0//EN
CALSCALE:GREGORIAN
METHOD:PUBLISH
X-ORIGINAL-URL:https://elynevada.net
X-WR-CALDESC:Events for Welcome To Ely
REFRESH-INTERVAL;VALUE=DURATION:PT1H
X-Robots-Tag:noindex
X-PUBLISHED-TTL:PT1H
BEGIN:VTIMEZONE
TZID:America/Los_Angeles
BEGIN:DAYLIGHT
TZOFFSETFROM:-0800
TZOFFSETTO:-0700
TZNAME:PDT
DTSTART:20240310T100000
END:DAYLIGHT
BEGIN:STANDARD
TZOFFSETFROM:-0700
TZOFFSETTO:-0800
TZNAME:PST
DTSTART:20241103T090000
END:STANDARD
BEGIN:DAYLIGHT
TZOFFSETFROM:-0800
TZOFFSETTO:-0700
TZNAME:PDT
DTSTART:20250309T100000
END:DAYLIGHT
BEGIN:STANDARD
TZOFFSETFROM:-0700
TZOFFSETTO:-0800
TZNAME:PST
DTSTART:20251102T090000
END:STANDARD
BEGIN:DAYLIGHT
TZOFFSETFROM:-0800
TZOFFSETTO:-0700
TZNAME:PDT
DTSTART:20260308T100000
END:DAYLIGHT
BEGIN:STANDARD
TZOFFSETFROM:-0700
TZOFFSETTO:-0800
TZNAME:PST
DTSTART:20261101T090000
END:STANDARD
END:VTIMEZONE
BEGIN:VEVENT
DTSTART;TZID=America/Los_Angeles:20250823T100000
DTEND;TZID=America/Los_Angeles:20250823T160000
DTSTAMP:20260423T052206
CREATED:20250128T193920Z
LAST-MODIFIED:20250128T194014Z
UID:10003299-1755943200-1755964800@elynevada.net
SUMMARY:Ely Renaissance Village OPEN
DESCRIPTION:Ely Renaissance Village Open!\nFor the ultimate heritage experience of White Pine County\, the Ely Renaissance Village may top the list.\nTour a total of nine houses\, seven of which have each been themed after a different ethnic background that helped shape our community. The Village is made for vacation planning and is open Fridays and Saturdays in the summer. Check out the 360 video below\, which allows you to click and drag different views as it provides you a feel for the site before visiting it in person: https://bit.ly/3hGMr5d\n\nLearn More Here!
URL:https://elynevada.net/event/ely-renaissance-village-open-2/2025-08-23/
LOCATION:Ely Renaissance Village\, 400\, Ely\, NV\, 89301\, United States
CATEGORIES:Arts & Culture,Community,History
ATTACH;FMTTYPE=image/jpeg:https://elynevada.net/wp-content/uploads/2022/01/CoopyRenVillage4_SM.jpg
END:VEVENT
BEGIN:VEVENT
DTSTART;TZID=America/Los_Angeles:20250823T163000
DTEND;TZID=America/Los_Angeles:20250823T180000
DTSTAMP:20260423T052206
CREATED:20250303T201942Z
LAST-MODIFIED:20250303T201943Z
UID:10003880-1755966600-1755972000@elynevada.net
SUMMARY:NNRY Wild West Express
DESCRIPTION:NNRY Wild West Express\nWild West Express Tickets and More Info at www.NNRY.com
URL:https://elynevada.net/event/nnry-wild-west-express/2025-08-23/
LOCATION:NV
CATEGORIES:Community,History
ATTACH;FMTTYPE=image/jpeg:https://elynevada.net/wp-content/uploads/2025/03/Wild-West-Express.jpg
END:VEVENT
BEGIN:VEVENT
DTSTART;TZID=America/Los_Angeles:20250823T180000
DTEND;TZID=America/Los_Angeles:20250823T210000
DTSTAMP:20260423T052206
CREATED:20250530T191328Z
LAST-MODIFIED:20250530T191329Z
UID:10004025-1755972000-1755982800@elynevada.net
SUMMARY:Summer Concerts in the Park - 2025
DESCRIPTION:Ely Summer Concerts in the Park – 2025\nJoin us this summer for our Ely Summer Concerts in the Park – 2025!    We’re very excited to keep the music going this summer\, and it’s all taking place at Broadbent Park. Looking forward to seeing the community come down for these FREE shows. Let’s support these amazing musicians and let them feel welcome. Everyone is invited! These shows are made for families\, and blankets in the grass. \n \nAugust 23rd – David Henry Band \nKeeping Americana alive in an Indie Rock world! \nDavid Henry and his band bring elements of country\, folk\, rock\, and soul to every one of their passionate\, ambitious performances. Three-part harmonies\, ascended guitar leads\, a driving rhythm section\, and fiery songwriting delivers a show that is unmistakably David Henry. \nWebsite: David Henry \nFacebook: David Henry Band Facebook \nInstagram: David Henry Sather-Smith (@davidhenryband) • Instagram photos and videos \nSpotify: David Henry | Spotify \nYouTube: David Henry – YouTube
URL:https://elynevada.net/event/summer-concerts-in-the-park-2025-5/
LOCATION:Broadbent Park
CATEGORIES:Arts & Culture,Community,Concert
ATTACH;FMTTYPE=image/jpeg:https://elynevada.net/wp-content/uploads/2024/04/Ely-Summer-Concerts-Facebook-Cover_2025.jpg
ORGANIZER;CN="White PIne County Tourism and Recreation":MAILTO:nicole.collard@elynevada.net
END:VEVENT
END:VCALENDAR