BEGIN:VCALENDAR
VERSION:2.0
PRODID:-//Welcome To Ely - ECPv6.15.20//NONSGML v1.0//EN
CALSCALE:GREGORIAN
METHOD:PUBLISH
X-ORIGINAL-URL:https://elynevada.net
X-WR-CALDESC:Events for Welcome To Ely
REFRESH-INTERVAL;VALUE=DURATION:PT1H
X-Robots-Tag:noindex
X-PUBLISHED-TTL:PT1H
BEGIN:VTIMEZONE
TZID:America/Los_Angeles
BEGIN:DAYLIGHT
TZOFFSETFROM:-0800
TZOFFSETTO:-0700
TZNAME:PDT
DTSTART:20250309T100000
END:DAYLIGHT
BEGIN:STANDARD
TZOFFSETFROM:-0700
TZOFFSETTO:-0800
TZNAME:PST
DTSTART:20251102T090000
END:STANDARD
BEGIN:DAYLIGHT
TZOFFSETFROM:-0800
TZOFFSETTO:-0700
TZNAME:PDT
DTSTART:20260308T100000
END:DAYLIGHT
BEGIN:STANDARD
TZOFFSETFROM:-0700
TZOFFSETTO:-0800
TZNAME:PST
DTSTART:20261101T090000
END:STANDARD
BEGIN:DAYLIGHT
TZOFFSETFROM:-0800
TZOFFSETTO:-0700
TZNAME:PDT
DTSTART:20270314T100000
END:DAYLIGHT
BEGIN:STANDARD
TZOFFSETFROM:-0700
TZOFFSETTO:-0800
TZNAME:PST
DTSTART:20271107T090000
END:STANDARD
END:VTIMEZONE
BEGIN:VEVENT
DTSTART;TZID=America/Los_Angeles:20260321T100000
DTEND;TZID=America/Los_Angeles:20260321T120000
DTSTAMP:20260422T195735
CREATED:20260127T000636Z
LAST-MODIFIED:20260127T000636Z
UID:10004118-1774087200-1774094400@elynevada.net
SUMMARY:Turkey Vulture Stretch 5k 2026
DESCRIPTION:Turkey Vulture Stretch 5k 2026\nWelcome spring and the turkey vultures back to Ely\, with the Turkey Vulture Stretch 5k 2026. Every March\, the turkey vultures return to Ely after a relaxing winter in South America.  This run is to honor these not-so-pretty birds and welcome them and spring back to Ely! \nThis year\, the route is at Steptoe Park. You might even have a chance of seeing a turkey vulture with its wings outstretched in a tree. \nMedals will be awarded to the top 3 female\, top 3 male\, top 3 kids (10 yrs and younger)\, and top 3 seniors (55+). To be eligible for awards\, you MUST be chipped timed. \nMore Info and More Events From Ely Outdoor Enthusiasts HERE!\nDiscover More To Do In White Pine HERE!
URL:https://elynevada.net/event/turkey-vulture-stretch-5k-2026/
LOCATION:Steptoe Park\, 13th Street East\, Ely\, Nevada
CATEGORIES:Community,Sports
ATTACH;FMTTYPE=image/jpeg:https://elynevada.net/wp-content/uploads/2026/01/Turkey-Vulture-Stretch-5k-2026.jpg
END:VEVENT
END:VCALENDAR