BEGIN:VCALENDAR
VERSION:2.0
PRODID:-//Welcome To Ely - ECPv6.15.20//NONSGML v1.0//EN
CALSCALE:GREGORIAN
METHOD:PUBLISH
X-ORIGINAL-URL:https://elynevada.net
X-WR-CALDESC:Events for Welcome To Ely
REFRESH-INTERVAL;VALUE=DURATION:PT1H
X-Robots-Tag:noindex
X-PUBLISHED-TTL:PT1H
BEGIN:VTIMEZONE
TZID:America/Los_Angeles
BEGIN:DAYLIGHT
TZOFFSETFROM:-0800
TZOFFSETTO:-0700
TZNAME:PDT
DTSTART:20230312T100000
END:DAYLIGHT
BEGIN:STANDARD
TZOFFSETFROM:-0700
TZOFFSETTO:-0800
TZNAME:PST
DTSTART:20231105T090000
END:STANDARD
BEGIN:DAYLIGHT
TZOFFSETFROM:-0800
TZOFFSETTO:-0700
TZNAME:PDT
DTSTART:20240310T100000
END:DAYLIGHT
BEGIN:STANDARD
TZOFFSETFROM:-0700
TZOFFSETTO:-0800
TZNAME:PST
DTSTART:20241103T090000
END:STANDARD
BEGIN:DAYLIGHT
TZOFFSETFROM:-0800
TZOFFSETTO:-0700
TZNAME:PDT
DTSTART:20250309T100000
END:DAYLIGHT
BEGIN:STANDARD
TZOFFSETFROM:-0700
TZOFFSETTO:-0800
TZNAME:PST
DTSTART:20251102T090000
END:STANDARD
END:VTIMEZONE
BEGIN:VTIMEZONE
TZID:UTC
BEGIN:STANDARD
TZOFFSETFROM:+0000
TZOFFSETTO:+0000
TZNAME:UTC
DTSTART:20230101T000000
END:STANDARD
END:VTIMEZONE
BEGIN:VEVENT
DTSTART;TZID=America/Los_Angeles:20241007T153000
DTEND;TZID=America/Los_Angeles:20241007T180000
DTSTAMP:20260424T045208
CREATED:20240321T181428Z
LAST-MODIFIED:20240321T181428Z
UID:10001946-1728315000-1728324000@elynevada.net
SUMMARY:Roaring Readers
DESCRIPTION:Roaring Readers\nAges 5-7: 3:35-4:45 PM
URL:https://elynevada.net/event/roaring-readers-2/2024-10-07/
LOCATION:White Pine County Library\, 950 Campton St\, Ely\, NV\, 89301\, United States
CATEGORIES:Community
ATTACH;FMTTYPE=image/jpeg:https://elynevada.net/wp-content/uploads/2024/02/liiiiiiiiiiiiiiiiibbbbbbbbbbbbbbbrrrrrrraaaaaaarrrrrrrrryyyyyyyyyyy.jpg
END:VEVENT
BEGIN:VEVENT
DTSTART;TZID=America/Los_Angeles:20241007T154500
DTEND;TZID=America/Los_Angeles:20241007T164500
DTSTAMP:20260424T045208
CREATED:20240321T181611Z
LAST-MODIFIED:20240321T181612Z
UID:10002126-1728315900-1728319500@elynevada.net
SUMMARY:Atlas Club
DESCRIPTION:Atlas Club\nAges 8-10
URL:https://elynevada.net/event/atlas-club-2/2024-10-07/
LOCATION:White Pine County Library\, 950 Campton St\, Ely\, NV\, 89301\, United States
CATEGORIES:Community
ATTACH;FMTTYPE=image/jpeg:https://elynevada.net/wp-content/uploads/2024/02/liiiiiiiiiiiiiiiiibbbbbbbbbbbbbbbrrrrrrraaaaaaarrrrrrrrryyyyyyyyyyy.jpg
END:VEVENT
BEGIN:VEVENT
DTSTART;TZID=America/Los_Angeles:20241010T154500
DTEND;TZID=America/Los_Angeles:20241010T164500
DTSTAMP:20260424T045208
CREATED:20240321T181611Z
LAST-MODIFIED:20240321T181612Z
UID:10002127-1728575100-1728578700@elynevada.net
SUMMARY:Atlas Club
DESCRIPTION:Atlas Club\nAges 8-10
URL:https://elynevada.net/event/atlas-club-2/2024-10-10/
LOCATION:White Pine County Library\, 950 Campton St\, Ely\, NV\, 89301\, United States
CATEGORIES:Community
ATTACH;FMTTYPE=image/jpeg:https://elynevada.net/wp-content/uploads/2024/02/liiiiiiiiiiiiiiiiibbbbbbbbbbbbbbbrrrrrrraaaaaaarrrrrrrrryyyyyyyyyyy.jpg
END:VEVENT
BEGIN:VEVENT
DTSTART;TZID=America/Los_Angeles:20241012T180000
DTEND;TZID=America/Los_Angeles:20241012T210000
DTSTAMP:20260424T045208
CREATED:20240913T002450Z
LAST-MODIFIED:20241013T012845Z
UID:10003068-1728756000-1728766800@elynevada.net
SUMMARY:Chase the Bear - FREE Concert
DESCRIPTION:Chase the Bear – FREE Concert\nEnjoy a FREE Concert featuring Canadian rock band Chase the Bear at the Bristlecone Convention Center in Ely\, Nevada! This is Chase the Bear’s first tour of America and they’re making a stop Where the World Met and Became One! \nOur Executive Director\, Kyle Horvath\, has been wanting Chase the Bear to make an Ely appearance for years. Now that the band is on their first country-wide tour of America\, they personally called to let us know and asked to book a concert. Timing is everything! \nWhen: October 12th\, 2024 at 7:30 p.m. Doors will open at 5:30 p.m. \nWhere: Bristlecone Convention Center \nPrice: $FREE.99!!! \nNo concert is complete without the right drink in hand and the bar will be open! \n \nChase The Who?\n\n\n\n\nChase The Bear is a Canadian rock band that’s all about the hooks\, adding a dynamic blend of soul and pop influences to their music. The band has performed over 150 shows\, including a sold-out opening slot for The Trews at Vancouver’s iconic Commodore Ballroom. \nStarted as a busking duo and quickly evolving into a 6-piece band of likeminded people who have bonded as brothers and brought their musical chemistry and infectious energy to crowds all over Canada. \nSigned with Vancouver-based record label Rock Is Dead Records  (604 Records/Warner Music Canada) and releasing their debut album “Honey” in 2023. \n2024 promises to be Chase the Bear’s biggest year yet. \nWebsite: Chase The Bear (chasethebearmusic.com) \nSpotify: Chase the Bear | Spotify \nApple Music: ‎Chase the Bear – Apple Music \nAmazon Music: Chase the Bear on Amazon Music Unlimited \nFacebook: Facebook – Chase the Bear \nInstagram: Chase The Bear (@chasethebearmusic) • Instagram photos and videos \nTwitter/X: Chase the Bear (@ChaseThemBears) / X \nTikTok: Chase The Bear (@chasethebearmusic) | TikTok \n  \nComing in and looking to stay the night? Check out our lodging options HERE!\nDon't worry about dining in Ely. We've got you covered HERE!
URL:https://elynevada.net/event/chase-the-bear-free-concert/
LOCATION:Bristlecone Convention Center\, 150 Sixth Street\, Ely\, NV\, 89301\, United States
CATEGORIES:Arts & Culture,Community,Concert
ATTACH;FMTTYPE=image/png:https://elynevada.net/wp-content/uploads/2024/09/Chase-the-Bear-Concert_Facebook-Cover.png
ORGANIZER;CN="White PIne County Tourism and Recreation":MAILTO:nicole.collard@elynevada.net
END:VEVENT
BEGIN:VEVENT
DTSTART;TZID=America/Los_Angeles:20241014T153000
DTEND;TZID=America/Los_Angeles:20241014T170000
DTSTAMP:20260424T045208
CREATED:20240321T181441Z
LAST-MODIFIED:20240321T181442Z
UID:10001996-1728919800-1728925200@elynevada.net
SUMMARY:11&Up Club
DESCRIPTION:11&Up Club\n3:45 – 5 PM
URL:https://elynevada.net/event/11up-club-2/2024-10-14/
LOCATION:White Pine County Library\, 950 Campton St\, Ely\, NV\, 89301\, United States
CATEGORIES:Community
ATTACH;FMTTYPE=image/jpeg:https://elynevada.net/wp-content/uploads/2024/02/liiiiiiiiiiiiiiiiibbbbbbbbbbbbbbbrrrrrrraaaaaaarrrrrrrrryyyyyyyyyyy.jpg
END:VEVENT
BEGIN:VEVENT
DTSTART;TZID=America/Los_Angeles:20241014T153000
DTEND;TZID=America/Los_Angeles:20241014T180000
DTSTAMP:20260424T045208
CREATED:20240321T181428Z
LAST-MODIFIED:20240321T181428Z
UID:10001947-1728919800-1728928800@elynevada.net
SUMMARY:Roaring Readers
DESCRIPTION:Roaring Readers\nAges 5-7: 3:35-4:45 PM
URL:https://elynevada.net/event/roaring-readers-2/2024-10-14/
LOCATION:White Pine County Library\, 950 Campton St\, Ely\, NV\, 89301\, United States
CATEGORIES:Community
ATTACH;FMTTYPE=image/jpeg:https://elynevada.net/wp-content/uploads/2024/02/liiiiiiiiiiiiiiiiibbbbbbbbbbbbbbbrrrrrrraaaaaaarrrrrrrrryyyyyyyyyyy.jpg
END:VEVENT
BEGIN:VEVENT
DTSTART;TZID=America/Los_Angeles:20241014T154500
DTEND;TZID=America/Los_Angeles:20241014T164500
DTSTAMP:20260424T045208
CREATED:20240321T181611Z
LAST-MODIFIED:20240321T181612Z
UID:10002128-1728920700-1728924300@elynevada.net
SUMMARY:Atlas Club
DESCRIPTION:Atlas Club\nAges 8-10
URL:https://elynevada.net/event/atlas-club-2/2024-10-14/
LOCATION:White Pine County Library\, 950 Campton St\, Ely\, NV\, 89301\, United States
CATEGORIES:Community
ATTACH;FMTTYPE=image/jpeg:https://elynevada.net/wp-content/uploads/2024/02/liiiiiiiiiiiiiiiiibbbbbbbbbbbbbbbrrrrrrraaaaaaarrrrrrrrryyyyyyyyyyy.jpg
END:VEVENT
BEGIN:VEVENT
DTSTART;TZID=America/Los_Angeles:20241017T154500
DTEND;TZID=America/Los_Angeles:20241017T164500
DTSTAMP:20260424T045208
CREATED:20240321T181611Z
LAST-MODIFIED:20240321T181612Z
UID:10002129-1729179900-1729183500@elynevada.net
SUMMARY:Atlas Club
DESCRIPTION:Atlas Club\nAges 8-10
URL:https://elynevada.net/event/atlas-club-2/2024-10-17/
LOCATION:White Pine County Library\, 950 Campton St\, Ely\, NV\, 89301\, United States
CATEGORIES:Community
ATTACH;FMTTYPE=image/jpeg:https://elynevada.net/wp-content/uploads/2024/02/liiiiiiiiiiiiiiiiibbbbbbbbbbbbbbbrrrrrrraaaaaaarrrrrrrrryyyyyyyyyyy.jpg
END:VEVENT
BEGIN:VEVENT
DTSTART;TZID=America/Los_Angeles:20241021T153000
DTEND;TZID=America/Los_Angeles:20241021T170000
DTSTAMP:20260424T045208
CREATED:20240321T181441Z
LAST-MODIFIED:20240321T181442Z
UID:10001997-1729524600-1729530000@elynevada.net
SUMMARY:11&Up Club
DESCRIPTION:11&Up Club\n3:45 – 5 PM
URL:https://elynevada.net/event/11up-club-2/2024-10-21/
LOCATION:White Pine County Library\, 950 Campton St\, Ely\, NV\, 89301\, United States
CATEGORIES:Community
ATTACH;FMTTYPE=image/jpeg:https://elynevada.net/wp-content/uploads/2024/02/liiiiiiiiiiiiiiiiibbbbbbbbbbbbbbbrrrrrrraaaaaaarrrrrrrrryyyyyyyyyyy.jpg
END:VEVENT
BEGIN:VEVENT
DTSTART;TZID=America/Los_Angeles:20241021T153000
DTEND;TZID=America/Los_Angeles:20241021T180000
DTSTAMP:20260424T045208
CREATED:20240321T181428Z
LAST-MODIFIED:20240321T181428Z
UID:10001948-1729524600-1729533600@elynevada.net
SUMMARY:Roaring Readers
DESCRIPTION:Roaring Readers\nAges 5-7: 3:35-4:45 PM
URL:https://elynevada.net/event/roaring-readers-2/2024-10-21/
LOCATION:White Pine County Library\, 950 Campton St\, Ely\, NV\, 89301\, United States
CATEGORIES:Community
ATTACH;FMTTYPE=image/jpeg:https://elynevada.net/wp-content/uploads/2024/02/liiiiiiiiiiiiiiiiibbbbbbbbbbbbbbbrrrrrrraaaaaaarrrrrrrrryyyyyyyyyyy.jpg
END:VEVENT
BEGIN:VEVENT
DTSTART;TZID=America/Los_Angeles:20241021T154500
DTEND;TZID=America/Los_Angeles:20241021T164500
DTSTAMP:20260424T045208
CREATED:20240321T181611Z
LAST-MODIFIED:20240321T181612Z
UID:10002130-1729525500-1729529100@elynevada.net
SUMMARY:Atlas Club
DESCRIPTION:Atlas Club\nAges 8-10
URL:https://elynevada.net/event/atlas-club-2/2024-10-21/
LOCATION:White Pine County Library\, 950 Campton St\, Ely\, NV\, 89301\, United States
CATEGORIES:Community
ATTACH;FMTTYPE=image/jpeg:https://elynevada.net/wp-content/uploads/2024/02/liiiiiiiiiiiiiiiiibbbbbbbbbbbbbbbrrrrrrraaaaaaarrrrrrrrryyyyyyyyyyy.jpg
END:VEVENT
BEGIN:VEVENT
DTSTART;TZID=America/Los_Angeles:20241024T154500
DTEND;TZID=America/Los_Angeles:20241024T164500
DTSTAMP:20260424T045208
CREATED:20240321T181611Z
LAST-MODIFIED:20240321T181612Z
UID:10002131-1729784700-1729788300@elynevada.net
SUMMARY:Atlas Club
DESCRIPTION:Atlas Club\nAges 8-10
URL:https://elynevada.net/event/atlas-club-2/2024-10-24/
LOCATION:White Pine County Library\, 950 Campton St\, Ely\, NV\, 89301\, United States
CATEGORIES:Community
ATTACH;FMTTYPE=image/jpeg:https://elynevada.net/wp-content/uploads/2024/02/liiiiiiiiiiiiiiiiibbbbbbbbbbbbbbbrrrrrrraaaaaaarrrrrrrrryyyyyyyyyyy.jpg
END:VEVENT
BEGIN:VEVENT
DTSTART;TZID=America/Los_Angeles:20241027T070000
DTEND;TZID=America/Los_Angeles:20241027T130000
DTSTAMP:20260424T045208
CREATED:20240321T181230Z
LAST-MODIFIED:20240321T181231Z
UID:10001858-1730012400-1730034000@elynevada.net
SUMMARY:SVTST Critter Shoots
DESCRIPTION:Open Critter Shoots Every Last Sunday\nSteptoe Valley Trap\, Skeet and Target will be holding Long Rance and Critter Shoots the last Saturday and Sunday of each month. \nLong Range Rifle Shoot – Saturdays \nCritter Shoots – Sundays \nSign in and set up will begin 7:00am \nSafety Briefing at 7:50am \nShooting Begins at 8:00am \nFees: Members $10\, Non-Members $15 \n(Membership forms will be available at the shoots) \nIf you have any questions\, please contact: \nBryant Barnson (775) 293-3054 \nBill Ricci (775) 296-0919 \nCody Bliss (775) 296-0077
URL:https://elynevada.net/event/svtst-trap-shoots-2/2024-10-27/
LOCATION:SVTST Range\, Cross Timbers\, Ely\, NV\, 89301\, United States
CATEGORIES:Community,Sports
ATTACH;FMTTYPE=image/jpeg:https://elynevada.net/wp-content/uploads/2022/03/svtst.jpg
ORGANIZER;CN="Steptoe Valley Trap%2C Skeet & Target Club":MAILTO:https://m.me/SVTST?fbclid=IwAR14ZsKDRy8acHhy_NvkKeQEybWoERP2h8Wpep1U5PUpQlmv1B4-FVvptSo
END:VEVENT
BEGIN:VEVENT
DTSTART;TZID=America/Los_Angeles:20241027T210000
DTEND;TZID=America/Los_Angeles:20241027T230000
DTSTAMP:20260424T045208
CREATED:20240305T031236Z
LAST-MODIFIED:20240321T181252Z
UID:10001866-1730062800-1730070000@elynevada.net
SUMMARY:GET KNIT
DESCRIPTION:GET KNIT in Baker\nWork on a project. Learn how to knit. Exchange ideas & yarn. Chat. Drink Tea.
URL:https://elynevada.net/event/get-knit-2/2024-10-27/
LOCATION:Bristlecone General Store\, 115 S. Baker Ave.\, Baker\, NV\, 89311\, United States
CATEGORIES:Arts & Culture,Community
ATTACH;FMTTYPE=image/jpeg:https://elynevada.net/wp-content/uploads/2024/03/Get-Knit-2024.jpg
ORGANIZER;CN="Bristlecone General Store":MAILTO:stay@stargazernevada.com
END:VEVENT
BEGIN:VEVENT
DTSTART;TZID=America/Los_Angeles:20241028T153000
DTEND;TZID=America/Los_Angeles:20241028T170000
DTSTAMP:20260424T045208
CREATED:20240321T181441Z
LAST-MODIFIED:20240321T181442Z
UID:10001998-1730129400-1730134800@elynevada.net
SUMMARY:11&Up Club
DESCRIPTION:11&Up Club\n3:45 – 5 PM
URL:https://elynevada.net/event/11up-club-2/2024-10-28/
LOCATION:White Pine County Library\, 950 Campton St\, Ely\, NV\, 89301\, United States
CATEGORIES:Community
ATTACH;FMTTYPE=image/jpeg:https://elynevada.net/wp-content/uploads/2024/02/liiiiiiiiiiiiiiiiibbbbbbbbbbbbbbbrrrrrrraaaaaaarrrrrrrrryyyyyyyyyyy.jpg
END:VEVENT
BEGIN:VEVENT
DTSTART;TZID=America/Los_Angeles:20241028T153000
DTEND;TZID=America/Los_Angeles:20241028T180000
DTSTAMP:20260424T045208
CREATED:20240321T181428Z
LAST-MODIFIED:20240321T181428Z
UID:10001949-1730129400-1730138400@elynevada.net
SUMMARY:Roaring Readers
DESCRIPTION:Roaring Readers\nAges 5-7: 3:35-4:45 PM
URL:https://elynevada.net/event/roaring-readers-2/2024-10-28/
LOCATION:White Pine County Library\, 950 Campton St\, Ely\, NV\, 89301\, United States
CATEGORIES:Community
ATTACH;FMTTYPE=image/jpeg:https://elynevada.net/wp-content/uploads/2024/02/liiiiiiiiiiiiiiiiibbbbbbbbbbbbbbbrrrrrrraaaaaaarrrrrrrrryyyyyyyyyyy.jpg
END:VEVENT
BEGIN:VEVENT
DTSTART;TZID=America/Los_Angeles:20241028T154500
DTEND;TZID=America/Los_Angeles:20241028T164500
DTSTAMP:20260424T045208
CREATED:20240321T181611Z
LAST-MODIFIED:20240321T181612Z
UID:10002132-1730130300-1730133900@elynevada.net
SUMMARY:Atlas Club
DESCRIPTION:Atlas Club\nAges 8-10
URL:https://elynevada.net/event/atlas-club-2/2024-10-28/
LOCATION:White Pine County Library\, 950 Campton St\, Ely\, NV\, 89301\, United States
CATEGORIES:Community
ATTACH;FMTTYPE=image/jpeg:https://elynevada.net/wp-content/uploads/2024/02/liiiiiiiiiiiiiiiiibbbbbbbbbbbbbbbrrrrrrraaaaaaarrrrrrrrryyyyyyyyyyy.jpg
END:VEVENT
BEGIN:VEVENT
DTSTART;TZID=America/Los_Angeles:20241031T154500
DTEND;TZID=America/Los_Angeles:20241031T164500
DTSTAMP:20260424T045208
CREATED:20240321T181611Z
LAST-MODIFIED:20240321T181612Z
UID:10002133-1730389500-1730393100@elynevada.net
SUMMARY:Atlas Club
DESCRIPTION:Atlas Club\nAges 8-10
URL:https://elynevada.net/event/atlas-club-2/2024-10-31/
LOCATION:White Pine County Library\, 950 Campton St\, Ely\, NV\, 89301\, United States
CATEGORIES:Community
ATTACH;FMTTYPE=image/jpeg:https://elynevada.net/wp-content/uploads/2024/02/liiiiiiiiiiiiiiiiibbbbbbbbbbbbbbbrrrrrrraaaaaaarrrrrrrrryyyyyyyyyyy.jpg
END:VEVENT
BEGIN:VEVENT
DTSTART;TZID=America/Los_Angeles:20241104T153000
DTEND;TZID=America/Los_Angeles:20241104T170000
DTSTAMP:20260424T045208
CREATED:20240321T181441Z
LAST-MODIFIED:20240321T181442Z
UID:10001999-1730734200-1730739600@elynevada.net
SUMMARY:11&Up Club
DESCRIPTION:11&Up Club\n3:45 – 5 PM
URL:https://elynevada.net/event/11up-club-2/2024-11-04/
LOCATION:White Pine County Library\, 950 Campton St\, Ely\, NV\, 89301\, United States
CATEGORIES:Community
ATTACH;FMTTYPE=image/jpeg:https://elynevada.net/wp-content/uploads/2024/02/liiiiiiiiiiiiiiiiibbbbbbbbbbbbbbbrrrrrrraaaaaaarrrrrrrrryyyyyyyyyyy.jpg
END:VEVENT
BEGIN:VEVENT
DTSTART;TZID=America/Los_Angeles:20241104T153000
DTEND;TZID=America/Los_Angeles:20241104T180000
DTSTAMP:20260424T045208
CREATED:20240321T181428Z
LAST-MODIFIED:20240321T181428Z
UID:10001950-1730734200-1730743200@elynevada.net
SUMMARY:Roaring Readers
DESCRIPTION:Roaring Readers\nAges 5-7: 3:35-4:45 PM
URL:https://elynevada.net/event/roaring-readers-2/2024-11-04/
LOCATION:White Pine County Library\, 950 Campton St\, Ely\, NV\, 89301\, United States
CATEGORIES:Community
ATTACH;FMTTYPE=image/jpeg:https://elynevada.net/wp-content/uploads/2024/02/liiiiiiiiiiiiiiiiibbbbbbbbbbbbbbbrrrrrrraaaaaaarrrrrrrrryyyyyyyyyyy.jpg
END:VEVENT
BEGIN:VEVENT
DTSTART;TZID=America/Los_Angeles:20241104T154500
DTEND;TZID=America/Los_Angeles:20241104T164500
DTSTAMP:20260424T045208
CREATED:20240321T181611Z
LAST-MODIFIED:20240321T181612Z
UID:10002134-1730735100-1730738700@elynevada.net
SUMMARY:Atlas Club
DESCRIPTION:Atlas Club\nAges 8-10
URL:https://elynevada.net/event/atlas-club-2/2024-11-04/
LOCATION:White Pine County Library\, 950 Campton St\, Ely\, NV\, 89301\, United States
CATEGORIES:Community
ATTACH;FMTTYPE=image/jpeg:https://elynevada.net/wp-content/uploads/2024/02/liiiiiiiiiiiiiiiiibbbbbbbbbbbbbbbrrrrrrraaaaaaarrrrrrrrryyyyyyyyyyy.jpg
END:VEVENT
BEGIN:VEVENT
DTSTART;TZID=America/Los_Angeles:20241107T154500
DTEND;TZID=America/Los_Angeles:20241107T164500
DTSTAMP:20260424T045208
CREATED:20240321T181611Z
LAST-MODIFIED:20240321T181612Z
UID:10002135-1730994300-1730997900@elynevada.net
SUMMARY:Atlas Club
DESCRIPTION:Atlas Club\nAges 8-10
URL:https://elynevada.net/event/atlas-club-2/2024-11-07/
LOCATION:White Pine County Library\, 950 Campton St\, Ely\, NV\, 89301\, United States
CATEGORIES:Community
ATTACH;FMTTYPE=image/jpeg:https://elynevada.net/wp-content/uploads/2024/02/liiiiiiiiiiiiiiiiibbbbbbbbbbbbbbbrrrrrrraaaaaaarrrrrrrrryyyyyyyyyyy.jpg
END:VEVENT
BEGIN:VEVENT
DTSTART;TZID=America/Los_Angeles:20241107T180000
DTEND;TZID=America/Los_Angeles:20241107T203000
DTSTAMP:20260424T045208
CREATED:20240405T001511Z
LAST-MODIFIED:20240405T001511Z
UID:10002612-1731002400-1731011400@elynevada.net
SUMMARY:Ely Elks Lodge Bingo
DESCRIPTION:Ely Elks Lodge Bingo\nBingo every first Thursday at the Ely Elks Lodge. Hot dogs and Chili are sold. Great time\, great people\, and BINGO!!!
URL:https://elynevada.net/event/ely-elks-lodge-bingo-2/2024-11-07/
LOCATION:Ely Elks Lodge\, 694 Campton St.\, Ely\, NV\, 89301\, United States
CATEGORIES:Community,Sports
ATTACH;FMTTYPE=image/png:https://elynevada.net/wp-content/uploads/2023/01/Ely-Elks-Lodge-Bingo.png
ORGANIZER;CN="Ely Elks Lodge":MAILTO:elyelks1469@att.net
END:VEVENT
BEGIN:VEVENT
DTSTART;TZID=America/Los_Angeles:20241111T153000
DTEND;TZID=America/Los_Angeles:20241111T170000
DTSTAMP:20260424T045208
CREATED:20240321T181441Z
LAST-MODIFIED:20240321T181442Z
UID:10002000-1731339000-1731344400@elynevada.net
SUMMARY:11&Up Club
DESCRIPTION:11&Up Club\n3:45 – 5 PM
URL:https://elynevada.net/event/11up-club-2/2024-11-11/
LOCATION:White Pine County Library\, 950 Campton St\, Ely\, NV\, 89301\, United States
CATEGORIES:Community
ATTACH;FMTTYPE=image/jpeg:https://elynevada.net/wp-content/uploads/2024/02/liiiiiiiiiiiiiiiiibbbbbbbbbbbbbbbrrrrrrraaaaaaarrrrrrrrryyyyyyyyyyy.jpg
END:VEVENT
BEGIN:VEVENT
DTSTART;TZID=America/Los_Angeles:20241111T153000
DTEND;TZID=America/Los_Angeles:20241111T180000
DTSTAMP:20260424T045208
CREATED:20240321T181428Z
LAST-MODIFIED:20240321T181428Z
UID:10001951-1731339000-1731348000@elynevada.net
SUMMARY:Roaring Readers
DESCRIPTION:Roaring Readers\nAges 5-7: 3:35-4:45 PM
URL:https://elynevada.net/event/roaring-readers-2/2024-11-11/
LOCATION:White Pine County Library\, 950 Campton St\, Ely\, NV\, 89301\, United States
CATEGORIES:Community
ATTACH;FMTTYPE=image/jpeg:https://elynevada.net/wp-content/uploads/2024/02/liiiiiiiiiiiiiiiiibbbbbbbbbbbbbbbrrrrrrraaaaaaarrrrrrrrryyyyyyyyyyy.jpg
END:VEVENT
BEGIN:VEVENT
DTSTART;TZID=America/Los_Angeles:20241111T154500
DTEND;TZID=America/Los_Angeles:20241111T164500
DTSTAMP:20260424T045208
CREATED:20240321T181611Z
LAST-MODIFIED:20240321T181612Z
UID:10002136-1731339900-1731343500@elynevada.net
SUMMARY:Atlas Club
DESCRIPTION:Atlas Club\nAges 8-10
URL:https://elynevada.net/event/atlas-club-2/2024-11-11/
LOCATION:White Pine County Library\, 950 Campton St\, Ely\, NV\, 89301\, United States
CATEGORIES:Community
ATTACH;FMTTYPE=image/jpeg:https://elynevada.net/wp-content/uploads/2024/02/liiiiiiiiiiiiiiiiibbbbbbbbbbbbbbbrrrrrrraaaaaaarrrrrrrrryyyyyyyyyyy.jpg
END:VEVENT
BEGIN:VEVENT
DTSTART;TZID=UTC:20241111T160000
DTEND;TZID=UTC:20241111T200000
DTSTAMP:20260424T045208
CREATED:20231025T042706Z
LAST-MODIFIED:20240131T063439Z
UID:10000587-1731340800-1731355200@elynevada.net
SUMMARY:Honoring Veterans at Ely Elks Lodge
DESCRIPTION:Honoring Veterans at Ely Elks Lodge\nOn November 11\, 2024\, the Ely ELKS Lodge will be Honoring Veterans of the United States Armed Forces with a dinner! Veterans and 1 guest eat free. Seating is limited\, please RSVP no later than Friday\, November 3rd. \nLocation: ELY ELKS LODGE 694 Campton Street\, Ely\, NV \nDoors and no host bar open at 4:00 pm with dinner served at 5:00 pm \nRSVP to Gayle Bartlett (775) 293-0107 or Marsha (775) 293-1593 \nRides will be available upon request. No children please. \nThank you for your service!
URL:https://elynevada.net/event/honoring-veterans-at-ely-elks-lodge/
LOCATION:Ely Elks Lodge\, 694 Campton St.\, Ely\, NV\, 89301\, United States
CATEGORIES:Community
ORGANIZER;CN="Ely Elks Lodge":MAILTO:elyelks1469@att.net
END:VEVENT
BEGIN:VEVENT
DTSTART;TZID=America/Los_Angeles:20241114T154500
DTEND;TZID=America/Los_Angeles:20241114T164500
DTSTAMP:20260424T045208
CREATED:20240321T181611Z
LAST-MODIFIED:20240321T181612Z
UID:10002137-1731599100-1731602700@elynevada.net
SUMMARY:Atlas Club
DESCRIPTION:Atlas Club\nAges 8-10
URL:https://elynevada.net/event/atlas-club-2/2024-11-14/
LOCATION:White Pine County Library\, 950 Campton St\, Ely\, NV\, 89301\, United States
CATEGORIES:Community
ATTACH;FMTTYPE=image/jpeg:https://elynevada.net/wp-content/uploads/2024/02/liiiiiiiiiiiiiiiiibbbbbbbbbbbbbbbrrrrrrraaaaaaarrrrrrrrryyyyyyyyyyy.jpg
END:VEVENT
BEGIN:VEVENT
DTSTART;TZID=America/Los_Angeles:20241118T153000
DTEND;TZID=America/Los_Angeles:20241118T170000
DTSTAMP:20260424T045208
CREATED:20240321T181441Z
LAST-MODIFIED:20240321T181442Z
UID:10002001-1731943800-1731949200@elynevada.net
SUMMARY:11&Up Club
DESCRIPTION:11&Up Club\n3:45 – 5 PM
URL:https://elynevada.net/event/11up-club-2/2024-11-18/
LOCATION:White Pine County Library\, 950 Campton St\, Ely\, NV\, 89301\, United States
CATEGORIES:Community
ATTACH;FMTTYPE=image/jpeg:https://elynevada.net/wp-content/uploads/2024/02/liiiiiiiiiiiiiiiiibbbbbbbbbbbbbbbrrrrrrraaaaaaarrrrrrrrryyyyyyyyyyy.jpg
END:VEVENT
BEGIN:VEVENT
DTSTART;TZID=America/Los_Angeles:20241118T153000
DTEND;TZID=America/Los_Angeles:20241118T180000
DTSTAMP:20260424T045208
CREATED:20240321T181428Z
LAST-MODIFIED:20240321T181428Z
UID:10001952-1731943800-1731952800@elynevada.net
SUMMARY:Roaring Readers
DESCRIPTION:Roaring Readers\nAges 5-7: 3:35-4:45 PM
URL:https://elynevada.net/event/roaring-readers-2/2024-11-18/
LOCATION:White Pine County Library\, 950 Campton St\, Ely\, NV\, 89301\, United States
CATEGORIES:Community
ATTACH;FMTTYPE=image/jpeg:https://elynevada.net/wp-content/uploads/2024/02/liiiiiiiiiiiiiiiiibbbbbbbbbbbbbbbrrrrrrraaaaaaarrrrrrrrryyyyyyyyyyy.jpg
END:VEVENT
END:VCALENDAR