BEGIN:VCALENDAR
VERSION:2.0
PRODID:-//Welcome To Ely - ECPv6.15.20//NONSGML v1.0//EN
CALSCALE:GREGORIAN
METHOD:PUBLISH
X-WR-CALNAME:Welcome To Ely
X-ORIGINAL-URL:https://elynevada.net
X-WR-CALDESC:Events for Welcome To Ely
REFRESH-INTERVAL;VALUE=DURATION:PT1H
X-Robots-Tag:noindex
X-PUBLISHED-TTL:PT1H
BEGIN:VTIMEZONE
TZID:America/Los_Angeles
BEGIN:DAYLIGHT
TZOFFSETFROM:-0800
TZOFFSETTO:-0700
TZNAME:PDT
DTSTART:20230312T100000
END:DAYLIGHT
BEGIN:STANDARD
TZOFFSETFROM:-0700
TZOFFSETTO:-0800
TZNAME:PST
DTSTART:20231105T090000
END:STANDARD
BEGIN:DAYLIGHT
TZOFFSETFROM:-0800
TZOFFSETTO:-0700
TZNAME:PDT
DTSTART:20240310T100000
END:DAYLIGHT
BEGIN:STANDARD
TZOFFSETFROM:-0700
TZOFFSETTO:-0800
TZNAME:PST
DTSTART:20241103T090000
END:STANDARD
BEGIN:DAYLIGHT
TZOFFSETFROM:-0800
TZOFFSETTO:-0700
TZNAME:PDT
DTSTART:20250309T100000
END:DAYLIGHT
BEGIN:STANDARD
TZOFFSETFROM:-0700
TZOFFSETTO:-0800
TZNAME:PST
DTSTART:20251102T090000
END:STANDARD
END:VTIMEZONE
BEGIN:VEVENT
DTSTART;TZID=America/Los_Angeles:20240831T100000
DTEND;TZID=America/Los_Angeles:20240831T160000
DTSTAMP:20260424T084143
CREATED:20220126T050016Z
LAST-MODIFIED:20240503T214517Z
UID:10002761-1725098400-1725120000@elynevada.net
SUMMARY:Ely Renaissance Village Open
DESCRIPTION:Ely Renaissance Village Open!\nFor the ultimate heritage experience of White Pine County\, the Ely Renaissance Village may top the list.\nTour a total of nine houses\, seven of which have each been themed after a different ethnic background that helped shape our community. The Village is made for vacation planning and is open Fridays and Saturdays in the summer. Check out the 360 video below\, which allows you to click and drag different views as it provides you a feel for the site before visiting it in person: https://bit.ly/3hGMr5d\n\nLearn More Here!\n\nTravel Nevada
URL:https://elynevada.net/event/ely-renaissance-village-open/2024-08-31/
LOCATION:Ely Renaissance Village\, 400\, Ely\, NV\, 89301\, United States
CATEGORIES:Community,History
ATTACH;FMTTYPE=image/jpeg:https://elynevada.net/wp-content/uploads/2022/01/CoopyRenVillage4_SM.jpg
END:VEVENT
BEGIN:VEVENT
DTSTART;TZID=America/Los_Angeles:20240902T153000
DTEND;TZID=America/Los_Angeles:20240902T170000
DTSTAMP:20260424T084144
CREATED:20240321T181441Z
LAST-MODIFIED:20240321T181442Z
UID:10001990-1725291000-1725296400@elynevada.net
SUMMARY:11&Up Club
DESCRIPTION:11&Up Club\n3:45 – 5 PM
URL:https://elynevada.net/event/11up-club-2/2024-09-02/
LOCATION:White Pine County Library\, 950 Campton St\, Ely\, NV\, 89301\, United States
CATEGORIES:Community
ATTACH;FMTTYPE=image/jpeg:https://elynevada.net/wp-content/uploads/2024/02/liiiiiiiiiiiiiiiiibbbbbbbbbbbbbbbrrrrrrraaaaaaarrrrrrrrryyyyyyyyyyy.jpg
END:VEVENT
BEGIN:VEVENT
DTSTART;TZID=America/Los_Angeles:20240902T153000
DTEND;TZID=America/Los_Angeles:20240902T180000
DTSTAMP:20260424T084144
CREATED:20240321T181428Z
LAST-MODIFIED:20240321T181428Z
UID:10001941-1725291000-1725300000@elynevada.net
SUMMARY:Roaring Readers
DESCRIPTION:Roaring Readers\nAges 5-7: 3:35-4:45 PM
URL:https://elynevada.net/event/roaring-readers-2/2024-09-02/
LOCATION:White Pine County Library\, 950 Campton St\, Ely\, NV\, 89301\, United States
CATEGORIES:Community
ATTACH;FMTTYPE=image/jpeg:https://elynevada.net/wp-content/uploads/2024/02/liiiiiiiiiiiiiiiiibbbbbbbbbbbbbbbrrrrrrraaaaaaarrrrrrrrryyyyyyyyyyy.jpg
END:VEVENT
BEGIN:VEVENT
DTSTART;TZID=America/Los_Angeles:20240902T154500
DTEND;TZID=America/Los_Angeles:20240902T164500
DTSTAMP:20260424T084144
CREATED:20240321T181611Z
LAST-MODIFIED:20240321T181612Z
UID:10002116-1725291900-1725295500@elynevada.net
SUMMARY:Atlas Club
DESCRIPTION:Atlas Club\nAges 8-10
URL:https://elynevada.net/event/atlas-club-2/2024-09-02/
LOCATION:White Pine County Library\, 950 Campton St\, Ely\, NV\, 89301\, United States
CATEGORIES:Community
ATTACH;FMTTYPE=image/jpeg:https://elynevada.net/wp-content/uploads/2024/02/liiiiiiiiiiiiiiiiibbbbbbbbbbbbbbbrrrrrrraaaaaaarrrrrrrrryyyyyyyyyyy.jpg
END:VEVENT
BEGIN:VEVENT
DTSTART;TZID=America/Los_Angeles:20240905T154500
DTEND;TZID=America/Los_Angeles:20240905T164500
DTSTAMP:20260424T084144
CREATED:20240321T181611Z
LAST-MODIFIED:20240321T181612Z
UID:10002117-1725551100-1725554700@elynevada.net
SUMMARY:Atlas Club
DESCRIPTION:Atlas Club\nAges 8-10
URL:https://elynevada.net/event/atlas-club-2/2024-09-05/
LOCATION:White Pine County Library\, 950 Campton St\, Ely\, NV\, 89301\, United States
CATEGORIES:Community
ATTACH;FMTTYPE=image/jpeg:https://elynevada.net/wp-content/uploads/2024/02/liiiiiiiiiiiiiiiiibbbbbbbbbbbbbbbrrrrrrraaaaaaarrrrrrrrryyyyyyyyyyy.jpg
END:VEVENT
BEGIN:VEVENT
DTSTART;TZID=America/Los_Angeles:20240905T180000
DTEND;TZID=America/Los_Angeles:20240905T203000
DTSTAMP:20260424T084144
CREATED:20240405T001511Z
LAST-MODIFIED:20240405T001511Z
UID:10002610-1725559200-1725568200@elynevada.net
SUMMARY:Ely Elks Lodge Bingo
DESCRIPTION:Ely Elks Lodge Bingo\nBingo every first Thursday at the Ely Elks Lodge. Hot dogs and Chili are sold. Great time\, great people\, and BINGO!!!
URL:https://elynevada.net/event/ely-elks-lodge-bingo-2/2024-09-05/
LOCATION:Ely Elks Lodge\, 694 Campton St.\, Ely\, NV\, 89301\, United States
CATEGORIES:Community,Sports
ATTACH;FMTTYPE=image/png:https://elynevada.net/wp-content/uploads/2023/01/Ely-Elks-Lodge-Bingo.png
ORGANIZER;CN="Ely Elks Lodge":MAILTO:elyelks1469@att.net
END:VEVENT
BEGIN:VEVENT
DTSTART;TZID=America/Los_Angeles:20240906T100000
DTEND;TZID=America/Los_Angeles:20240906T160000
DTSTAMP:20260424T084144
CREATED:20220126T050016Z
LAST-MODIFIED:20240503T214517Z
UID:10002762-1725616800-1725638400@elynevada.net
SUMMARY:Ely Renaissance Village Open
DESCRIPTION:Ely Renaissance Village Open!\nFor the ultimate heritage experience of White Pine County\, the Ely Renaissance Village may top the list.\nTour a total of nine houses\, seven of which have each been themed after a different ethnic background that helped shape our community. The Village is made for vacation planning and is open Fridays and Saturdays in the summer. Check out the 360 video below\, which allows you to click and drag different views as it provides you a feel for the site before visiting it in person: https://bit.ly/3hGMr5d\n\nLearn More Here!\n\nTravel Nevada
URL:https://elynevada.net/event/ely-renaissance-village-open/2024-09-06/
LOCATION:Ely Renaissance Village\, 400\, Ely\, NV\, 89301\, United States
CATEGORIES:Community,History
ATTACH;FMTTYPE=image/jpeg:https://elynevada.net/wp-content/uploads/2022/01/CoopyRenVillage4_SM.jpg
END:VEVENT
BEGIN:VEVENT
DTSTART;TZID=America/Los_Angeles:20240906T180000
DTEND;TZID=America/Los_Angeles:20240906T200000
DTSTAMP:20260424T084144
CREATED:20240503T215050Z
LAST-MODIFIED:20240503T215051Z
UID:10002807-1725645600-1725652800@elynevada.net
SUMMARY:First Friday Night Markets in Baker
DESCRIPTION:First Friday Night Markets in Baker\n\nMark your calendars and join the fun!! There’s a new event in downtown Baker\, NV!\n\n\n\nThe First Friday Night Market is happening from 6-8pm on June 7\, July 5\, August 2\, September 6 and October 4.\n\n\n\nThroughout downtown Baker there will be outside activities\, music and specialty items for sale\, along with delicious dining options.\n\n\n\nCome take a stroll! Enjoy an evening under the Great Basin skies! Bring your family and friends! Fun for all ages.
URL:https://elynevada.net/event/first-friday-night-markets-in-baker-2/2024-09-06/
LOCATION:Downtown Baker\, Baker\, NV\, United States
CATEGORIES:Arts & Culture,Community
END:VEVENT
BEGIN:VEVENT
DTSTART;TZID=America/Los_Angeles:20240907T100000
DTEND;TZID=America/Los_Angeles:20240907T160000
DTSTAMP:20260424T084144
CREATED:20220126T050016Z
LAST-MODIFIED:20240503T214517Z
UID:10002763-1725703200-1725724800@elynevada.net
SUMMARY:Ely Renaissance Village Open
DESCRIPTION:Ely Renaissance Village Open!\nFor the ultimate heritage experience of White Pine County\, the Ely Renaissance Village may top the list.\nTour a total of nine houses\, seven of which have each been themed after a different ethnic background that helped shape our community. The Village is made for vacation planning and is open Fridays and Saturdays in the summer. Check out the 360 video below\, which allows you to click and drag different views as it provides you a feel for the site before visiting it in person: https://bit.ly/3hGMr5d\n\nLearn More Here!\n\nTravel Nevada
URL:https://elynevada.net/event/ely-renaissance-village-open/2024-09-07/
LOCATION:Ely Renaissance Village\, 400\, Ely\, NV\, 89301\, United States
CATEGORIES:Community,History
ATTACH;FMTTYPE=image/jpeg:https://elynevada.net/wp-content/uploads/2022/01/CoopyRenVillage4_SM.jpg
END:VEVENT
BEGIN:VEVENT
DTSTART;TZID=America/Los_Angeles:20240909T153000
DTEND;TZID=America/Los_Angeles:20240909T170000
DTSTAMP:20260424T084144
CREATED:20240321T181441Z
LAST-MODIFIED:20240321T181442Z
UID:10001991-1725895800-1725901200@elynevada.net
SUMMARY:11&Up Club
DESCRIPTION:11&Up Club\n3:45 – 5 PM
URL:https://elynevada.net/event/11up-club-2/2024-09-09/
LOCATION:White Pine County Library\, 950 Campton St\, Ely\, NV\, 89301\, United States
CATEGORIES:Community
ATTACH;FMTTYPE=image/jpeg:https://elynevada.net/wp-content/uploads/2024/02/liiiiiiiiiiiiiiiiibbbbbbbbbbbbbbbrrrrrrraaaaaaarrrrrrrrryyyyyyyyyyy.jpg
END:VEVENT
BEGIN:VEVENT
DTSTART;TZID=America/Los_Angeles:20240909T153000
DTEND;TZID=America/Los_Angeles:20240909T180000
DTSTAMP:20260424T084144
CREATED:20240321T181428Z
LAST-MODIFIED:20240321T181428Z
UID:10001942-1725895800-1725904800@elynevada.net
SUMMARY:Roaring Readers
DESCRIPTION:Roaring Readers\nAges 5-7: 3:35-4:45 PM
URL:https://elynevada.net/event/roaring-readers-2/2024-09-09/
LOCATION:White Pine County Library\, 950 Campton St\, Ely\, NV\, 89301\, United States
CATEGORIES:Community
ATTACH;FMTTYPE=image/jpeg:https://elynevada.net/wp-content/uploads/2024/02/liiiiiiiiiiiiiiiiibbbbbbbbbbbbbbbrrrrrrraaaaaaarrrrrrrrryyyyyyyyyyy.jpg
END:VEVENT
BEGIN:VEVENT
DTSTART;TZID=America/Los_Angeles:20240909T154500
DTEND;TZID=America/Los_Angeles:20240909T164500
DTSTAMP:20260424T084144
CREATED:20240321T181611Z
LAST-MODIFIED:20240321T181612Z
UID:10002118-1725896700-1725900300@elynevada.net
SUMMARY:Atlas Club
DESCRIPTION:Atlas Club\nAges 8-10
URL:https://elynevada.net/event/atlas-club-2/2024-09-09/
LOCATION:White Pine County Library\, 950 Campton St\, Ely\, NV\, 89301\, United States
CATEGORIES:Community
ATTACH;FMTTYPE=image/jpeg:https://elynevada.net/wp-content/uploads/2024/02/liiiiiiiiiiiiiiiiibbbbbbbbbbbbbbbrrrrrrraaaaaaarrrrrrrrryyyyyyyyyyy.jpg
END:VEVENT
BEGIN:VEVENT
DTSTART;TZID=America/Los_Angeles:20240912T154500
DTEND;TZID=America/Los_Angeles:20240912T164500
DTSTAMP:20260424T084144
CREATED:20240321T181611Z
LAST-MODIFIED:20240321T181612Z
UID:10002119-1726155900-1726159500@elynevada.net
SUMMARY:Atlas Club
DESCRIPTION:Atlas Club\nAges 8-10
URL:https://elynevada.net/event/atlas-club-2/2024-09-12/
LOCATION:White Pine County Library\, 950 Campton St\, Ely\, NV\, 89301\, United States
CATEGORIES:Community
ATTACH;FMTTYPE=image/jpeg:https://elynevada.net/wp-content/uploads/2024/02/liiiiiiiiiiiiiiiiibbbbbbbbbbbbbbbrrrrrrraaaaaaarrrrrrrrryyyyyyyyyyy.jpg
END:VEVENT
BEGIN:VEVENT
DTSTART;TZID=America/Los_Angeles:20240913T100000
DTEND;TZID=America/Los_Angeles:20240913T160000
DTSTAMP:20260424T084144
CREATED:20220126T050016Z
LAST-MODIFIED:20240503T214517Z
UID:10002764-1726221600-1726243200@elynevada.net
SUMMARY:Ely Renaissance Village Open
DESCRIPTION:Ely Renaissance Village Open!\nFor the ultimate heritage experience of White Pine County\, the Ely Renaissance Village may top the list.\nTour a total of nine houses\, seven of which have each been themed after a different ethnic background that helped shape our community. The Village is made for vacation planning and is open Fridays and Saturdays in the summer. Check out the 360 video below\, which allows you to click and drag different views as it provides you a feel for the site before visiting it in person: https://bit.ly/3hGMr5d\n\nLearn More Here!\n\nTravel Nevada
URL:https://elynevada.net/event/ely-renaissance-village-open/2024-09-13/
LOCATION:Ely Renaissance Village\, 400\, Ely\, NV\, 89301\, United States
CATEGORIES:Community,History
ATTACH;FMTTYPE=image/jpeg:https://elynevada.net/wp-content/uploads/2022/01/CoopyRenVillage4_SM.jpg
END:VEVENT
BEGIN:VEVENT
DTSTART;TZID=America/Los_Angeles:20240914T100000
DTEND;TZID=America/Los_Angeles:20240914T160000
DTSTAMP:20260424T084144
CREATED:20220126T050016Z
LAST-MODIFIED:20240503T214517Z
UID:10002765-1726308000-1726329600@elynevada.net
SUMMARY:Ely Renaissance Village Open
DESCRIPTION:Ely Renaissance Village Open!\nFor the ultimate heritage experience of White Pine County\, the Ely Renaissance Village may top the list.\nTour a total of nine houses\, seven of which have each been themed after a different ethnic background that helped shape our community. The Village is made for vacation planning and is open Fridays and Saturdays in the summer. Check out the 360 video below\, which allows you to click and drag different views as it provides you a feel for the site before visiting it in person: https://bit.ly/3hGMr5d\n\nLearn More Here!\n\nTravel Nevada
URL:https://elynevada.net/event/ely-renaissance-village-open/2024-09-14/
LOCATION:Ely Renaissance Village\, 400\, Ely\, NV\, 89301\, United States
CATEGORIES:Community,History
ATTACH;FMTTYPE=image/jpeg:https://elynevada.net/wp-content/uploads/2022/01/CoopyRenVillage4_SM.jpg
END:VEVENT
BEGIN:VEVENT
DTSTART;TZID=America/Los_Angeles:20240916T153000
DTEND;TZID=America/Los_Angeles:20240916T170000
DTSTAMP:20260424T084144
CREATED:20240321T181441Z
LAST-MODIFIED:20240321T181442Z
UID:10001992-1726500600-1726506000@elynevada.net
SUMMARY:11&Up Club
DESCRIPTION:11&Up Club\n3:45 – 5 PM
URL:https://elynevada.net/event/11up-club-2/2024-09-16/
LOCATION:White Pine County Library\, 950 Campton St\, Ely\, NV\, 89301\, United States
CATEGORIES:Community
ATTACH;FMTTYPE=image/jpeg:https://elynevada.net/wp-content/uploads/2024/02/liiiiiiiiiiiiiiiiibbbbbbbbbbbbbbbrrrrrrraaaaaaarrrrrrrrryyyyyyyyyyy.jpg
END:VEVENT
BEGIN:VEVENT
DTSTART;TZID=America/Los_Angeles:20240916T153000
DTEND;TZID=America/Los_Angeles:20240916T180000
DTSTAMP:20260424T084144
CREATED:20240321T181428Z
LAST-MODIFIED:20240321T181428Z
UID:10001943-1726500600-1726509600@elynevada.net
SUMMARY:Roaring Readers
DESCRIPTION:Roaring Readers\nAges 5-7: 3:35-4:45 PM
URL:https://elynevada.net/event/roaring-readers-2/2024-09-16/
LOCATION:White Pine County Library\, 950 Campton St\, Ely\, NV\, 89301\, United States
CATEGORIES:Community
ATTACH;FMTTYPE=image/jpeg:https://elynevada.net/wp-content/uploads/2024/02/liiiiiiiiiiiiiiiiibbbbbbbbbbbbbbbrrrrrrraaaaaaarrrrrrrrryyyyyyyyyyy.jpg
END:VEVENT
BEGIN:VEVENT
DTSTART;TZID=America/Los_Angeles:20240916T154500
DTEND;TZID=America/Los_Angeles:20240916T164500
DTSTAMP:20260424T084144
CREATED:20240321T181611Z
LAST-MODIFIED:20240321T181612Z
UID:10002120-1726501500-1726505100@elynevada.net
SUMMARY:Atlas Club
DESCRIPTION:Atlas Club\nAges 8-10
URL:https://elynevada.net/event/atlas-club-2/2024-09-16/
LOCATION:White Pine County Library\, 950 Campton St\, Ely\, NV\, 89301\, United States
CATEGORIES:Community
ATTACH;FMTTYPE=image/jpeg:https://elynevada.net/wp-content/uploads/2024/02/liiiiiiiiiiiiiiiiibbbbbbbbbbbbbbbrrrrrrraaaaaaarrrrrrrrryyyyyyyyyyy.jpg
END:VEVENT
BEGIN:VEVENT
DTSTART;TZID=America/Los_Angeles:20240919T154500
DTEND;TZID=America/Los_Angeles:20240919T164500
DTSTAMP:20260424T084144
CREATED:20240321T181611Z
LAST-MODIFIED:20240321T181612Z
UID:10002121-1726760700-1726764300@elynevada.net
SUMMARY:Atlas Club
DESCRIPTION:Atlas Club\nAges 8-10
URL:https://elynevada.net/event/atlas-club-2/2024-09-19/
LOCATION:White Pine County Library\, 950 Campton St\, Ely\, NV\, 89301\, United States
CATEGORIES:Community
ATTACH;FMTTYPE=image/jpeg:https://elynevada.net/wp-content/uploads/2024/02/liiiiiiiiiiiiiiiiibbbbbbbbbbbbbbbrrrrrrraaaaaaarrrrrrrrryyyyyyyyyyy.jpg
END:VEVENT
BEGIN:VEVENT
DTSTART;TZID=America/Los_Angeles:20240920T100000
DTEND;TZID=America/Los_Angeles:20240920T160000
DTSTAMP:20260424T084144
CREATED:20220126T050016Z
LAST-MODIFIED:20240503T214517Z
UID:10002766-1726826400-1726848000@elynevada.net
SUMMARY:Ely Renaissance Village Open
DESCRIPTION:Ely Renaissance Village Open!\nFor the ultimate heritage experience of White Pine County\, the Ely Renaissance Village may top the list.\nTour a total of nine houses\, seven of which have each been themed after a different ethnic background that helped shape our community. The Village is made for vacation planning and is open Fridays and Saturdays in the summer. Check out the 360 video below\, which allows you to click and drag different views as it provides you a feel for the site before visiting it in person: https://bit.ly/3hGMr5d\n\nLearn More Here!\n\nTravel Nevada
URL:https://elynevada.net/event/ely-renaissance-village-open/2024-09-20/
LOCATION:Ely Renaissance Village\, 400\, Ely\, NV\, 89301\, United States
CATEGORIES:Community,History
ATTACH;FMTTYPE=image/jpeg:https://elynevada.net/wp-content/uploads/2022/01/CoopyRenVillage4_SM.jpg
END:VEVENT
BEGIN:VEVENT
DTSTART;TZID=America/Los_Angeles:20240921T100000
DTEND;TZID=America/Los_Angeles:20240921T160000
DTSTAMP:20260424T084144
CREATED:20220126T050016Z
LAST-MODIFIED:20240503T214517Z
UID:10002767-1726912800-1726934400@elynevada.net
SUMMARY:Ely Renaissance Village Open
DESCRIPTION:Ely Renaissance Village Open!\nFor the ultimate heritage experience of White Pine County\, the Ely Renaissance Village may top the list.\nTour a total of nine houses\, seven of which have each been themed after a different ethnic background that helped shape our community. The Village is made for vacation planning and is open Fridays and Saturdays in the summer. Check out the 360 video below\, which allows you to click and drag different views as it provides you a feel for the site before visiting it in person: https://bit.ly/3hGMr5d\n\nLearn More Here!\n\nTravel Nevada
URL:https://elynevada.net/event/ely-renaissance-village-open/2024-09-21/
LOCATION:Ely Renaissance Village\, 400\, Ely\, NV\, 89301\, United States
CATEGORIES:Community,History
ATTACH;FMTTYPE=image/jpeg:https://elynevada.net/wp-content/uploads/2022/01/CoopyRenVillage4_SM.jpg
END:VEVENT
BEGIN:VEVENT
DTSTART;TZID=America/Los_Angeles:20240922T070000
DTEND;TZID=America/Los_Angeles:20240922T130000
DTSTAMP:20260424T084144
CREATED:20240321T181230Z
LAST-MODIFIED:20240321T181231Z
UID:10001857-1726988400-1727010000@elynevada.net
SUMMARY:SVTST Critter Shoots
DESCRIPTION:Open Critter Shoots Every Last Sunday\nSteptoe Valley Trap\, Skeet and Target will be holding Long Rance and Critter Shoots the last Saturday and Sunday of each month. \nLong Range Rifle Shoot – Saturdays \nCritter Shoots – Sundays \nSign in and set up will begin 7:00am \nSafety Briefing at 7:50am \nShooting Begins at 8:00am \nFees: Members $10\, Non-Members $15 \n(Membership forms will be available at the shoots) \nIf you have any questions\, please contact: \nBryant Barnson (775) 293-3054 \nBill Ricci (775) 296-0919 \nCody Bliss (775) 296-0077
URL:https://elynevada.net/event/svtst-trap-shoots-2/2024-09-22/
LOCATION:SVTST Range\, Cross Timbers\, Ely\, NV\, 89301\, United States
CATEGORIES:Community,Sports
ATTACH;FMTTYPE=image/jpeg:https://elynevada.net/wp-content/uploads/2022/03/svtst.jpg
ORGANIZER;CN="Steptoe Valley Trap%2C Skeet & Target Club":MAILTO:https://m.me/SVTST?fbclid=IwAR14ZsKDRy8acHhy_NvkKeQEybWoERP2h8Wpep1U5PUpQlmv1B4-FVvptSo
END:VEVENT
BEGIN:VEVENT
DTSTART;TZID=America/Los_Angeles:20240922T210000
DTEND;TZID=America/Los_Angeles:20240922T230000
DTSTAMP:20260424T084144
CREATED:20240305T031236Z
LAST-MODIFIED:20240321T181252Z
UID:10001865-1727038800-1727046000@elynevada.net
SUMMARY:GET KNIT
DESCRIPTION:GET KNIT in Baker\nWork on a project. Learn how to knit. Exchange ideas & yarn. Chat. Drink Tea.
URL:https://elynevada.net/event/get-knit-2/2024-09-22/
LOCATION:Bristlecone General Store\, 115 S. Baker Ave.\, Baker\, NV\, 89311\, United States
CATEGORIES:Arts & Culture,Community
ATTACH;FMTTYPE=image/jpeg:https://elynevada.net/wp-content/uploads/2024/03/Get-Knit-2024.jpg
ORGANIZER;CN="Bristlecone General Store":MAILTO:stay@stargazernevada.com
END:VEVENT
BEGIN:VEVENT
DTSTART;TZID=America/Los_Angeles:20240923T153000
DTEND;TZID=America/Los_Angeles:20240923T170000
DTSTAMP:20260424T084144
CREATED:20240321T181441Z
LAST-MODIFIED:20240321T181442Z
UID:10001993-1727105400-1727110800@elynevada.net
SUMMARY:11&Up Club
DESCRIPTION:11&Up Club\n3:45 – 5 PM
URL:https://elynevada.net/event/11up-club-2/2024-09-23/
LOCATION:White Pine County Library\, 950 Campton St\, Ely\, NV\, 89301\, United States
CATEGORIES:Community
ATTACH;FMTTYPE=image/jpeg:https://elynevada.net/wp-content/uploads/2024/02/liiiiiiiiiiiiiiiiibbbbbbbbbbbbbbbrrrrrrraaaaaaarrrrrrrrryyyyyyyyyyy.jpg
END:VEVENT
BEGIN:VEVENT
DTSTART;TZID=America/Los_Angeles:20240923T153000
DTEND;TZID=America/Los_Angeles:20240923T180000
DTSTAMP:20260424T084144
CREATED:20240321T181428Z
LAST-MODIFIED:20240321T181428Z
UID:10001944-1727105400-1727114400@elynevada.net
SUMMARY:Roaring Readers
DESCRIPTION:Roaring Readers\nAges 5-7: 3:35-4:45 PM
URL:https://elynevada.net/event/roaring-readers-2/2024-09-23/
LOCATION:White Pine County Library\, 950 Campton St\, Ely\, NV\, 89301\, United States
CATEGORIES:Community
ATTACH;FMTTYPE=image/jpeg:https://elynevada.net/wp-content/uploads/2024/02/liiiiiiiiiiiiiiiiibbbbbbbbbbbbbbbrrrrrrraaaaaaarrrrrrrrryyyyyyyyyyy.jpg
END:VEVENT
BEGIN:VEVENT
DTSTART;TZID=America/Los_Angeles:20240923T154500
DTEND;TZID=America/Los_Angeles:20240923T164500
DTSTAMP:20260424T084144
CREATED:20240321T181611Z
LAST-MODIFIED:20240321T181612Z
UID:10002122-1727106300-1727109900@elynevada.net
SUMMARY:Atlas Club
DESCRIPTION:Atlas Club\nAges 8-10
URL:https://elynevada.net/event/atlas-club-2/2024-09-23/
LOCATION:White Pine County Library\, 950 Campton St\, Ely\, NV\, 89301\, United States
CATEGORIES:Community
ATTACH;FMTTYPE=image/jpeg:https://elynevada.net/wp-content/uploads/2024/02/liiiiiiiiiiiiiiiiibbbbbbbbbbbbbbbrrrrrrraaaaaaarrrrrrrrryyyyyyyyyyy.jpg
END:VEVENT
BEGIN:VEVENT
DTSTART;TZID=America/Los_Angeles:20240926T154500
DTEND;TZID=America/Los_Angeles:20240926T164500
DTSTAMP:20260424T084144
CREATED:20240321T181611Z
LAST-MODIFIED:20240321T181612Z
UID:10002123-1727365500-1727369100@elynevada.net
SUMMARY:Atlas Club
DESCRIPTION:Atlas Club\nAges 8-10
URL:https://elynevada.net/event/atlas-club-2/2024-09-26/
LOCATION:White Pine County Library\, 950 Campton St\, Ely\, NV\, 89301\, United States
CATEGORIES:Community
ATTACH;FMTTYPE=image/jpeg:https://elynevada.net/wp-content/uploads/2024/02/liiiiiiiiiiiiiiiiibbbbbbbbbbbbbbbrrrrrrraaaaaaarrrrrrrrryyyyyyyyyyy.jpg
END:VEVENT
BEGIN:VEVENT
DTSTART;TZID=America/Los_Angeles:20240927T100000
DTEND;TZID=America/Los_Angeles:20240927T160000
DTSTAMP:20260424T084144
CREATED:20220126T050016Z
LAST-MODIFIED:20240503T214517Z
UID:10002768-1727431200-1727452800@elynevada.net
SUMMARY:Ely Renaissance Village Open
DESCRIPTION:Ely Renaissance Village Open!\nFor the ultimate heritage experience of White Pine County\, the Ely Renaissance Village may top the list.\nTour a total of nine houses\, seven of which have each been themed after a different ethnic background that helped shape our community. The Village is made for vacation planning and is open Fridays and Saturdays in the summer. Check out the 360 video below\, which allows you to click and drag different views as it provides you a feel for the site before visiting it in person: https://bit.ly/3hGMr5d\n\nLearn More Here!\n\nTravel Nevada
URL:https://elynevada.net/event/ely-renaissance-village-open/2024-09-27/
LOCATION:Ely Renaissance Village\, 400\, Ely\, NV\, 89301\, United States
CATEGORIES:Community,History
ATTACH;FMTTYPE=image/jpeg:https://elynevada.net/wp-content/uploads/2022/01/CoopyRenVillage4_SM.jpg
END:VEVENT
BEGIN:VEVENT
DTSTART;TZID=America/Los_Angeles:20240928T090000
DTEND;TZID=America/Los_Angeles:20240928T133000
DTSTAMP:20260424T084144
CREATED:20240822T184251Z
LAST-MODIFIED:20240822T184253Z
UID:10003043-1727514000-1727530200@elynevada.net
SUMMARY:4 Person Florida Scramble
DESCRIPTION:4 Person Florida Scramble\nThe golfer whose shot is selected sits out the next stroke. Team HDCP based on 20-percent of Golfer A’s course handicap\, 15-percent of B’s\, 10-percent of C’s and 5-percent of D’s\, and add them together. $15 Entry\, See Randy Long\, PGA\, for details
URL:https://elynevada.net/event/4-person-florida-scramble/
LOCATION:White Pine Golf Course\, 151 N. Golf Course Drive\, Ely\, NV\, 89301\, United States
CATEGORIES:Community
ATTACH;FMTTYPE=image/png:https://elynevada.net/wp-content/uploads/2022/03/Basic-Golf-Smaller-Copy.png
ORGANIZER;CN="White Pine Golf Course":MAILTO:rlong@whitepinecountynv.gov
END:VEVENT
BEGIN:VEVENT
DTSTART;TZID=America/Los_Angeles:20240928T100000
DTEND;TZID=America/Los_Angeles:20240928T160000
DTSTAMP:20260424T084144
CREATED:20220126T050016Z
LAST-MODIFIED:20240503T214517Z
UID:10002769-1727517600-1727539200@elynevada.net
SUMMARY:Ely Renaissance Village Open
DESCRIPTION:Ely Renaissance Village Open!\nFor the ultimate heritage experience of White Pine County\, the Ely Renaissance Village may top the list.\nTour a total of nine houses\, seven of which have each been themed after a different ethnic background that helped shape our community. The Village is made for vacation planning and is open Fridays and Saturdays in the summer. Check out the 360 video below\, which allows you to click and drag different views as it provides you a feel for the site before visiting it in person: https://bit.ly/3hGMr5d\n\nLearn More Here!\n\nTravel Nevada
URL:https://elynevada.net/event/ely-renaissance-village-open/2024-09-28/
LOCATION:Ely Renaissance Village\, 400\, Ely\, NV\, 89301\, United States
CATEGORIES:Community,History
ATTACH;FMTTYPE=image/jpeg:https://elynevada.net/wp-content/uploads/2022/01/CoopyRenVillage4_SM.jpg
END:VEVENT
END:VCALENDAR