BEGIN:VCALENDAR
VERSION:2.0
PRODID:-//Welcome To Ely - ECPv6.15.20//NONSGML v1.0//EN
CALSCALE:GREGORIAN
METHOD:PUBLISH
X-WR-CALNAME:Welcome To Ely
X-ORIGINAL-URL:https://elynevada.net
X-WR-CALDESC:Events for Welcome To Ely
REFRESH-INTERVAL;VALUE=DURATION:PT1H
X-Robots-Tag:noindex
X-PUBLISHED-TTL:PT1H
BEGIN:VTIMEZONE
TZID:America/Los_Angeles
BEGIN:DAYLIGHT
TZOFFSETFROM:-0800
TZOFFSETTO:-0700
TZNAME:PDT
DTSTART:20230312T100000
END:DAYLIGHT
BEGIN:STANDARD
TZOFFSETFROM:-0700
TZOFFSETTO:-0800
TZNAME:PST
DTSTART:20231105T090000
END:STANDARD
BEGIN:DAYLIGHT
TZOFFSETFROM:-0800
TZOFFSETTO:-0700
TZNAME:PDT
DTSTART:20240310T100000
END:DAYLIGHT
BEGIN:STANDARD
TZOFFSETFROM:-0700
TZOFFSETTO:-0800
TZNAME:PST
DTSTART:20241103T090000
END:STANDARD
BEGIN:DAYLIGHT
TZOFFSETFROM:-0800
TZOFFSETTO:-0700
TZNAME:PDT
DTSTART:20250309T100000
END:DAYLIGHT
BEGIN:STANDARD
TZOFFSETFROM:-0700
TZOFFSETTO:-0800
TZNAME:PST
DTSTART:20251102T090000
END:STANDARD
END:VTIMEZONE
BEGIN:VTIMEZONE
TZID:UTC
BEGIN:STANDARD
TZOFFSETFROM:+0000
TZOFFSETTO:+0000
TZNAME:UTC
DTSTART:20220101T000000
END:STANDARD
END:VTIMEZONE
BEGIN:VEVENT
DTSTART;TZID=America/Los_Angeles:20240727T180000
DTEND;TZID=America/Los_Angeles:20240727T210000
DTSTAMP:20260424T095036
CREATED:20240206T075657Z
LAST-MODIFIED:20240625T204913Z
UID:10000713-1722103200-1722114000@elynevada.net
SUMMARY:Ely 2024 Summer Concerts in the Park
DESCRIPTION:Ely 2024 Summer Concerts in the Park\nJoin us this summer for our Ely 204 Summer Concerts in the Park!   We’re very excited to keep the music going this summer\, and it’s all taking place at Broadbent Park. Looking forward to seeing the community come down for these FREE shows. Let’s support these amazing musicians and let them feel welcome. Everyone is invited! These shows are made for families\, friends\, and blankets in the grass. \n  \n \n\n\nJuly 27th – Steven Denmark\n\nSteven Denmark Bio:\nSteven Denmark grew up in the foothills of rural Northern California. For as long as he can remember\, music was at the forefront of Steven’s life. Since he was 13 years old\, Steven has been playing in bands\, helping other artists create their music\, and touring the US and Australia. Six years ago\, Steven decided to focus on writing the songs he’d always wanted to. After many failed recording attempts\, and multiple songs thrown out or reworked\, he finally had the songs he felt represented him as an artist. In March of 2017\, Steven ventured out to Nashville TN to record his first full-length record which was released on November 24th\, 2017. In 2019 Steven Denmark was the backing band for Nikki Lane during Stagecoach Music Fest held in Indio\, CA. That same year he also played Stagecoach. Since then and through and after 2020\, Steven has been writing\, recording\, and producing the majority of his latest released work. Steven Denmark’s music can be best described as a mixture of Rock-A-Billy meets Texas Swing.\n\nOpener: Darren Senn\n\nWebsite: https://www.stevendenmark.com/\n\nSpotify: https://bit.ly/44enoii\n\nInstagram: https://www.instagram.com/stevendenmark/\n\nYouTube: https://www.youtube.com/@stevendenmark9150\n\nDiscover More To Do While You Visit Here!
URL:https://elynevada.net/event/ely-2024-summer-concerts-in-the-park-2/
LOCATION:Broadbent Park
CATEGORIES:Arts & Culture,Concert
ATTACH;FMTTYPE=image/png:https://elynevada.net/wp-content/uploads/2024/04/Ely-Summer-Concerts-Facebook-Cover.png
ORGANIZER;CN="White PIne County Tourism and Recreation":MAILTO:nicole.collard@elynevada.net
END:VEVENT
BEGIN:VEVENT
DTSTART;TZID=America/Los_Angeles:20240713T180000
DTEND;TZID=America/Los_Angeles:20240713T210000
DTSTAMP:20260424T095036
CREATED:20240206T083211Z
LAST-MODIFIED:20240522T182607Z
UID:10000712-1720893600-1720904400@elynevada.net
SUMMARY:Ely 2024 Summer Concerts in the Park
DESCRIPTION:Ely 2024 Summer Concerts in the Park\nJoin us this summer for our Ely 2024 Summer Concerts in the Park!   We’re very excited to keep the music going this summer\, and it’s all taking place at Broadbent Park. Looking forward to seeing the community come down for these FREE shows. Let’s support these amazing musicians and let them feel welcome. Everyone is invited! These shows are made for families\, friends\, and blankets in the grass. \n \nJuly 13th – The Pickpockets \nPickpockets Bio: \nAs bluegrass continues to grow and bend as a genre\, The Pickpockets are at the forefront\, pushing the unique roots of their sound and jams into new territories. The five-piece string band from Salt Lake City recently released their debut album “Beyond The Hills” – a culmination of their best original work to date (joining an original EP from 2022 and a cover EP from 2023)\, and are currently embarking on a self-managed tour throughout the Mountain West. The band’s expansive repertoire and ever-growing sound draws inspiration from all around the world; from reggae to funk\, to traditional and newgrass styles\, they consistently are creating new grooves and genres. \nThe Pickpockets have played sold out shows with notable bands like The Kitchen Dwellers\, Pixie and the Partygrass Boys\, The Fretliners\, Armchair Boogie\, High Country Hustle\, and many more. Besides playing all around Salt Lake (The Depot\, The State Room\, The Commonwealth Room\, Metro Music Hall\, Kilby Court\, The Gateway)\, The Pickpockets have played at the Brundage Summer Music Series in Idaho\, and will be playing at 4 Peaks Music Festival (Oregon)\, Wasatch Mountain Music Festival\, with other dates to be announced. By combining traditional instruments and classical chops with futuristic style and heartfelt songwriting\, The Pickpockets are breathing new life into a timeless genre\, Bluegrass. \nWebsite: The PickPockets (pickpocketsbluegrass.com) \nInstagram: @thepickpocketsbluegrass \nFacebook: Pickpockets Bluegrass \nYouTube: The Pickpockets Bluegrass – YouTube \nSoundcloud: Stream The Pickpockets Bluegrass music \nSpotify: The Pickpockets | Spotify \niTunes: ‎The Pickpockets – Apple Music
URL:https://elynevada.net/event/ely-2024-summer-concerts-in-the-park-3/
LOCATION:Broadbent Park
CATEGORIES:Arts & Culture,Concert
ATTACH;FMTTYPE=image/png:https://elynevada.net/wp-content/uploads/2024/04/Ely-Summer-Concerts-Facebook-Cover.png
ORGANIZER;CN="White PIne County Tourism and Recreation":MAILTO:nicole.collard@elynevada.net
END:VEVENT
BEGIN:VEVENT
DTSTART;TZID=America/Los_Angeles:20240427T190000
DTEND;TZID=America/Los_Angeles:20240427T210000
DTSTAMP:20260424T095036
CREATED:20240402T194000Z
LAST-MODIFIED:20240402T194001Z
UID:10002531-1714244400-1714251600@elynevada.net
SUMMARY:Schellraiser Pre-Party with Spike McGuire in Baker
DESCRIPTION:Schellraiser Pre-Party with Spike McGuire in Baker\nCome get hyped up for Schellraiser Music Festival at our Preparty event in Baker\, Nevada Saturday\, April 27th! \nMusic at 7pm – All Ages Welcome – Free Event!\n@ Bristlecone General Store – 115 S. Baker Ave\, Baker\, NV \nFeaturing live music by Spike McGuire; coming all the way from western Nevada to entertain us with his folk music magic!\nFood and drinks available at The Bristlecone General Store. \nMake it a full weekend of fun and explore what Great Basin National Park (only a 5 minute drive from Baker) has to offer! Stay at one of the inn’s or camp out at one of the many camp grounds! \nFor camping and lodging information please go\nhttps://www.greatbasinpark.com/where-to-stay \nAbout Spike\nSpike McGuire is an internationally touring musician that has performed in 16 states and 5 countries as well as a GraphTech Guitar Labs endorsed. He is known for his work as founder of Loud As Folk. On the rich spectrum of folk music McGuire resides decidedly closer to Pete Seger than Peter\, Paul\, and Mary and has spent the last decade and a half drawing parallels between the ethos of punk rock and the spirit of folk music by building community and engaging listeners with his message. The lessons McGuire learned on the road now serve him well in his position of Executive Director at Brewery Arts Center in Carson City\, NV.
URL:https://elynevada.net/event/schellraiser-pre-party-with-spike-mcguire-in-baker/
LOCATION:Bristlecone General Store\, 115 S. Baker Ave.\, Baker\, NV\, 89311\, United States
CATEGORIES:Arts & Culture,Concert
ATTACH;FMTTYPE=image/png:https://elynevada.net/wp-content/uploads/2024/04/Pre-Party-Spike_IGflyer.png
ORGANIZER;CN="Middle of Everywhere":MAILTO:https://m.me/104506860953168?fbclid=IwAR2-YiQ62aa-wzko87QDaqqW1yfecknDwMUelIbYrBvWzrSSPHMpKrExlrE
END:VEVENT
BEGIN:VEVENT
DTSTART;TZID=UTC:20231118T190000
DTEND;TZID=UTC:20231118T210000
DTSTAMP:20260424T095036
CREATED:20231116T070513Z
LAST-MODIFIED:20231116T070514Z
UID:10000595-1700334000-1700341200@elynevada.net
SUMMARY:Cody Wayne Live at The Space
DESCRIPTION:Cody Wayne Live at The Space\nMaking the short trip from Elko\, Cody Wayne will be pickin’ away live at The Space on Saturday\, November 18th.
URL:https://elynevada.net/event/cody-wayne-live-at-the-space/
LOCATION:The Space\, 311 East Aultman\, Ely\, NV\, 89301\, United States
CATEGORIES:Arts & Culture,Community,Concert
END:VEVENT
BEGIN:VEVENT
DTSTART;TZID=UTC:20231110T190000
DTEND;TZID=UTC:20231110T210000
DTSTAMP:20260424T095036
CREATED:20231107T082505Z
LAST-MODIFIED:20231107T083006Z
UID:10000590-1699642800-1699650000@elynevada.net
SUMMARY:Spike McGuire Album Release Tour
DESCRIPTION:Spike McGuire Album Release Tour\nEarlier this year\, Spike McGuire received a grant from the Nevada Arts Council and the National Endowment For The Arts to record a live solo album. The record officially releases on Nevada Day and this is one of six release shows taking place at historic venues across the state.\n\nJoining McGuire in this musical celebration will be special guests Greg Gilmore and Rachael McElhiney.\n\nTickets are $10. For tickets please call (775) 289 3720\nAll ticket sales go toward supporting the Centennial Fine Arts Building and will aid in the repairs necessary to preserve the historic landmark.\n\nThe show is ALL AGES. Doors open at 6:30 pm\, with the show starting at 7 pm.
URL:https://elynevada.net/event/spike-mcguire-album-release-tour/
LOCATION:Centennial Fine Arts Building\, 910 East Aultman Street\, Ely\, NV\, 89301\, United States
CATEGORIES:Arts & Culture,Community,Concert
ATTACH;FMTTYPE=image/jpeg:https://elynevada.net/wp-content/uploads/2023/11/SPIKE_ELY_FB-WITH-TEXT.jpg
ORGANIZER;CN="White PIne County Tourism and Recreation":MAILTO:nicole.collard@elynevada.net
END:VEVENT
BEGIN:VEVENT
DTSTART;TZID=UTC:20230826T180000
DTEND;TZID=UTC:20230826T210000
DTSTAMP:20260424T095036
CREATED:20230719T072034Z
LAST-MODIFIED:20230719T072035Z
UID:10000583-1693072800-1693083600@elynevada.net
SUMMARY:Summer Concerts in the Park
DESCRIPTION:Summer Concerts in the Park\nJoin us this summer for our Summer Concerts in the Park!   We’re very excited to keep the music going this summer\, and it’s all taking place at Broadbent Park. Looking forward to seeing the community come down for these FREE shows. Let’s support these amazing musicians and let them feel welcome. Everyone is invited! These shows are made for families\, friends\, and blankets in the grass. \n \nAugust 26th – Caltucky\n\nCaltucky Bio:\nBest known as a local gold country region band\, Caltucky blends bluegrass\, country\, and soul music with modern jam improvisation that packs the house and gets the crowed boogy-ing down. Influenced by the community\, culture\, and sounds of the region\, they perform music that speaks to fans across the musical spectrum. Their signature style has become synonymous with a diverse collection of melodies and compositions\, performing their take on covers\, traditional\, and original songs. This band is on the rise\, and nothing can stop them from achieving the success they work so hard for. Stay tuned and keep an ear out for Caltucky!\n\nWebsite: https://www.caltuckyband.com/\nSoundcloud: https://soundcloud.com/caltucky\nInstagram: https://www.instagram.com/caltuckyband/\nYouTube: https://www.youtube.com/@caltucky
URL:https://elynevada.net/event/summer-concerts-in-the-park-4/
LOCATION:Broadbent Park
CATEGORIES:Arts & Culture,Community,Concert
ATTACH;FMTTYPE=image/png:https://elynevada.net/wp-content/uploads/2023/07/Summer-Concerts-in-the-Park-2023.png
ORGANIZER;CN="White PIne County Tourism and Recreation":MAILTO:nicole.collard@elynevada.net
END:VEVENT
BEGIN:VEVENT
DTSTART;TZID=UTC:20230812T180000
DTEND;TZID=UTC:20230812T210000
DTSTAMP:20260424T095036
CREATED:20230719T071637Z
LAST-MODIFIED:20230719T072211Z
UID:10000582-1691863200-1691874000@elynevada.net
SUMMARY:Summer Concerts in the Park
DESCRIPTION:Summer Concerts in the Park\nJoin us this summer for our Summer Concerts in the Park!   We’re very excited to keep the music going this summer\, and it’s all taking place at Broadbent Park. Looking forward to seeing the community come down for these FREE shows. Let’s support these amazing musicians and let them feel welcome. Everyone is invited! These shows are made for families\, friends\, and blankets in the grass. \n \nAugust 12th – Chris Cain Band\n\nChris Cain Bio:\nChris Cain offers up a soulful stew of Memphis style electric blues. His powerfully deep vocals and jazz inspired\, blues guitar riffs are unforgettable; uniquely his own\, while reminiscent of the legendary BB King and Albert King. As a child\, Chris Cain attended concerts with his dad to hear many of the great blues artists of the time. When Cain burst onto the blues scene in 1987 with his award winning debut album\, he soon found himself sharing the stage and trading licks with a few of those legends\, including Albert King and Albert Collins. Chris Cain has released a dozen albums\, each filled with soul-stirring songs pulled from his own blues drenched heart. His brand of blues is unforgettable.\n\nCain was raised on stories of his father’s childhood upbringing on Memphis’ Historic Beale Street and attended his first B.B King concert at the tender age of three. Blues music played continuously on the home stereo and family outings were often trips to concerts. Cain recalls\, “I remember when I was a kid\, my Dad would be mowing the lawn with the stereo blasting Muddy Waters. When I look back\, that was pretty cool! There was always music playing at our house\, Ray Charles\, B.B. King\, Freddie King\, Albert King\, all the greats.”\n\nAt the age of eight\, Cain taught himself to play guitar and began playing professionally before he was eighteen. Chris studied music at San Jose City College\, and was soon teaching jazz improvisation on campus. Over the next twenty years\, Cain would also master piano\, bass guitar\, clarinet\, alto and tenor saxophone. The combination of his blues upbringing and his jazz studies melded to form the searing guitar style that sets Chris Cain apart and has moved him to the top ranks of the blues music scene.\nWebsite: https://www.chriscainmusic.com/Cain_history.html
URL:https://elynevada.net/event/summer-concerts-in-the-park-3/
LOCATION:Broadbent Park
CATEGORIES:Arts & Culture,Community,Concert
ATTACH;FMTTYPE=image/png:https://elynevada.net/wp-content/uploads/2023/07/Summer-Concerts-in-the-Park-2023.png
ORGANIZER;CN="White PIne County Tourism and Recreation":MAILTO:nicole.collard@elynevada.net
END:VEVENT
BEGIN:VEVENT
DTSTART;TZID=UTC:20230729T180000
DTEND;TZID=UTC:20230729T210000
DTSTAMP:20260424T095036
CREATED:20230719T071235Z
LAST-MODIFIED:20230719T072112Z
UID:10000581-1690653600-1690664400@elynevada.net
SUMMARY:Summer Concerts in the Park
DESCRIPTION:Summer Concerts in the Park\nJoin us this summer for our Summer Concerts in the Park!   We’re very excited to keep the music going this summer\, and it’s all taking place at Broadbent Park. Looking forward to seeing the community come down for these FREE shows. Let’s support these amazing musicians and let them feel welcome. Everyone is invited! These shows are made for families\, friends\, and blankets in the grass. \n \nJuly 29th – Jake Jacobson\, opener Darren Senn\n\nDarren Senn Bio:\nThrough engaging stories and simple\, well-crafted songs\, Darren Senn is sure to take you someplace.\nSince releasing the studio album Detrimental Tendencies in 2018\, Senn released two new singles in 2020 : “Gone Are the Days\,” which harkens back to the simplicity of childhood\, and “Winnemucca\,” another stripped-down gem taking us on a lonely trip to a Nevada desert town to meet an old high school friend. “It’s a painting about the human condition. Not the happiest number\, but one of my favorites. A long lost buddy and me were both struggling with alcohol and life and decided to meet up in Winnemucca and drink about it.”\nBorn and raised in Eugene\, Oregon\, Darren Senn has resided in Stateline\, Nevada (Lake Tahoe) for the past 24 years and plans to keep cranking out folk songs and playing shows until the end of time!\nWebsite: https://www.darrensenn.com/home\nSpotify: https://bit.ly/3NDEsHn\nYouTube: https://bit.ly/43bqNNn\n\nJake Jacobsen Bio:\nCountry crooner Jake Jacobson is cut from a different cloth.\nA world-class athlete from the age of five\, Jacobson performed at levels most people never dream of — all before he turned 17. And during the most stressful times of his young career\, Jacobson turned to country music. Now\, the neo-traditional “throwback kid” is spinning his own country gold.\nWith roots in Reno\, Nevada and an upbringing in a Northern California ranching town of 2\,000 people\, Jacobson finds himself drawn to the stories and lifestyles of the unique characters intersecting his life. And those are precisely the people and places that jump from the speakers on his latest work\, the four-song EP Reno.\nOn Reno\, Jacobson celebrates what made him — from the blistering weather of Nevada’s high desert to the neo-traditional country sounds he first heard from his dad’s own honkytonk band in the late 90s and early 2000s. You don’t need to listen hard to hear the influence Jacobson pulled from getting up on stage as a young kid and singing along to Brooks & Dunn’s “Neon Moon” with his dad.\nBut Jacobson is far from a tribute act. Much like his heroes before him (artists like Keith Whitley\, Randy Travis\, and Cody Johnson)\, Jacobson finds inspiration in the people and places that make his perspective unique.\n“Reno is a city where there’s no last call\,” Jacobson says. The combination of alcohol\, gambling\, and nearby outdoor destinations like Lake Tahoe make it a unique cross-section of all kinds of kinds. In his song “First Call\,” Jacobson turns that trope on its head as a clever ode to leaning on the reliable ones in your life instead of the vices that can dig you deeper into the ground.\nReno the EP is much like Reno the city\, in a lot of ways. For one\, the four-song EP takes turns that feel uniquely distinct but each vital to what makes the work whole — much like the changing weather in the mountain town. “We truly have all four seasons of weather\,” Jacobson says. “You just never know when one season stops and the other begins because they rotate year-round.”\nAnd while Jacobson’s rising path to success is one tinged with a tip of the hat to the modern age — his first big break came when Randall King caught wind of a cover he posted on Twitter and invited him to come out to Nashville\, eventually leading to his debut EP with Trent Willmon and a slew of dates opening for artists like King\, Clay walker\, and Kip Moore — there’s no doubt his continued success will be a testament to the timeless values of hard work and good storytelling.\nWebsite: https://jakejacobsoncountry.com/\nSpotify: https://bit.ly/3CZiHwO\nYouTube: https://bit.ly/3pw6IDV
URL:https://elynevada.net/event/summer-concerts-in-the-park-2/
LOCATION:Broadbent Park
CATEGORIES:Arts & Culture,Community,Concert
ATTACH;FMTTYPE=image/png:https://elynevada.net/wp-content/uploads/2023/07/Summer-Concerts-in-the-Park-2023.png
ORGANIZER;CN="White PIne County Tourism and Recreation":MAILTO:nicole.collard@elynevada.net
END:VEVENT
BEGIN:VEVENT
DTSTART;TZID=UTC:20230716T190000
DTEND;TZID=UTC:20230716T210000
DTSTAMP:20260424T095036
CREATED:20230615T135955Z
LAST-MODIFIED:20230615T135957Z
UID:10000567-1689534000-1689541200@elynevada.net
SUMMARY:New Music Ensemble
DESCRIPTION:New Music Ensemble\nOutdoor Concert performed by Grand Valley State University\, MI \nBackyard in Baker at the Bristlecone General Store!
URL:https://elynevada.net/event/new-music-ensemble/
LOCATION:Bristlecone General Store\, 115 S. Baker Ave.\, Baker\, NV\, 89311\, United States
CATEGORIES:Arts & Culture,Community,Concert
ORGANIZER;CN="Bristlecone General Store":MAILTO:stay@stargazernevada.com
END:VEVENT
BEGIN:VEVENT
DTSTART;TZID=UTC:20230715T180000
DTEND;TZID=UTC:20230715T210000
DTSTAMP:20260424T095036
CREATED:20240426T174729Z
LAST-MODIFIED:20240426T174729Z
UID:10000580-1689444000-1689454800@elynevada.net
SUMMARY:Summer Concerts in the Park
DESCRIPTION:Summer Concerts in the Park\nJoin us this summer for our Summer Concerts in the Park!   We’re very excited to keep the music going this summer\, and it’s all taking place at Broadbent Park. Looking forward to seeing the community come down for these FREE shows. Let’s support these amazing musicians and let them feel welcome. Everyone is invited! These shows are made for families\, friends\, and blankets in the grass.
URL:https://elynevada.net/event/summer-concerts-in-the-park-5/
LOCATION:Broadbent Park
CATEGORIES:Arts & Culture,Community,Concert
ATTACH;FMTTYPE=image/png:https://elynevada.net/wp-content/uploads/2023/07/Summer-Concerts-in-the-Park-2023.png
ORGANIZER;CN="White PIne County Tourism and Recreation":MAILTO:nicole.collard@elynevada.net
END:VEVENT
BEGIN:VEVENT
DTSTART;TZID=UTC:20230628T080000
DTEND;TZID=UTC:20230628T230000
DTSTAMP:20260424T095037
CREATED:20230125T034507Z
LAST-MODIFIED:20230125T034652Z
UID:10000542-1687939200-1687993200@elynevada.net
SUMMARY:Carvin Jones in Concert
DESCRIPTION:Carvin Jones in Concert\nCome see Carvin Jones in Concert at the Bristlecone Convention Center! \nRight here in Ely\, Nevada is the ultimate rock n’ roll blues party of the year. Carvin Jones\, “The King of Strings” was voted one of the 50 Greatest Blues Guitarists of all time by Guitarist Magazine. \n“Carvin Jones is a young cat out of Phoenix who I think is the next up-and-coming blues player.” ~ Eric Clapton \n” … one of the best guitarist in the world … ” ~London Surrey News \n\nCarvin has received accolades from the likes of BB King and Buddy Guy. He has opened shows for Carlos Santana\, Jeff Beck\, Gary Moore\, John Mayell\, Albert Collins\, Johnny Winter\, Jimmy Vaughn\, and many other Blues Legends throughout the world who have come to admire his immense talents!\n\n\n\nCarvin has also performed for our troops in Iraq and Kuwait!\n\n\n\n12 and under FREE!\n\n\n\nBristlecone Convention Center\n150 W 6th St\nEly\, NV 89301\n\n\nJUNE 28\, 2023 @ 8 pm\n\nGet Your Tickets for Carvin Jones in Concert HERE!\nCheck Out Our Lodging Options HERE!
URL:https://elynevada.net/event/carvin-jones-in-concert/
LOCATION:Bristlecone Convention Center\, 150 Sixth Street\, Ely\, NV\, 89301\, United States
CATEGORIES:Arts & Culture,Community,Concert
ATTACH;FMTTYPE=image/jpeg:https://elynevada.net/wp-content/uploads/2023/01/Carvin-Jones-in-Concert-at-Bristlecone-Convention-Center.jpg
END:VEVENT
END:VCALENDAR