BEGIN:VCALENDAR
VERSION:2.0
PRODID:-//Welcome To Ely - ECPv6.15.20//NONSGML v1.0//EN
CALSCALE:GREGORIAN
METHOD:PUBLISH
X-WR-CALNAME:Welcome To Ely
X-ORIGINAL-URL:https://elynevada.net
X-WR-CALDESC:Events for Welcome To Ely
REFRESH-INTERVAL;VALUE=DURATION:PT1H
X-Robots-Tag:noindex
X-PUBLISHED-TTL:PT1H
BEGIN:VTIMEZONE
TZID:UTC
BEGIN:STANDARD
TZOFFSETFROM:+0000
TZOFFSETTO:+0000
TZNAME:UTC
DTSTART:20170101T000000
END:STANDARD
END:VTIMEZONE
BEGIN:VTIMEZONE
TZID:America/Los_Angeles
BEGIN:DAYLIGHT
TZOFFSETFROM:-0800
TZOFFSETTO:-0700
TZNAME:PDT
DTSTART:20170312T100000
END:DAYLIGHT
BEGIN:STANDARD
TZOFFSETFROM:-0700
TZOFFSETTO:-0800
TZNAME:PST
DTSTART:20171105T090000
END:STANDARD
BEGIN:DAYLIGHT
TZOFFSETFROM:-0800
TZOFFSETTO:-0700
TZNAME:PDT
DTSTART:20180311T100000
END:DAYLIGHT
BEGIN:STANDARD
TZOFFSETFROM:-0700
TZOFFSETTO:-0800
TZNAME:PST
DTSTART:20181104T090000
END:STANDARD
BEGIN:DAYLIGHT
TZOFFSETFROM:-0800
TZOFFSETTO:-0700
TZNAME:PDT
DTSTART:20190310T100000
END:DAYLIGHT
BEGIN:STANDARD
TZOFFSETFROM:-0700
TZOFFSETTO:-0800
TZNAME:PST
DTSTART:20191103T090000
END:STANDARD
END:VTIMEZONE
BEGIN:VEVENT
DTSTART;TZID=UTC:20220512T140000
DTEND;TZID=UTC:20220512T160000
DTSTAMP:20260425T120017
CREATED:20220330T042028Z
LAST-MODIFIED:20220330T042030Z
UID:10000439-1652364000-1652371200@elynevada.net
SUMMARY:Butter-Making Demonstration
DESCRIPTION:Butter-Making Demonstration\nAs a part of the Lehman Caves Centennial Year\, visitors and locals alike can anticipate presentations related to Great Basin National Park and the surrounding area. \nMay 12th’s Butter-Making Demonstration will be presented by Carol Ferguson at 2:00 p.m. at Baker Hall. \nLocated at the Ranching Exhibit off Highway 488 in Baker\, NV.
URL:https://elynevada.net/event/butter-making-demonstration/
LOCATION:Baker Hall\, Baker\, NV\, 89311\, United States
CATEGORIES:Arts & Culture,Conference,History
ATTACH;FMTTYPE=image/jpeg:https://elynevada.net/wp-content/uploads/2021/12/Lehman-Caves-Centennial-Poster.jpg
END:VEVENT
BEGIN:VEVENT
DTSTART;VALUE=DATE:20191011
DTEND;VALUE=DATE:20191012
DTSTAMP:20260425T120017
CREATED:20190920T062308Z
LAST-MODIFIED:20190920T062311Z
UID:10000141-1570752000-1570838399@elynevada.net
SUMMARY:Nevada Museum Assoc. Conference
DESCRIPTION:
URL:https://elynevada.net/event/nevada-museum-assoc-conference-4/
LOCATION:Bristlecone Convention Center\, 150 Sixth Street\, Ely\, NV\, 89301\, United States
CATEGORIES:Conference
END:VEVENT
BEGIN:VEVENT
DTSTART;VALUE=DATE:20191010
DTEND;VALUE=DATE:20191011
DTSTAMP:20260425T120017
CREATED:20190920T061020Z
LAST-MODIFIED:20190920T061957Z
UID:10000035-1570665600-1570751999@elynevada.net
SUMMARY:Nevada Museum Assoc. Conference
DESCRIPTION:
URL:https://elynevada.net/event/nevada-museum-assoc-conference-3/
LOCATION:NV
CATEGORIES:Conference
END:VEVENT
BEGIN:VEVENT
DTSTART;VALUE=DATE:20191009
DTEND;VALUE=DATE:20191010
DTSTAMP:20260425T120017
CREATED:20190920T060923Z
LAST-MODIFIED:20190920T060927Z
UID:10000033-1570579200-1570665599@elynevada.net
SUMMARY:Nevada Museum Assoc. Conference
DESCRIPTION:
URL:https://elynevada.net/event/nevada-museum-assoc-conference-2/
LOCATION:Bristlecone Convention Center\, 150 Sixth Street\, Ely\, NV\, 89301\, United States
CATEGORIES:Conference
END:VEVENT
BEGIN:VEVENT
DTSTART;VALUE=DATE:20191008
DTEND;VALUE=DATE:20191009
DTSTAMP:20260425T120017
CREATED:20190920T060837Z
LAST-MODIFIED:20190920T060841Z
UID:10000031-1570492800-1570579199@elynevada.net
SUMMARY:Nevada Museum Assoc. Conference
DESCRIPTION:
URL:https://elynevada.net/event/nevada-museum-assoc-conference/
LOCATION:Bristlecone Convention Center\, 150 Sixth Street\, Ely\, NV\, 89301\, United States
CATEGORIES:Conference
END:VEVENT
BEGIN:VEVENT
DTSTART;TZID=America/Los_Angeles:20181101T080000
DTEND;TZID=America/Los_Angeles:20181103T170000
DTSTAMP:20260425T120017
CREATED:20181017T040045Z
LAST-MODIFIED:20181017T040524Z
UID:10000066-1541059200-1541264400@elynevada.net
SUMMARY:Northern Nevada OHV Summit
DESCRIPTION:Join the Nevada OHV Program\, for the first annual Off Highway Vehicle Summit in Ely Nevada! The event will be hosted by the Department of Conservation and Natural Resources\, at the Bristlecone Convention Center\, on November 1 & 2 with a group ride at the local trails on Saturday November 3. This is a free to attend event\, and everyone is encouraged to bring their OHVs for the Saturday ride. \nThe OHV Summit will focus on developments in the OHV grants program\, current projects around the state\, responsible recreation\, and the local trails. Our goal for the first summit is to identify new project areas\, create a collaboration between user groups and land managers\, and provide education opportunities for responsible recreation.
URL:https://elynevada.net/event/northern-nevada-ohv-summit/
LOCATION:Bristlecone Convention Center\, 150 Sixth Street\, Ely\, NV\, 89301\, United States
CATEGORIES:Conference
ATTACH;FMTTYPE=image/jpeg:https://elynevada.net/wp-content/uploads/2018/10/ohv.jpg
END:VEVENT
BEGIN:VEVENT
DTSTART;VALUE=DATE:20180620
DTEND;VALUE=DATE:20180624
DTSTAMP:20260425T120017
CREATED:20180619T111658Z
LAST-MODIFIED:20180619T111658Z
UID:10000048-1529452800-1529798399@elynevada.net
SUMMARY:83rd Annual NSFA Training Conference
DESCRIPTION:Wednesday\nWednesday will start with the golf tournament at the White Pine Golf Course followed by trap shooting at the Steptoe Valley Trap Club. A reunion dinner will be held at the Ely VFD Fire Hall. \nThursday\nThursday will kick off with manipulative skills followed by Opening Ceremonies with a motivational speech from a keynote speaker. \nThursday afternoon will have several training opportunities. There will be three training sessions of Forcible Entry prop/breaching\, EMS – triaging mass casualty incidents\, and Wildland Urban Interface. \nThursday will conclude with dinner at the local Elk’s lodge. \nFriday\nFriday will start with the manipulative skills competition with courses continuing from Thursday; followed by 3 training sessions and live fire training going into the afternoon( the live fire safety briefing is a mandatory session for those participating in the live fire training). \nFriday evening will conclude with dinner and horseshoes. \nSaturday\nSaturday will begin with the Firefighter Memorial Parade that leads into the NSFA Business Meeting. \nSaturday afternoon will mark the start of the water fight and monkey drill competitions. \nSaturday evening will conclude the conference with the NSFA Banquet. \nReady to register?\n\nMake sure your NSFA dues are up-to-date.\n\nPrint\, Fill out\, and Mail the NSFA Membership Application; or\nComing Soon!!! Pay your dues online!\n\n\nRegister for conference!\n\nFill out\, Print\, and Mail the 83rd Annual Fire Training Conference Registration Form; or\nRegister for Conference online!\n\n\nFind a Place to stay. (see available hotels above)\nCheck out some of the conference events. (see event highlights above)\nCome to Conference!\n\n*Register before June 7th to avoid a late registration fee! If you register after June 6th\, an additional $15.00 Late Registration Fee will be added to your total due. Meals may not be available for late registrants and a refund will be given.
URL:https://elynevada.net/event/83rd-annual-nsfa-training-conference/
LOCATION:NV
CATEGORIES:Conference
ATTACH;FMTTYPE=image/jpeg:https://elynevada.net/wp-content/uploads/2018/06/83conferencelogo1-300x267.jpg
END:VEVENT
END:VCALENDAR