BEGIN:VCALENDAR
VERSION:2.0
PRODID:-//Welcome To Ely - ECPv6.15.20//NONSGML v1.0//EN
CALSCALE:GREGORIAN
METHOD:PUBLISH
X-ORIGINAL-URL:https://elynevada.net
X-WR-CALDESC:Events for Welcome To Ely
REFRESH-INTERVAL;VALUE=DURATION:PT1H
X-Robots-Tag:noindex
X-PUBLISHED-TTL:PT1H
BEGIN:VTIMEZONE
TZID:America/Los_Angeles
BEGIN:DAYLIGHT
TZOFFSETFROM:-0800
TZOFFSETTO:-0700
TZNAME:PDT
DTSTART:20240310T100000
END:DAYLIGHT
BEGIN:STANDARD
TZOFFSETFROM:-0700
TZOFFSETTO:-0800
TZNAME:PST
DTSTART:20241103T090000
END:STANDARD
BEGIN:DAYLIGHT
TZOFFSETFROM:-0800
TZOFFSETTO:-0700
TZNAME:PDT
DTSTART:20250309T100000
END:DAYLIGHT
BEGIN:STANDARD
TZOFFSETFROM:-0700
TZOFFSETTO:-0800
TZNAME:PST
DTSTART:20251102T090000
END:STANDARD
BEGIN:DAYLIGHT
TZOFFSETFROM:-0800
TZOFFSETTO:-0700
TZNAME:PDT
DTSTART:20260308T100000
END:DAYLIGHT
BEGIN:STANDARD
TZOFFSETFROM:-0700
TZOFFSETTO:-0800
TZNAME:PST
DTSTART:20261101T090000
END:STANDARD
END:VTIMEZONE
BEGIN:VEVENT
DTSTART;TZID=America/Los_Angeles:20251004T170000
DTEND;TZID=America/Los_Angeles:20251004T200000
DTSTAMP:20260423T055038
CREATED:20250909T190029Z
LAST-MODIFIED:20250909T190054Z
UID:10004055-1759597200-1759608000@elynevada.net
SUMMARY:Nightmare on Aultman
DESCRIPTION:Nightmare on Aultman\nJoin us for an unforgettable evening of spooky celebration at Nightmare on Aultman\, the White Pine Public Museum’s annual Halloween event exclusively for adults ages 21 and over. Saturday\, October 4\, 2025\, from 5pm to 8pm at the White Pine Public Museum\, 2000 Aultman street! \n$40 Per Person | $35 Museum Members \nThis all-inclusive evening features a catered dinner (to be announced)\, live music\, and four complimentary beverage tickets! Costumes are highly encouraged\, and tickets are required for entry. Pre-sale tickets will be available for purchase at the White Pine Public Museum. If you don’t make the pre-sale\, door sell tickets will be available! \n \n\nWe look forward to welcoming you to an evening of chilling fun\, ghoulish treats\, wickedly delicious food\, and great company! \n\nDiscover More Fall White Pine Events HERE!
URL:https://elynevada.net/event/nightmare-on-aultman/
LOCATION:White Pine Public Museum\, 2000 East Aultman Street\, Ely\, NV\, 89301\, United States
CATEGORIES:Arts & Culture,Community,Fundraiser,Party
ATTACH;FMTTYPE=image/jpeg:https://elynevada.net/wp-content/uploads/2025/09/Nightmare-on-Aultman-Facebook-Banner.jpg
ORGANIZER;CN="White Pine Public Museum":MAILTO:wpmusuemnv@gmail.com
END:VEVENT
BEGIN:VEVENT
DTSTART;TZID=America/Los_Angeles:20251011T080000
DTEND;TZID=America/Los_Angeles:20251011T160000
DTSTAMP:20260423T055038
CREATED:20250902T194527Z
LAST-MODIFIED:20250902T194544Z
UID:10004053-1760169600-1760198400@elynevada.net
SUMMARY:Ward Mtn. Ramble Disc Golf Tournament
DESCRIPTION:Ward Mtn. Ramble Disc Golf Tournament\nThe second annual PDGA sanctioned Ward Mtn. Ramble Disc Golf Tournament at Ward Mountain Disc Golf Course in Ely\, Nevada! \nWhite Pine County Tourism and Recreation and the Ely Disc Golf Club are hosting 2 rounds of 18 holes in one day. Escape the heat and come to this high elevation mountain course at a great time of year. \nThis event is a fundraiser for continued course improvements. Player’s Packs include great prizes\, including a tournament stamp Prodigy event disc\, sponsor gifts\, and a ticket for a steam train ride at the Nevada Northern Railway. \nRegister in advance online at Disc Golf Scene: https://bit.ly/412hNw0 \n \nElyNevada.net for visitor information.
URL:https://elynevada.net/event/ward-mtn-ramble-disc-golf-tournament/
LOCATION:Ward Mountain BLM Recreation Area\, Co Rte 44A\, Ruth\, NV\, 89319\, United States
CATEGORIES:Community,Fundraiser,Sports
ATTACH;FMTTYPE=image/jpeg:https://elynevada.net/wp-content/uploads/2025/09/CC_WARD_MTN_RAMBLE_DISC_FACEBOOK_9.1.25.jpg
ORGANIZER;CN="White PIne County Tourism and Recreation":MAILTO:nicole.collard@elynevada.net
END:VEVENT
BEGIN:VEVENT
DTSTART;TZID=America/Los_Angeles:20251031T180000
DTEND;TZID=America/Los_Angeles:20251031T220000
DTSTAMP:20260423T055038
CREATED:20250908T203345Z
LAST-MODIFIED:20250908T203403Z
UID:10004054-1761933600-1761948000@elynevada.net
SUMMARY:Grown-Up Halloween Fun
DESCRIPTION:Grown-Up Halloween Fun\nSave the date because costumes\, cocktails\, and chills await! mark your calendar for a night of grown-up Halloween fun at the Elks Lodge!
URL:https://elynevada.net/event/grown-up-halloween-fun/
LOCATION:Ely Elks Lodge\, 694 Campton St.\, Ely\, NV\, 89301\, United States
CATEGORIES:Arts & Culture,Community,Fundraiser,Party
ATTACH;FMTTYPE=image/jpeg:https://elynevada.net/wp-content/uploads/2025/09/Come-Hang-Out-With-Us-Elks-Lodge.jpg
ORGANIZER;CN="Ely Elks Lodge":MAILTO:elyelks1469@att.net
END:VEVENT
END:VCALENDAR