BEGIN:VCALENDAR
VERSION:2.0
PRODID:-//Welcome To Ely - ECPv6.15.20//NONSGML v1.0//EN
CALSCALE:GREGORIAN
METHOD:PUBLISH
X-ORIGINAL-URL:https://elynevada.net
X-WR-CALDESC:Events for Welcome To Ely
REFRESH-INTERVAL;VALUE=DURATION:PT1H
X-Robots-Tag:noindex
X-PUBLISHED-TTL:PT1H
BEGIN:VTIMEZONE
TZID:America/Los_Angeles
BEGIN:DAYLIGHT
TZOFFSETFROM:-0800
TZOFFSETTO:-0700
TZNAME:PDT
DTSTART:20240310T100000
END:DAYLIGHT
BEGIN:STANDARD
TZOFFSETFROM:-0700
TZOFFSETTO:-0800
TZNAME:PST
DTSTART:20241103T090000
END:STANDARD
BEGIN:DAYLIGHT
TZOFFSETFROM:-0800
TZOFFSETTO:-0700
TZNAME:PDT
DTSTART:20250309T100000
END:DAYLIGHT
BEGIN:STANDARD
TZOFFSETFROM:-0700
TZOFFSETTO:-0800
TZNAME:PST
DTSTART:20251102T090000
END:STANDARD
BEGIN:DAYLIGHT
TZOFFSETFROM:-0800
TZOFFSETTO:-0700
TZNAME:PDT
DTSTART:20260308T100000
END:DAYLIGHT
BEGIN:STANDARD
TZOFFSETFROM:-0700
TZOFFSETTO:-0800
TZNAME:PST
DTSTART:20261101T090000
END:STANDARD
BEGIN:DAYLIGHT
TZOFFSETFROM:-0800
TZOFFSETTO:-0700
TZNAME:PDT
DTSTART:20270314T100000
END:DAYLIGHT
BEGIN:STANDARD
TZOFFSETFROM:-0700
TZOFFSETTO:-0800
TZNAME:PST
DTSTART:20271107T090000
END:STANDARD
END:VTIMEZONE
BEGIN:VEVENT
DTSTART;TZID=America/Los_Angeles:20260411T180000
DTEND;TZID=America/Los_Angeles:20260411T210000
DTSTAMP:20260422T233123
CREATED:20260319T192609Z
LAST-MODIFIED:20260319T192611Z
UID:10005000-1775930400-1775941200@elynevada.net
SUMMARY:History and High Stakes
DESCRIPTION:History and High Stakes: Museum Casino Night\nWe are excited to invite you to a special evening at the museum that brings the spirit of the Old West back to life – History and High Stakes: Museum Casino Night!Old Western Casino Night Fundraiser \nApril 11th | 6:00 PM – 9:00 PMFor one night\, the museum will transform into a lively frontier gambling hall\, where guests can try their luck at classic games once played in mining camps and saloons across the American West.You’ll be able to take a seat at tables featuring Faro\, Roulette\, a 21 table\, and High Stakes Poker\, all played with museum chips in a fun and friendly atmosphere. Don’t worry—this isn’t real gambling. Instead\, every guest receives chips to play with when they arrive. \nHere’s how it works:• Your admission includes chips for the tables.• As you play throughout the evening\, you can win (or lose!) additional chips.• At any time\, you can exchange your chips for raffle tickets.• At the end of the night\, raffle tickets will be drawn for a variety of prizes.The more chips you win\, the more raffle tickets you can enter. Luck\, and a little daring may all pay off.In addition to the games\, the evening will feature:• Live music to set the frontier saloon atmosphere• Food and themed drinks available at the bar• A lively social evening with friends\, neighbors\, and fellow supporters of the museum \nTo make the night even more fun\, Western attire and period costumes are encouraged. Whether it’s a gambler’s vest\, a cowboy hat\, or full frontier finery\, we invite you to dress the part and help bring the Old West to life. \nTickets:$30 per person$50 VIP admission (includes extra chips to start your evening at the tables) \nAll proceeds from the event help support the continued preservation\, exhibits\, and programs of the White Pine Public Museum. \nTICKETS ARE LIMITED! Get yours in advance at the museum!We hope you’ll join us for a night of history\, entertainment\, and a little frontier luck.Place your bets… and come buck the tiger with us.
URL:https://elynevada.net/event/history-and-high-stakes/
LOCATION:White Pine Public Museum\, 2000 East Aultman Street\, Ely\, NV\, 89301\, United States
CATEGORIES:Community,Fundraiser,Party
ATTACH;FMTTYPE=image/png:https://elynevada.net/wp-content/uploads/2026/03/History-and-High-Stakes_8.5x11.png
ORGANIZER;CN="White Pine Public Museum":MAILTO:wpmusuemnv@gmail.com
END:VEVENT
BEGIN:VEVENT
DTSTART;TZID=America/Los_Angeles:20260228T173000
DTEND;TZID=America/Los_Angeles:20260228T190000
DTSTAMP:20260422T233123
CREATED:20260107T233844Z
LAST-MODIFIED:20260107T233844Z
UID:10004095-1772299800-1772305200@elynevada.net
SUMMARY:The Elks Annual Crab Crack
DESCRIPTION:The Elks Annual Crab Crack\nMake sure you’re not wearing your Saturday best during this year’s Crab Crack on February 1st and March 8th at the Elks Annual Crab Crack\, because attempting to be dainty is a losing strategy at this type of event. For most people\, this is another great gathering at the table with some friends and family. \nThis event serves 500 pounds of crab that is shipped to Ocean Beauty Distributors in Salt Lake from Fisheries in Astoria\, Oregon. Volunteers from the lodge drive to Salt Lake to pick up the frozen crab on Wednesday before the event. The crab is thawed and served at just the right temperature. Along with the crab\, 60 pounds of coleslaw and 50 loaves of garlic bread\, cocktail sauce and 39 pounds of melted butter is also served with dinner. \nYou arrive to your seat\, and plate of crab legs\, a “crab cracker”\, and bib awaits each guest. \n$70 per ticket \n$100 for steak and crab \nYou see many guests holding a conversation while cracking open crab legs\, pulling the meat off with their hands popping it in their mouth and continuing on their journey of disassembling a crab leg for all of the meat it has to offer. Some choose to wear the bib that is provided\, and others try to maintain their fashion trend by opting out on the bib option. \nContact the Ely Elks for more information and tickets at (775) 293 – 0107.
URL:https://elynevada.net/event/the-elks-annual-crab-crack/2026-02-28/
LOCATION:Ely Elks Lodge\, 694 Campton St.\, Ely\, NV\, 89301\, United States
CATEGORIES:Community,Fundraiser
ATTACH;FMTTYPE=image/jpeg:https://elynevada.net/wp-content/uploads/2026/01/2026-Crab-Crack.jpg
ORGANIZER;CN="Ely Elks Lodge":MAILTO:elyelks1469@att.net
END:VEVENT
BEGIN:VEVENT
DTSTART;TZID=America/Los_Angeles:20260131T173000
DTEND;TZID=America/Los_Angeles:20260131T190000
DTSTAMP:20260422T233123
CREATED:20260107T233844Z
LAST-MODIFIED:20260107T233844Z
UID:10004094-1769880600-1769886000@elynevada.net
SUMMARY:The Elks Annual Crab Crack
DESCRIPTION:The Elks Annual Crab Crack\nMake sure you’re not wearing your Saturday best during this year’s Crab Crack on February 1st and March 8th at the Elks Annual Crab Crack\, because attempting to be dainty is a losing strategy at this type of event. For most people\, this is another great gathering at the table with some friends and family. \nThis event serves 500 pounds of crab that is shipped to Ocean Beauty Distributors in Salt Lake from Fisheries in Astoria\, Oregon. Volunteers from the lodge drive to Salt Lake to pick up the frozen crab on Wednesday before the event. The crab is thawed and served at just the right temperature. Along with the crab\, 60 pounds of coleslaw and 50 loaves of garlic bread\, cocktail sauce and 39 pounds of melted butter is also served with dinner. \nYou arrive to your seat\, and plate of crab legs\, a “crab cracker”\, and bib awaits each guest. \n$70 per ticket \n$100 for steak and crab \nYou see many guests holding a conversation while cracking open crab legs\, pulling the meat off with their hands popping it in their mouth and continuing on their journey of disassembling a crab leg for all of the meat it has to offer. Some choose to wear the bib that is provided\, and others try to maintain their fashion trend by opting out on the bib option. \nContact the Ely Elks for more information and tickets at (775) 293 – 0107.
URL:https://elynevada.net/event/the-elks-annual-crab-crack/2026-01-31/
LOCATION:Ely Elks Lodge\, 694 Campton St.\, Ely\, NV\, 89301\, United States
CATEGORIES:Community,Fundraiser
ATTACH;FMTTYPE=image/jpeg:https://elynevada.net/wp-content/uploads/2026/01/2026-Crab-Crack.jpg
ORGANIZER;CN="Ely Elks Lodge":MAILTO:elyelks1469@att.net
END:VEVENT
BEGIN:VEVENT
DTSTART;TZID=America/Los_Angeles:20251031T180000
DTEND;TZID=America/Los_Angeles:20251031T220000
DTSTAMP:20260422T233123
CREATED:20250908T203345Z
LAST-MODIFIED:20250908T203403Z
UID:10004054-1761933600-1761948000@elynevada.net
SUMMARY:Grown-Up Halloween Fun
DESCRIPTION:Grown-Up Halloween Fun\nSave the date because costumes\, cocktails\, and chills await! mark your calendar for a night of grown-up Halloween fun at the Elks Lodge!
URL:https://elynevada.net/event/grown-up-halloween-fun/
LOCATION:Ely Elks Lodge\, 694 Campton St.\, Ely\, NV\, 89301\, United States
CATEGORIES:Arts & Culture,Community,Fundraiser,Party
ATTACH;FMTTYPE=image/jpeg:https://elynevada.net/wp-content/uploads/2025/09/Come-Hang-Out-With-Us-Elks-Lodge.jpg
ORGANIZER;CN="Ely Elks Lodge":MAILTO:elyelks1469@att.net
END:VEVENT
BEGIN:VEVENT
DTSTART;TZID=America/Los_Angeles:20251011T080000
DTEND;TZID=America/Los_Angeles:20251011T160000
DTSTAMP:20260422T233123
CREATED:20250902T194527Z
LAST-MODIFIED:20250902T194544Z
UID:10004053-1760169600-1760198400@elynevada.net
SUMMARY:Ward Mtn. Ramble Disc Golf Tournament
DESCRIPTION:Ward Mtn. Ramble Disc Golf Tournament\nThe second annual PDGA sanctioned Ward Mtn. Ramble Disc Golf Tournament at Ward Mountain Disc Golf Course in Ely\, Nevada! \nWhite Pine County Tourism and Recreation and the Ely Disc Golf Club are hosting 2 rounds of 18 holes in one day. Escape the heat and come to this high elevation mountain course at a great time of year. \nThis event is a fundraiser for continued course improvements. Player’s Packs include great prizes\, including a tournament stamp Prodigy event disc\, sponsor gifts\, and a ticket for a steam train ride at the Nevada Northern Railway. \nRegister in advance online at Disc Golf Scene: https://bit.ly/412hNw0 \n \nElyNevada.net for visitor information.
URL:https://elynevada.net/event/ward-mtn-ramble-disc-golf-tournament/
LOCATION:Ward Mountain BLM Recreation Area\, Co Rte 44A\, Ruth\, NV\, 89319\, United States
CATEGORIES:Community,Fundraiser,Sports
ATTACH;FMTTYPE=image/jpeg:https://elynevada.net/wp-content/uploads/2025/09/CC_WARD_MTN_RAMBLE_DISC_FACEBOOK_9.1.25.jpg
ORGANIZER;CN="White PIne County Tourism and Recreation":MAILTO:nicole.collard@elynevada.net
END:VEVENT
BEGIN:VEVENT
DTSTART;TZID=America/Los_Angeles:20251004T170000
DTEND;TZID=America/Los_Angeles:20251004T200000
DTSTAMP:20260422T233123
CREATED:20250909T190029Z
LAST-MODIFIED:20250909T190054Z
UID:10004055-1759597200-1759608000@elynevada.net
SUMMARY:Nightmare on Aultman
DESCRIPTION:Nightmare on Aultman\nJoin us for an unforgettable evening of spooky celebration at Nightmare on Aultman\, the White Pine Public Museum’s annual Halloween event exclusively for adults ages 21 and over. Saturday\, October 4\, 2025\, from 5pm to 8pm at the White Pine Public Museum\, 2000 Aultman street! \n$40 Per Person | $35 Museum Members \nThis all-inclusive evening features a catered dinner (to be announced)\, live music\, and four complimentary beverage tickets! Costumes are highly encouraged\, and tickets are required for entry. Pre-sale tickets will be available for purchase at the White Pine Public Museum. If you don’t make the pre-sale\, door sell tickets will be available! \n \n\nWe look forward to welcoming you to an evening of chilling fun\, ghoulish treats\, wickedly delicious food\, and great company! \n\nDiscover More Fall White Pine Events HERE!
URL:https://elynevada.net/event/nightmare-on-aultman/
LOCATION:White Pine Public Museum\, 2000 East Aultman Street\, Ely\, NV\, 89301\, United States
CATEGORIES:Arts & Culture,Community,Fundraiser,Party
ATTACH;FMTTYPE=image/jpeg:https://elynevada.net/wp-content/uploads/2025/09/Nightmare-on-Aultman-Facebook-Banner.jpg
ORGANIZER;CN="White Pine Public Museum":MAILTO:wpmusuemnv@gmail.com
END:VEVENT
BEGIN:VEVENT
DTSTART;TZID=America/Los_Angeles:20250928T140000
DTEND;TZID=America/Los_Angeles:20250928T160000
DTSTAMP:20260422T233123
CREATED:20250909T200400Z
LAST-MODIFIED:20250909T200424Z
UID:10004056-1759068000-1759075200@elynevada.net
SUMMARY:Finding Nevada Wild - Author Talk & Book Signing
DESCRIPTION:Finding Nevada Wild – Author Talk & Book Signing\nJoin us for an afternoon with author Sydney Martinez at the White Pine Public Museum in Ely\, Nevada\, on September 28th from 2 to 4 PM.\n\nSydney will share stories from her book Finding Nevada Wild\, which explores the unique terrain\, culture\, and people of Nevada’s most mysterious places. This free event includes a book signing\, a Q&A session\, and a chance to discover hidden gems of the Silver State. Everyone is welcome to attend! Bring your friends and enjoy an engaging and inspiring afternoon with us!
URL:https://elynevada.net/event/finding-nevada-wild-author-talk-book-signing/
LOCATION:White Pine Public Museum\, 2000 East Aultman Street\, Ely\, NV\, 89301\, United States
CATEGORIES:Arts & Culture,Community,Fundraiser,History
ATTACH;FMTTYPE=image/jpeg:https://elynevada.net/wp-content/uploads/2025/09/Finding-Nevada-Wild-Poster-Sydney-Martiznez-Visit.jpg
ORGANIZER;CN="White Pine Public Museum":MAILTO:wpmusuemnv@gmail.com
END:VEVENT
BEGIN:VEVENT
DTSTART;TZID=America/Los_Angeles:20250915T190000
DTEND;TZID=America/Los_Angeles:20250915T210000
DTSTAMP:20260422T233123
CREATED:20250911T204013Z
LAST-MODIFIED:20250911T204015Z
UID:10004058-1757962800-1757970000@elynevada.net
SUMMARY:American Graffiti FREE Showing
DESCRIPTION:American Graffiti FREE Showing\nCan’t wait to see the community turn out for American Graffiti Free Showing! \nWhere: Ely Central Theater \nWhen: Sept 15\, 2025 at 7:00pm \nVintage Chevrolet Club of America (VCCA) is coming through Ely\, NV on their 19th Annual Southwest Fall Tour. As part of their visit\, they have partnered with the Ely Central Theater and White Pine County Tourism and Recreation for a free showing of the 1973 film American Graffiti\, and the whole community is invited! \nThere will be a donation booth set up at the front of the theater. All donations benefit a local charity of VCAA’s choice. \nA giant group of vintage Chevrolets parked outside our iconic Ely Central Theater is not a sight you want to miss! Can’t wait to see the community turn out and welcome the club to town. \nVCAA will be in Ely Sept. 14-19\, providing a perfect lead-in to the racers that will be in town for Silver State Classic Challenge! \n \nAbout VCAA’s 19th Annual Southwest Fall Tour: \nSeptember 14-19\, 2025 | Ely\, NEVADA 19th Annual Southwest Fall Tour. Join us on the “Loneliest Road in America” for a week packed full of a passel of Wild West Nevada adventures. Ride the Ghost Train of Old Ely (pulled by the steam engine!)\, tour the depths of Lehman Caves\, visit the official Pony Express Site\, gander at the heavens through the Park Ranger’s telescopes and maybe visit a couple ghost towns\, and much more! Also\, there will be a lot of driving of your vintage Chevrolets and GMCs\, limited to 1912-54. Registration deadline is September 1\, 2025. For more info\, contact Dean Echols at 2049 N. Mohave St.\, Chino Valley\, AZ 86323\, 928-710-4325 or deanechols38@gmail.com. 
URL:https://elynevada.net/event/american-graffiti-free-showing/
LOCATION:Ely Central Theater\, 145 W 15th St\, Ely\, NV\, 89301\, United States
CATEGORIES:Arts & Culture,Community,Fundraiser
ATTACH;FMTTYPE=image/jpeg:https://elynevada.net/wp-content/uploads/2025/09/American-Graffiti-Showing-Facebook-Banner.jpg
END:VEVENT
BEGIN:VEVENT
DTSTART;TZID=America/Los_Angeles:20250628T100000
DTEND;TZID=America/Los_Angeles:20250628T160000
DTSTAMP:20260422T233123
CREATED:20250320T203555Z
LAST-MODIFIED:20250320T203617Z
UID:10003959-1751104800-1751126400@elynevada.net
SUMMARY:Ely Rock & Bottle Swap
DESCRIPTION:Ely Rock & Bottle Swap\nThe 6th Annual Ely Rock Show\, now the Ely Rock & Bottle Swap\, is set for Friday and Saturday\, June 27th-28th! Swing by the White Pine Public Museum from 10:00am – 4:00pm each day! \nThis is an opportunity for rock and bottle hounds to exhibit their quality specimens\, lapidary creations\, and jewelry. In addition to the vendors’ wares\, tour the museum! Historical maps\, pictures\, bottles\, and minerals from White Pine’s earliest days lie within. \nThis year also features family friendly activities\, including rock painting\, gold panning\, and more! \nA  $7.00 entry fee admits visitors to both the museum and Rock and Bottle Swap. Total Pricing is as follows: \n$7.00 Entry (ages 13 and over) \n$4.00 Entry (ages 5-12) \nFree (ages 4 and under) \nRefreshments will be available in the museum yard. \nWant to be a vendor?! Further information about registration and display spaces is available at the White Pine Public Museum by phone or email. \nPhone: (775) 289-4710 \nEmail: wpmuseumnv@gmail.com \nWebsite: wpmuseum.org \nThis year\, 2025\, marks the White Pine Public Museum’s 65th Anniversary! Celebrate by visiting the museum\, checking out the curated exhibits\, and becoming a Cave Bear Club member today! \nDon’t forget to also visit the Museum’s sister site\, the McGill Drugstore. A large time capsule\, the Drugstore houses products on the shelves that date back to the 1950s. Records still exist of every client the drugstore had\, and the building is a dedicated preservation site with free admission. An easy northbound drive of Ely and open 10am-3pm Thursdays to Sundays\, be sure to say hi to Keith for us! \nDiscover more Museums in White Pine County HERE!
URL:https://elynevada.net/event/ely-rock-bottle-swap/2025-06-28/
LOCATION:White Pine Public Museum\, 2000 East Aultman Street\, Ely\, NV\, 89301\, United States
CATEGORIES:Arts & Culture,Community,Fundraiser,History
ATTACH;FMTTYPE=image/png:https://elynevada.net/wp-content/uploads/2025/03/Rock-Bottle-Show.png
ORGANIZER;CN="White Pine Public Museum":MAILTO:wpmusuemnv@gmail.com
END:VEVENT
BEGIN:VEVENT
DTSTART;TZID=America/Los_Angeles:20250627T100000
DTEND;TZID=America/Los_Angeles:20250627T160000
DTSTAMP:20260422T233123
CREATED:20250320T203555Z
LAST-MODIFIED:20250320T203617Z
UID:10003958-1751018400-1751040000@elynevada.net
SUMMARY:Ely Rock & Bottle Swap
DESCRIPTION:Ely Rock & Bottle Swap\nThe 6th Annual Ely Rock Show\, now the Ely Rock & Bottle Swap\, is set for Friday and Saturday\, June 27th-28th! Swing by the White Pine Public Museum from 10:00am – 4:00pm each day! \nThis is an opportunity for rock and bottle hounds to exhibit their quality specimens\, lapidary creations\, and jewelry. In addition to the vendors’ wares\, tour the museum! Historical maps\, pictures\, bottles\, and minerals from White Pine’s earliest days lie within. \nThis year also features family friendly activities\, including rock painting\, gold panning\, and more! \nA  $7.00 entry fee admits visitors to both the museum and Rock and Bottle Swap. Total Pricing is as follows: \n$7.00 Entry (ages 13 and over) \n$4.00 Entry (ages 5-12) \nFree (ages 4 and under) \nRefreshments will be available in the museum yard. \nWant to be a vendor?! Further information about registration and display spaces is available at the White Pine Public Museum by phone or email. \nPhone: (775) 289-4710 \nEmail: wpmuseumnv@gmail.com \nWebsite: wpmuseum.org \nThis year\, 2025\, marks the White Pine Public Museum’s 65th Anniversary! Celebrate by visiting the museum\, checking out the curated exhibits\, and becoming a Cave Bear Club member today! \nDon’t forget to also visit the Museum’s sister site\, the McGill Drugstore. A large time capsule\, the Drugstore houses products on the shelves that date back to the 1950s. Records still exist of every client the drugstore had\, and the building is a dedicated preservation site with free admission. An easy northbound drive of Ely and open 10am-3pm Thursdays to Sundays\, be sure to say hi to Keith for us! \nDiscover more Museums in White Pine County HERE!
URL:https://elynevada.net/event/ely-rock-bottle-swap/2025-06-27/
LOCATION:White Pine Public Museum\, 2000 East Aultman Street\, Ely\, NV\, 89301\, United States
CATEGORIES:Arts & Culture,Community,Fundraiser,History
ATTACH;FMTTYPE=image/png:https://elynevada.net/wp-content/uploads/2025/03/Rock-Bottle-Show.png
ORGANIZER;CN="White Pine Public Museum":MAILTO:wpmusuemnv@gmail.com
END:VEVENT
BEGIN:VEVENT
DTSTART;TZID=America/Los_Angeles:20250131T170000
DTEND;TZID=America/Los_Angeles:20250131T210000
DTSTAMP:20260422T233123
CREATED:20250107T210247Z
LAST-MODIFIED:20250107T210248Z
UID:10003122-1738342800-1738357200@elynevada.net
SUMMARY:National Big Wig Day Happy Hour
DESCRIPTION:National Big Wig Day Happy Hour\nWear your finest wig and come celebrate Ted’s 80th Birthday while putting the FUN Fundraising. This event raises awareness and money for cancer research\, and for those who need wigs after an illness.
URL:https://elynevada.net/event/national-big-wig-day-happy-hour/
LOCATION:Bristlecone General Store\, 115 S. Baker Ave.\, Baker\, NV\, 89311\, United States
CATEGORIES:Arts & Culture,Community,Fundraiser,Party
ATTACH;FMTTYPE=image/jpeg:https://elynevada.net/wp-content/uploads/2025/01/Big-Wig-Thing-Baker.jpg
ORGANIZER;CN="Bristlecone General Store":MAILTO:stay@stargazernevada.com
END:VEVENT
END:VCALENDAR