BEGIN:VCALENDAR
VERSION:2.0
PRODID:-//Welcome To Ely - ECPv6.15.20//NONSGML v1.0//EN
CALSCALE:GREGORIAN
METHOD:PUBLISH
X-ORIGINAL-URL:https://elynevada.net
X-WR-CALDESC:Events for Welcome To Ely
REFRESH-INTERVAL;VALUE=DURATION:PT1H
X-Robots-Tag:noindex
X-PUBLISHED-TTL:PT1H
BEGIN:VTIMEZONE
TZID:America/Los_Angeles
BEGIN:DAYLIGHT
TZOFFSETFROM:-0800
TZOFFSETTO:-0700
TZNAME:PDT
DTSTART:20230312T100000
END:DAYLIGHT
BEGIN:STANDARD
TZOFFSETFROM:-0700
TZOFFSETTO:-0800
TZNAME:PST
DTSTART:20231105T090000
END:STANDARD
BEGIN:DAYLIGHT
TZOFFSETFROM:-0800
TZOFFSETTO:-0700
TZNAME:PDT
DTSTART:20240310T100000
END:DAYLIGHT
BEGIN:STANDARD
TZOFFSETFROM:-0700
TZOFFSETTO:-0800
TZNAME:PST
DTSTART:20241103T090000
END:STANDARD
BEGIN:DAYLIGHT
TZOFFSETFROM:-0800
TZOFFSETTO:-0700
TZNAME:PDT
DTSTART:20250309T100000
END:DAYLIGHT
BEGIN:STANDARD
TZOFFSETFROM:-0700
TZOFFSETTO:-0800
TZNAME:PST
DTSTART:20251102T090000
END:STANDARD
END:VTIMEZONE
BEGIN:VEVENT
DTSTART;TZID=America/Los_Angeles:20240701T093000
DTEND;TZID=America/Los_Angeles:20240701T230000
DTSTAMP:20260424T070252
CREATED:20240201T065113Z
LAST-MODIFIED:20240820T205023Z
UID:10002992-1719826200-1719874800@elynevada.net
SUMMARY:NNRY Excursion Train
DESCRIPTION:NNRY Excursion Train\nThe NNRY’s Regular Excursion Train through Robinson Canyon or Valley Vista. \nBook Your Ticket\, Discover Which Train is Running\, and More at www.NNRY.com!
URL:https://elynevada.net/event/nnry-excursion-train-2/2024-07-01/
LOCATION:Nevada Northern Railway\, 1100 Avenue A\, Ely\, NV\, 89301\, United States
CATEGORIES:History
ATTACH;FMTTYPE=image/jpeg:https://elynevada.net/wp-content/uploads/2020/11/Test-7.jpg
END:VEVENT
BEGIN:VEVENT
DTSTART;TZID=America/Los_Angeles:20240702T093000
DTEND;TZID=America/Los_Angeles:20240702T230000
DTSTAMP:20260424T070252
CREATED:20240201T065113Z
LAST-MODIFIED:20240820T205023Z
UID:10002993-1719912600-1719961200@elynevada.net
SUMMARY:NNRY Excursion Train
DESCRIPTION:NNRY Excursion Train\nThe NNRY’s Regular Excursion Train through Robinson Canyon or Valley Vista. \nBook Your Ticket\, Discover Which Train is Running\, and More at www.NNRY.com!
URL:https://elynevada.net/event/nnry-excursion-train-2/2024-07-02/
LOCATION:Nevada Northern Railway\, 1100 Avenue A\, Ely\, NV\, 89301\, United States
CATEGORIES:History
ATTACH;FMTTYPE=image/jpeg:https://elynevada.net/wp-content/uploads/2020/11/Test-7.jpg
END:VEVENT
BEGIN:VEVENT
DTSTART;TZID=America/Los_Angeles:20240703T093000
DTEND;TZID=America/Los_Angeles:20240703T230000
DTSTAMP:20260424T070252
CREATED:20240201T065113Z
LAST-MODIFIED:20240820T205023Z
UID:10002994-1719999000-1720047600@elynevada.net
SUMMARY:NNRY Excursion Train
DESCRIPTION:NNRY Excursion Train\nThe NNRY’s Regular Excursion Train through Robinson Canyon or Valley Vista. \nBook Your Ticket\, Discover Which Train is Running\, and More at www.NNRY.com!
URL:https://elynevada.net/event/nnry-excursion-train-2/2024-07-03/
LOCATION:Nevada Northern Railway\, 1100 Avenue A\, Ely\, NV\, 89301\, United States
CATEGORIES:History
ATTACH;FMTTYPE=image/jpeg:https://elynevada.net/wp-content/uploads/2020/11/Test-7.jpg
END:VEVENT
BEGIN:VEVENT
DTSTART;VALUE=DATE:20240704
DTEND;VALUE=DATE:20240705
DTSTAMP:20260424T070252
CREATED:20200603T011425Z
LAST-MODIFIED:20240322T204439Z
UID:10000115-1720051200-1720137599@elynevada.net
SUMMARY:Independence Day Parade/Fireworks
DESCRIPTION:Independence Day Parade/Fireworks\nJoin the White Pine Community to celebrate the 4th of July with our Independence Day Parade/Fireworks! What better way to celebrate your country’s independence than with your fellow Americans? The White Pine County Tourism and Recreation Board invites anyone anywhere to come and enjoy a free\, delicious breakfast to celebrate the independence of our country. \nThis breakfast will take place at the Bristlecone Convention Center located on the southeast corner of 6th Street and Lyons Avenue. \nParade begins at 11:00 a.m.\nThe patriotism of Ely\, Nevada shows through in its annual Fourth of July Parade. \nThe main street\, Highway 50\, is closed off to traffic and at 11 a.m. the fun begins. The parade begins with the American and Nevada state flags displayed by The Pony Express horseback riders. Following the flags\, the Grand Marshall waves to everyone. \nAfter the parade has ended\, there will be games\, face painting\, and booths at Broadbent Park\, where the parade began. The streets are always crowded at this once a year event\, so if you want a great view of the parade\, and the possibility of catching candy or frisbees\, get there early.  Many barbecues will be planned while waiting for the parade to begin\, so be prepared! \nFireworks\nThe fireworks are placed at the end of the day and are launched from the White Pine County Golf Course. \nDiscover more of what White Pine County has to offer by clicking HERE!
URL:https://elynevada.net/event/independence-day-parade-fireworks/
LOCATION:Ely\, NV\, 89301\, United States
CATEGORIES:Arts & Culture,Community,History
ATTACH;FMTTYPE=image/png:https://elynevada.net/wp-content/uploads/2020/06/Copy-of-Untitled-Design.png
END:VEVENT
BEGIN:VEVENT
DTSTART;TZID=America/Los_Angeles:20240704T163000
DTEND;TZID=America/Los_Angeles:20240704T180000
DTSTAMP:20260424T070252
CREATED:20240201T070211Z
LAST-MODIFIED:20240820T204434Z
UID:10002917-1720110600-1720116000@elynevada.net
SUMMARY:NNRY Robinson Canyon Excursion
DESCRIPTION:NNRY Robinson Canyon Excursion\nThe NNRY’s Regular Excursion Train through Robinson Canyon.
URL:https://elynevada.net/event/nnry-robinson-canyon-excursion/2024-07-04/
LOCATION:Nevada Northern Railway\, 1100 Avenue A\, Ely\, NV\, 89301\, United States
CATEGORIES:History
ATTACH;FMTTYPE=image/jpeg:https://elynevada.net/wp-content/uploads/2024/01/NNRY-Diesel-204.jpg
END:VEVENT
BEGIN:VEVENT
DTSTART;TZID=America/Los_Angeles:20240704T183000
DTEND;TZID=America/Los_Angeles:20240704T193000
DTSTAMP:20260424T070252
CREATED:20240201T081559Z
LAST-MODIFIED:20240503T214241Z
UID:10000978-1720117800-1720121400@elynevada.net
SUMMARY:Independence Day Fireworks Express
DESCRIPTION:Independence Day Fireworks Express\nJoin us for perhaps Ely’s very best Forth of July party! We start the evening with a trip “Up the hill” toward the Ruth Mining District. On the way back we stop the train at a perfect viewing location to see Ely’s Fourth of July fireworks display. Either watch from the train\, or bring your own lawn chairs. It’s a fun way to celebrate this Independence Day evening as a group with your train friends. \nTickets and More Info at www.NNRY.com
URL:https://elynevada.net/event/independence-day-fireworks-express/
LOCATION:Nevada Northern Railway\, 1100 Avenue A\, Ely\, NV\, 89301\, United States
CATEGORIES:Community,History
ATTACH;FMTTYPE=image/png:https://elynevada.net/wp-content/uploads/2024/02/Mask-group-2-2-1024x646-1.png
END:VEVENT
BEGIN:VEVENT
DTSTART;TZID=America/Los_Angeles:20240705T100000
DTEND;TZID=America/Los_Angeles:20240705T160000
DTSTAMP:20260424T070252
CREATED:20220126T050016Z
LAST-MODIFIED:20240503T214517Z
UID:10002744-1720173600-1720195200@elynevada.net
SUMMARY:Ely Renaissance Village Open
DESCRIPTION:Ely Renaissance Village Open!\nFor the ultimate heritage experience of White Pine County\, the Ely Renaissance Village may top the list.\nTour a total of nine houses\, seven of which have each been themed after a different ethnic background that helped shape our community. The Village is made for vacation planning and is open Fridays and Saturdays in the summer. Check out the 360 video below\, which allows you to click and drag different views as it provides you a feel for the site before visiting it in person: https://bit.ly/3hGMr5d\n\nLearn More Here!\n\nTravel Nevada
URL:https://elynevada.net/event/ely-renaissance-village-open/2024-07-05/
LOCATION:Ely Renaissance Village\, 400\, Ely\, NV\, 89301\, United States
CATEGORIES:Community,History
ATTACH;FMTTYPE=image/jpeg:https://elynevada.net/wp-content/uploads/2022/01/CoopyRenVillage4_SM.jpg
END:VEVENT
BEGIN:VEVENT
DTSTART;TZID=America/Los_Angeles:20240705T163000
DTEND;TZID=America/Los_Angeles:20240705T180000
DTSTAMP:20260424T070252
CREATED:20240201T070211Z
LAST-MODIFIED:20240820T204434Z
UID:10002918-1720197000-1720202400@elynevada.net
SUMMARY:NNRY Robinson Canyon Excursion
DESCRIPTION:NNRY Robinson Canyon Excursion\nThe NNRY’s Regular Excursion Train through Robinson Canyon.
URL:https://elynevada.net/event/nnry-robinson-canyon-excursion/2024-07-05/
LOCATION:Nevada Northern Railway\, 1100 Avenue A\, Ely\, NV\, 89301\, United States
CATEGORIES:History
ATTACH;FMTTYPE=image/jpeg:https://elynevada.net/wp-content/uploads/2024/01/NNRY-Diesel-204.jpg
END:VEVENT
BEGIN:VEVENT
DTSTART;TZID=America/Los_Angeles:20240706T100000
DTEND;TZID=America/Los_Angeles:20240706T160000
DTSTAMP:20260424T070252
CREATED:20220126T050016Z
LAST-MODIFIED:20240503T214517Z
UID:10002745-1720260000-1720281600@elynevada.net
SUMMARY:Ely Renaissance Village Open
DESCRIPTION:Ely Renaissance Village Open!\nFor the ultimate heritage experience of White Pine County\, the Ely Renaissance Village may top the list.\nTour a total of nine houses\, seven of which have each been themed after a different ethnic background that helped shape our community. The Village is made for vacation planning and is open Fridays and Saturdays in the summer. Check out the 360 video below\, which allows you to click and drag different views as it provides you a feel for the site before visiting it in person: https://bit.ly/3hGMr5d\n\nLearn More Here!\n\nTravel Nevada
URL:https://elynevada.net/event/ely-renaissance-village-open/2024-07-06/
LOCATION:Ely Renaissance Village\, 400\, Ely\, NV\, 89301\, United States
CATEGORIES:Community,History
ATTACH;FMTTYPE=image/jpeg:https://elynevada.net/wp-content/uploads/2022/01/CoopyRenVillage4_SM.jpg
END:VEVENT
BEGIN:VEVENT
DTSTART;TZID=America/Los_Angeles:20240707T113000
DTEND;TZID=America/Los_Angeles:20240707T130000
DTSTAMP:20260424T070252
CREATED:20240201T064344Z
LAST-MODIFIED:20240820T204722Z
UID:10002960-1720351800-1720357200@elynevada.net
SUMMARY:NNRY Sunday Mornin' Excursion Train
DESCRIPTION:NNRY Excursion Train\nThe NNRY’s Regular Excursion Train through Robinson Canyon or Valley Vista. \nBook Your Ticket\, Discover Which Train is Running\, and More at www.NNRY.com!
URL:https://elynevada.net/event/nnry-sunday-mornin-excursion-train/2024-07-07/
LOCATION:Nevada Northern Railway\, 1100 Avenue A\, Ely\, NV\, 89301\, United States
CATEGORIES:History
ATTACH;FMTTYPE=image/jpeg:https://elynevada.net/wp-content/uploads/2020/11/Test-7.jpg
END:VEVENT
BEGIN:VEVENT
DTSTART;TZID=America/Los_Angeles:20240708T093000
DTEND;TZID=America/Los_Angeles:20240708T230000
DTSTAMP:20260424T070252
CREATED:20240201T065113Z
LAST-MODIFIED:20240820T205023Z
UID:10002995-1720431000-1720479600@elynevada.net
SUMMARY:NNRY Excursion Train
DESCRIPTION:NNRY Excursion Train\nThe NNRY’s Regular Excursion Train through Robinson Canyon or Valley Vista. \nBook Your Ticket\, Discover Which Train is Running\, and More at www.NNRY.com!
URL:https://elynevada.net/event/nnry-excursion-train-2/2024-07-08/
LOCATION:Nevada Northern Railway\, 1100 Avenue A\, Ely\, NV\, 89301\, United States
CATEGORIES:History
ATTACH;FMTTYPE=image/jpeg:https://elynevada.net/wp-content/uploads/2020/11/Test-7.jpg
END:VEVENT
BEGIN:VEVENT
DTSTART;TZID=America/Los_Angeles:20240709T093000
DTEND;TZID=America/Los_Angeles:20240709T230000
DTSTAMP:20260424T070252
CREATED:20240201T065113Z
LAST-MODIFIED:20240820T205023Z
UID:10002996-1720517400-1720566000@elynevada.net
SUMMARY:NNRY Excursion Train
DESCRIPTION:NNRY Excursion Train\nThe NNRY’s Regular Excursion Train through Robinson Canyon or Valley Vista. \nBook Your Ticket\, Discover Which Train is Running\, and More at www.NNRY.com!
URL:https://elynevada.net/event/nnry-excursion-train-2/2024-07-09/
LOCATION:Nevada Northern Railway\, 1100 Avenue A\, Ely\, NV\, 89301\, United States
CATEGORIES:History
ATTACH;FMTTYPE=image/jpeg:https://elynevada.net/wp-content/uploads/2020/11/Test-7.jpg
END:VEVENT
BEGIN:VEVENT
DTSTART;TZID=America/Los_Angeles:20240710T093000
DTEND;TZID=America/Los_Angeles:20240710T230000
DTSTAMP:20260424T070252
CREATED:20240201T065113Z
LAST-MODIFIED:20240820T205023Z
UID:10002997-1720603800-1720652400@elynevada.net
SUMMARY:NNRY Excursion Train
DESCRIPTION:NNRY Excursion Train\nThe NNRY’s Regular Excursion Train through Robinson Canyon or Valley Vista. \nBook Your Ticket\, Discover Which Train is Running\, and More at www.NNRY.com!
URL:https://elynevada.net/event/nnry-excursion-train-2/2024-07-10/
LOCATION:Nevada Northern Railway\, 1100 Avenue A\, Ely\, NV\, 89301\, United States
CATEGORIES:History
ATTACH;FMTTYPE=image/jpeg:https://elynevada.net/wp-content/uploads/2020/11/Test-7.jpg
END:VEVENT
BEGIN:VEVENT
DTSTART;TZID=America/Los_Angeles:20240711T163000
DTEND;TZID=America/Los_Angeles:20240711T180000
DTSTAMP:20260424T070252
CREATED:20240201T070211Z
LAST-MODIFIED:20240820T204434Z
UID:10002919-1720715400-1720720800@elynevada.net
SUMMARY:NNRY Robinson Canyon Excursion
DESCRIPTION:NNRY Robinson Canyon Excursion\nThe NNRY’s Regular Excursion Train through Robinson Canyon.
URL:https://elynevada.net/event/nnry-robinson-canyon-excursion/2024-07-11/
LOCATION:Nevada Northern Railway\, 1100 Avenue A\, Ely\, NV\, 89301\, United States
CATEGORIES:History
ATTACH;FMTTYPE=image/jpeg:https://elynevada.net/wp-content/uploads/2024/01/NNRY-Diesel-204.jpg
END:VEVENT
BEGIN:VEVENT
DTSTART;TZID=America/Los_Angeles:20240712T100000
DTEND;TZID=America/Los_Angeles:20240712T160000
DTSTAMP:20260424T070252
CREATED:20220126T050016Z
LAST-MODIFIED:20240503T214517Z
UID:10002746-1720778400-1720800000@elynevada.net
SUMMARY:Ely Renaissance Village Open
DESCRIPTION:Ely Renaissance Village Open!\nFor the ultimate heritage experience of White Pine County\, the Ely Renaissance Village may top the list.\nTour a total of nine houses\, seven of which have each been themed after a different ethnic background that helped shape our community. The Village is made for vacation planning and is open Fridays and Saturdays in the summer. Check out the 360 video below\, which allows you to click and drag different views as it provides you a feel for the site before visiting it in person: https://bit.ly/3hGMr5d\n\nLearn More Here!\n\nTravel Nevada
URL:https://elynevada.net/event/ely-renaissance-village-open/2024-07-12/
LOCATION:Ely Renaissance Village\, 400\, Ely\, NV\, 89301\, United States
CATEGORIES:Community,History
ATTACH;FMTTYPE=image/jpeg:https://elynevada.net/wp-content/uploads/2022/01/CoopyRenVillage4_SM.jpg
END:VEVENT
BEGIN:VEVENT
DTSTART;TZID=America/Los_Angeles:20240712T163000
DTEND;TZID=America/Los_Angeles:20240712T180000
DTSTAMP:20260424T070252
CREATED:20240201T070211Z
LAST-MODIFIED:20240820T204434Z
UID:10002920-1720801800-1720807200@elynevada.net
SUMMARY:NNRY Robinson Canyon Excursion
DESCRIPTION:NNRY Robinson Canyon Excursion\nThe NNRY’s Regular Excursion Train through Robinson Canyon.
URL:https://elynevada.net/event/nnry-robinson-canyon-excursion/2024-07-12/
LOCATION:Nevada Northern Railway\, 1100 Avenue A\, Ely\, NV\, 89301\, United States
CATEGORIES:History
ATTACH;FMTTYPE=image/jpeg:https://elynevada.net/wp-content/uploads/2024/01/NNRY-Diesel-204.jpg
END:VEVENT
BEGIN:VEVENT
DTSTART;TZID=America/Los_Angeles:20240713T100000
DTEND;TZID=America/Los_Angeles:20240713T160000
DTSTAMP:20260424T070252
CREATED:20220126T050016Z
LAST-MODIFIED:20240503T214517Z
UID:10002747-1720864800-1720886400@elynevada.net
SUMMARY:Ely Renaissance Village Open
DESCRIPTION:Ely Renaissance Village Open!\nFor the ultimate heritage experience of White Pine County\, the Ely Renaissance Village may top the list.\nTour a total of nine houses\, seven of which have each been themed after a different ethnic background that helped shape our community. The Village is made for vacation planning and is open Fridays and Saturdays in the summer. Check out the 360 video below\, which allows you to click and drag different views as it provides you a feel for the site before visiting it in person: https://bit.ly/3hGMr5d\n\nLearn More Here!\n\nTravel Nevada
URL:https://elynevada.net/event/ely-renaissance-village-open/2024-07-13/
LOCATION:Ely Renaissance Village\, 400\, Ely\, NV\, 89301\, United States
CATEGORIES:Community,History
ATTACH;FMTTYPE=image/jpeg:https://elynevada.net/wp-content/uploads/2022/01/CoopyRenVillage4_SM.jpg
END:VEVENT
BEGIN:VEVENT
DTSTART;TZID=America/Los_Angeles:20240714T113000
DTEND;TZID=America/Los_Angeles:20240714T130000
DTSTAMP:20260424T070252
CREATED:20240201T064344Z
LAST-MODIFIED:20240820T204722Z
UID:10002961-1720956600-1720962000@elynevada.net
SUMMARY:NNRY Sunday Mornin' Excursion Train
DESCRIPTION:NNRY Excursion Train\nThe NNRY’s Regular Excursion Train through Robinson Canyon or Valley Vista. \nBook Your Ticket\, Discover Which Train is Running\, and More at www.NNRY.com!
URL:https://elynevada.net/event/nnry-sunday-mornin-excursion-train/2024-07-14/
LOCATION:Nevada Northern Railway\, 1100 Avenue A\, Ely\, NV\, 89301\, United States
CATEGORIES:History
ATTACH;FMTTYPE=image/jpeg:https://elynevada.net/wp-content/uploads/2020/11/Test-7.jpg
END:VEVENT
BEGIN:VEVENT
DTSTART;TZID=America/Los_Angeles:20240715T093000
DTEND;TZID=America/Los_Angeles:20240715T230000
DTSTAMP:20260424T070252
CREATED:20240201T065113Z
LAST-MODIFIED:20240820T205023Z
UID:10002998-1721035800-1721084400@elynevada.net
SUMMARY:NNRY Excursion Train
DESCRIPTION:NNRY Excursion Train\nThe NNRY’s Regular Excursion Train through Robinson Canyon or Valley Vista. \nBook Your Ticket\, Discover Which Train is Running\, and More at www.NNRY.com!
URL:https://elynevada.net/event/nnry-excursion-train-2/2024-07-15/
LOCATION:Nevada Northern Railway\, 1100 Avenue A\, Ely\, NV\, 89301\, United States
CATEGORIES:History
ATTACH;FMTTYPE=image/jpeg:https://elynevada.net/wp-content/uploads/2020/11/Test-7.jpg
END:VEVENT
BEGIN:VEVENT
DTSTART;TZID=America/Los_Angeles:20240716T093000
DTEND;TZID=America/Los_Angeles:20240716T230000
DTSTAMP:20260424T070252
CREATED:20240201T065113Z
LAST-MODIFIED:20240820T205023Z
UID:10002999-1721122200-1721170800@elynevada.net
SUMMARY:NNRY Excursion Train
DESCRIPTION:NNRY Excursion Train\nThe NNRY’s Regular Excursion Train through Robinson Canyon or Valley Vista. \nBook Your Ticket\, Discover Which Train is Running\, and More at www.NNRY.com!
URL:https://elynevada.net/event/nnry-excursion-train-2/2024-07-16/
LOCATION:Nevada Northern Railway\, 1100 Avenue A\, Ely\, NV\, 89301\, United States
CATEGORIES:History
ATTACH;FMTTYPE=image/jpeg:https://elynevada.net/wp-content/uploads/2020/11/Test-7.jpg
END:VEVENT
BEGIN:VEVENT
DTSTART;TZID=America/Los_Angeles:20240717T093000
DTEND;TZID=America/Los_Angeles:20240717T230000
DTSTAMP:20260424T070252
CREATED:20240201T065113Z
LAST-MODIFIED:20240820T205023Z
UID:10003000-1721208600-1721257200@elynevada.net
SUMMARY:NNRY Excursion Train
DESCRIPTION:NNRY Excursion Train\nThe NNRY’s Regular Excursion Train through Robinson Canyon or Valley Vista. \nBook Your Ticket\, Discover Which Train is Running\, and More at www.NNRY.com!
URL:https://elynevada.net/event/nnry-excursion-train-2/2024-07-17/
LOCATION:Nevada Northern Railway\, 1100 Avenue A\, Ely\, NV\, 89301\, United States
CATEGORIES:History
ATTACH;FMTTYPE=image/jpeg:https://elynevada.net/wp-content/uploads/2020/11/Test-7.jpg
END:VEVENT
BEGIN:VEVENT
DTSTART;TZID=America/Los_Angeles:20240718T163000
DTEND;TZID=America/Los_Angeles:20240718T180000
DTSTAMP:20260424T070252
CREATED:20240201T070211Z
LAST-MODIFIED:20240820T204434Z
UID:10002921-1721320200-1721325600@elynevada.net
SUMMARY:NNRY Robinson Canyon Excursion
DESCRIPTION:NNRY Robinson Canyon Excursion\nThe NNRY’s Regular Excursion Train through Robinson Canyon.
URL:https://elynevada.net/event/nnry-robinson-canyon-excursion/2024-07-18/
LOCATION:Nevada Northern Railway\, 1100 Avenue A\, Ely\, NV\, 89301\, United States
CATEGORIES:History
ATTACH;FMTTYPE=image/jpeg:https://elynevada.net/wp-content/uploads/2024/01/NNRY-Diesel-204.jpg
END:VEVENT
BEGIN:VEVENT
DTSTART;TZID=America/Los_Angeles:20240719T100000
DTEND;TZID=America/Los_Angeles:20240719T160000
DTSTAMP:20260424T070252
CREATED:20220126T050016Z
LAST-MODIFIED:20240503T214517Z
UID:10002748-1721383200-1721404800@elynevada.net
SUMMARY:Ely Renaissance Village Open
DESCRIPTION:Ely Renaissance Village Open!\nFor the ultimate heritage experience of White Pine County\, the Ely Renaissance Village may top the list.\nTour a total of nine houses\, seven of which have each been themed after a different ethnic background that helped shape our community. The Village is made for vacation planning and is open Fridays and Saturdays in the summer. Check out the 360 video below\, which allows you to click and drag different views as it provides you a feel for the site before visiting it in person: https://bit.ly/3hGMr5d\n\nLearn More Here!\n\nTravel Nevada
URL:https://elynevada.net/event/ely-renaissance-village-open/2024-07-19/
LOCATION:Ely Renaissance Village\, 400\, Ely\, NV\, 89301\, United States
CATEGORIES:Community,History
ATTACH;FMTTYPE=image/jpeg:https://elynevada.net/wp-content/uploads/2022/01/CoopyRenVillage4_SM.jpg
END:VEVENT
BEGIN:VEVENT
DTSTART;TZID=America/Los_Angeles:20240719T163000
DTEND;TZID=America/Los_Angeles:20240719T180000
DTSTAMP:20260424T070252
CREATED:20240201T070211Z
LAST-MODIFIED:20240820T204434Z
UID:10002922-1721406600-1721412000@elynevada.net
SUMMARY:NNRY Robinson Canyon Excursion
DESCRIPTION:NNRY Robinson Canyon Excursion\nThe NNRY’s Regular Excursion Train through Robinson Canyon.
URL:https://elynevada.net/event/nnry-robinson-canyon-excursion/2024-07-19/
LOCATION:Nevada Northern Railway\, 1100 Avenue A\, Ely\, NV\, 89301\, United States
CATEGORIES:History
ATTACH;FMTTYPE=image/jpeg:https://elynevada.net/wp-content/uploads/2024/01/NNRY-Diesel-204.jpg
END:VEVENT
BEGIN:VEVENT
DTSTART;TZID=America/Los_Angeles:20240720T100000
DTEND;TZID=America/Los_Angeles:20240720T160000
DTSTAMP:20260424T070252
CREATED:20220126T050016Z
LAST-MODIFIED:20240503T214517Z
UID:10002749-1721469600-1721491200@elynevada.net
SUMMARY:Ely Renaissance Village Open
DESCRIPTION:Ely Renaissance Village Open!\nFor the ultimate heritage experience of White Pine County\, the Ely Renaissance Village may top the list.\nTour a total of nine houses\, seven of which have each been themed after a different ethnic background that helped shape our community. The Village is made for vacation planning and is open Fridays and Saturdays in the summer. Check out the 360 video below\, which allows you to click and drag different views as it provides you a feel for the site before visiting it in person: https://bit.ly/3hGMr5d\n\nLearn More Here!\n\nTravel Nevada
URL:https://elynevada.net/event/ely-renaissance-village-open/2024-07-20/
LOCATION:Ely Renaissance Village\, 400\, Ely\, NV\, 89301\, United States
CATEGORIES:Community,History
ATTACH;FMTTYPE=image/jpeg:https://elynevada.net/wp-content/uploads/2022/01/CoopyRenVillage4_SM.jpg
END:VEVENT
BEGIN:VEVENT
DTSTART;TZID=America/Los_Angeles:20240721T113000
DTEND;TZID=America/Los_Angeles:20240721T130000
DTSTAMP:20260424T070253
CREATED:20240201T064344Z
LAST-MODIFIED:20240820T204722Z
UID:10002962-1721561400-1721566800@elynevada.net
SUMMARY:NNRY Sunday Mornin' Excursion Train
DESCRIPTION:NNRY Excursion Train\nThe NNRY’s Regular Excursion Train through Robinson Canyon or Valley Vista. \nBook Your Ticket\, Discover Which Train is Running\, and More at www.NNRY.com!
URL:https://elynevada.net/event/nnry-sunday-mornin-excursion-train/2024-07-21/
LOCATION:Nevada Northern Railway\, 1100 Avenue A\, Ely\, NV\, 89301\, United States
CATEGORIES:History
ATTACH;FMTTYPE=image/jpeg:https://elynevada.net/wp-content/uploads/2020/11/Test-7.jpg
END:VEVENT
BEGIN:VEVENT
DTSTART;TZID=America/Los_Angeles:20240722T093000
DTEND;TZID=America/Los_Angeles:20240722T230000
DTSTAMP:20260424T070253
CREATED:20240201T065113Z
LAST-MODIFIED:20240820T205023Z
UID:10003001-1721640600-1721689200@elynevada.net
SUMMARY:NNRY Excursion Train
DESCRIPTION:NNRY Excursion Train\nThe NNRY’s Regular Excursion Train through Robinson Canyon or Valley Vista. \nBook Your Ticket\, Discover Which Train is Running\, and More at www.NNRY.com!
URL:https://elynevada.net/event/nnry-excursion-train-2/2024-07-22/
LOCATION:Nevada Northern Railway\, 1100 Avenue A\, Ely\, NV\, 89301\, United States
CATEGORIES:History
ATTACH;FMTTYPE=image/jpeg:https://elynevada.net/wp-content/uploads/2020/11/Test-7.jpg
END:VEVENT
BEGIN:VEVENT
DTSTART;TZID=America/Los_Angeles:20240723T093000
DTEND;TZID=America/Los_Angeles:20240723T230000
DTSTAMP:20260424T070253
CREATED:20240201T065113Z
LAST-MODIFIED:20240820T205023Z
UID:10003002-1721727000-1721775600@elynevada.net
SUMMARY:NNRY Excursion Train
DESCRIPTION:NNRY Excursion Train\nThe NNRY’s Regular Excursion Train through Robinson Canyon or Valley Vista. \nBook Your Ticket\, Discover Which Train is Running\, and More at www.NNRY.com!
URL:https://elynevada.net/event/nnry-excursion-train-2/2024-07-23/
LOCATION:Nevada Northern Railway\, 1100 Avenue A\, Ely\, NV\, 89301\, United States
CATEGORIES:History
ATTACH;FMTTYPE=image/jpeg:https://elynevada.net/wp-content/uploads/2020/11/Test-7.jpg
END:VEVENT
BEGIN:VEVENT
DTSTART;TZID=America/Los_Angeles:20240724T093000
DTEND;TZID=America/Los_Angeles:20240724T230000
DTSTAMP:20260424T070253
CREATED:20240201T065113Z
LAST-MODIFIED:20240820T205023Z
UID:10003003-1721813400-1721862000@elynevada.net
SUMMARY:NNRY Excursion Train
DESCRIPTION:NNRY Excursion Train\nThe NNRY’s Regular Excursion Train through Robinson Canyon or Valley Vista. \nBook Your Ticket\, Discover Which Train is Running\, and More at www.NNRY.com!
URL:https://elynevada.net/event/nnry-excursion-train-2/2024-07-24/
LOCATION:Nevada Northern Railway\, 1100 Avenue A\, Ely\, NV\, 89301\, United States
CATEGORIES:History
ATTACH;FMTTYPE=image/jpeg:https://elynevada.net/wp-content/uploads/2020/11/Test-7.jpg
END:VEVENT
BEGIN:VEVENT
DTSTART;TZID=America/Los_Angeles:20240725T163000
DTEND;TZID=America/Los_Angeles:20240725T180000
DTSTAMP:20260424T070253
CREATED:20240201T070211Z
LAST-MODIFIED:20240820T204434Z
UID:10002923-1721925000-1721930400@elynevada.net
SUMMARY:NNRY Robinson Canyon Excursion
DESCRIPTION:NNRY Robinson Canyon Excursion\nThe NNRY’s Regular Excursion Train through Robinson Canyon.
URL:https://elynevada.net/event/nnry-robinson-canyon-excursion/2024-07-25/
LOCATION:Nevada Northern Railway\, 1100 Avenue A\, Ely\, NV\, 89301\, United States
CATEGORIES:History
ATTACH;FMTTYPE=image/jpeg:https://elynevada.net/wp-content/uploads/2024/01/NNRY-Diesel-204.jpg
END:VEVENT
END:VCALENDAR