BEGIN:VCALENDAR
VERSION:2.0
PRODID:-//Welcome To Ely - ECPv6.15.20//NONSGML v1.0//EN
CALSCALE:GREGORIAN
METHOD:PUBLISH
X-WR-CALNAME:Welcome To Ely
X-ORIGINAL-URL:https://elynevada.net
X-WR-CALDESC:Events for Welcome To Ely
REFRESH-INTERVAL;VALUE=DURATION:PT1H
X-Robots-Tag:noindex
X-PUBLISHED-TTL:PT1H
BEGIN:VTIMEZONE
TZID:America/Los_Angeles
BEGIN:DAYLIGHT
TZOFFSETFROM:-0800
TZOFFSETTO:-0700
TZNAME:PDT
DTSTART:20230312T100000
END:DAYLIGHT
BEGIN:STANDARD
TZOFFSETFROM:-0700
TZOFFSETTO:-0800
TZNAME:PST
DTSTART:20231105T090000
END:STANDARD
BEGIN:DAYLIGHT
TZOFFSETFROM:-0800
TZOFFSETTO:-0700
TZNAME:PDT
DTSTART:20240310T100000
END:DAYLIGHT
BEGIN:STANDARD
TZOFFSETFROM:-0700
TZOFFSETTO:-0800
TZNAME:PST
DTSTART:20241103T090000
END:STANDARD
BEGIN:DAYLIGHT
TZOFFSETFROM:-0800
TZOFFSETTO:-0700
TZNAME:PDT
DTSTART:20250309T100000
END:DAYLIGHT
BEGIN:STANDARD
TZOFFSETFROM:-0700
TZOFFSETTO:-0800
TZNAME:PST
DTSTART:20251102T090000
END:STANDARD
END:VTIMEZONE
BEGIN:VEVENT
DTSTART;VALUE=DATE:20240830
DTEND;VALUE=DATE:20240902
DTSTAMP:20260424T034759
CREATED:20200710T060533Z
LAST-MODIFIED:20240813T174120Z
UID:10000131-1724976000-1725235199@elynevada.net
SUMMARY:McGill's Annual Labor Day Weekend
DESCRIPTION:McGill’s Annual Labor Day Weekend\nCome join the White Pine Community in McGill to celebrate McGill’s Annual Labor Day weekend. \n \nWe will be kicking off the festivities with a parade on Main Street. Line up for the parade will be behind the McGill grade school at 5:30 p.m. . The parade will start at 4th and Avenue G and go to 4th and Avenue K where the street dance will begin. There will be locals selling food! The McGill volunteer fire department will have a full bar set up for your enjoyment. Please drink responsibly. The street dance will go from 6:30 p.m. to 11 pm. \nSaturday at the McGill Swimming Pool there will be the annual “Big Splash” town barbecue starting at 11 a.m. The McGill town council has provided free hot dogs and hamburgers for the community . We will also have vendor booths\, a bounce house for all kids to enjoy and other activities. Please remember the McGill Swimming Pool is free and they have they’re big splash for the end of summer with all kind of games for children. \nSunday starting at 4:00 p.m. at the McGill baseball park we will have our softball game McGill fire department vs White Pine County Sheriff’s Office. There is a $2 gate fee all proceeds will go to the MRA for the ballpark fund. Fireworks will be provided by Great Basin Pyrotechnics at 9 p.m. at the McGill ballpark. We hope to see you all there! \n \nFind Out What More To Do In White Pine HERE!
URL:https://elynevada.net/event/mcgills-annual-labor-day-weekend/
LOCATION:McGill\, Nevada\, McGill\, NV\, 89318\, United States
CATEGORIES:Arts & Culture,Community,History
ATTACH;FMTTYPE=image/png:https://elynevada.net/wp-content/uploads/2020/07/Copy-of-Untitled-Design-9.png
END:VEVENT
BEGIN:VEVENT
DTSTART;TZID=America/Los_Angeles:20240901T113000
DTEND;TZID=America/Los_Angeles:20240901T130000
DTSTAMP:20260424T034759
CREATED:20240201T064344Z
LAST-MODIFIED:20240820T204722Z
UID:10002968-1725190200-1725195600@elynevada.net
SUMMARY:NNRY Sunday Mornin' Excursion Train
DESCRIPTION:NNRY Excursion Train\nThe NNRY’s Regular Excursion Train through Robinson Canyon or Valley Vista. \nBook Your Ticket\, Discover Which Train is Running\, and More at www.NNRY.com!
URL:https://elynevada.net/event/nnry-sunday-mornin-excursion-train/2024-09-01/
LOCATION:Nevada Northern Railway\, 1100 Avenue A\, Ely\, NV\, 89301\, United States
CATEGORIES:History
ATTACH;FMTTYPE=image/jpeg:https://elynevada.net/wp-content/uploads/2020/11/Test-7.jpg
END:VEVENT
BEGIN:VEVENT
DTSTART;TZID=America/Los_Angeles:20240902T093000
DTEND;TZID=America/Los_Angeles:20240902T230000
DTSTAMP:20260424T034759
CREATED:20240201T065113Z
LAST-MODIFIED:20240820T205023Z
UID:10003019-1725269400-1725318000@elynevada.net
SUMMARY:NNRY Excursion Train
DESCRIPTION:NNRY Excursion Train\nThe NNRY’s Regular Excursion Train through Robinson Canyon or Valley Vista. \nBook Your Ticket\, Discover Which Train is Running\, and More at www.NNRY.com!
URL:https://elynevada.net/event/nnry-excursion-train-2/2024-09-02/
LOCATION:Nevada Northern Railway\, 1100 Avenue A\, Ely\, NV\, 89301\, United States
CATEGORIES:History
ATTACH;FMTTYPE=image/jpeg:https://elynevada.net/wp-content/uploads/2020/11/Test-7.jpg
END:VEVENT
BEGIN:VEVENT
DTSTART;TZID=America/Los_Angeles:20240903T093000
DTEND;TZID=America/Los_Angeles:20240903T230000
DTSTAMP:20260424T034759
CREATED:20240201T065113Z
LAST-MODIFIED:20240820T205023Z
UID:10003020-1725355800-1725404400@elynevada.net
SUMMARY:NNRY Excursion Train
DESCRIPTION:NNRY Excursion Train\nThe NNRY’s Regular Excursion Train through Robinson Canyon or Valley Vista. \nBook Your Ticket\, Discover Which Train is Running\, and More at www.NNRY.com!
URL:https://elynevada.net/event/nnry-excursion-train-2/2024-09-03/
LOCATION:Nevada Northern Railway\, 1100 Avenue A\, Ely\, NV\, 89301\, United States
CATEGORIES:History
ATTACH;FMTTYPE=image/jpeg:https://elynevada.net/wp-content/uploads/2020/11/Test-7.jpg
END:VEVENT
BEGIN:VEVENT
DTSTART;TZID=America/Los_Angeles:20240904T093000
DTEND;TZID=America/Los_Angeles:20240904T230000
DTSTAMP:20260424T034759
CREATED:20240201T065113Z
LAST-MODIFIED:20240820T205023Z
UID:10003021-1725442200-1725490800@elynevada.net
SUMMARY:NNRY Excursion Train
DESCRIPTION:NNRY Excursion Train\nThe NNRY’s Regular Excursion Train through Robinson Canyon or Valley Vista. \nBook Your Ticket\, Discover Which Train is Running\, and More at www.NNRY.com!
URL:https://elynevada.net/event/nnry-excursion-train-2/2024-09-04/
LOCATION:Nevada Northern Railway\, 1100 Avenue A\, Ely\, NV\, 89301\, United States
CATEGORIES:History
ATTACH;FMTTYPE=image/jpeg:https://elynevada.net/wp-content/uploads/2020/11/Test-7.jpg
END:VEVENT
BEGIN:VEVENT
DTSTART;TZID=America/Los_Angeles:20240905T163000
DTEND;TZID=America/Los_Angeles:20240905T180000
DTSTAMP:20260424T034759
CREATED:20240201T070211Z
LAST-MODIFIED:20240820T204434Z
UID:10002935-1725553800-1725559200@elynevada.net
SUMMARY:NNRY Robinson Canyon Excursion
DESCRIPTION:NNRY Robinson Canyon Excursion\nThe NNRY’s Regular Excursion Train through Robinson Canyon.
URL:https://elynevada.net/event/nnry-robinson-canyon-excursion/2024-09-05/
LOCATION:Nevada Northern Railway\, 1100 Avenue A\, Ely\, NV\, 89301\, United States
CATEGORIES:History
ATTACH;FMTTYPE=image/jpeg:https://elynevada.net/wp-content/uploads/2024/01/NNRY-Diesel-204.jpg
END:VEVENT
BEGIN:VEVENT
DTSTART;TZID=America/Los_Angeles:20240906T100000
DTEND;TZID=America/Los_Angeles:20240906T160000
DTSTAMP:20260424T034759
CREATED:20220126T050016Z
LAST-MODIFIED:20240503T214517Z
UID:10002762-1725616800-1725638400@elynevada.net
SUMMARY:Ely Renaissance Village Open
DESCRIPTION:Ely Renaissance Village Open!\nFor the ultimate heritage experience of White Pine County\, the Ely Renaissance Village may top the list.\nTour a total of nine houses\, seven of which have each been themed after a different ethnic background that helped shape our community. The Village is made for vacation planning and is open Fridays and Saturdays in the summer. Check out the 360 video below\, which allows you to click and drag different views as it provides you a feel for the site before visiting it in person: https://bit.ly/3hGMr5d\n\nLearn More Here!\n\nTravel Nevada
URL:https://elynevada.net/event/ely-renaissance-village-open/2024-09-06/
LOCATION:Ely Renaissance Village\, 400\, Ely\, NV\, 89301\, United States
CATEGORIES:Community,History
ATTACH;FMTTYPE=image/jpeg:https://elynevada.net/wp-content/uploads/2022/01/CoopyRenVillage4_SM.jpg
END:VEVENT
BEGIN:VEVENT
DTSTART;TZID=America/Los_Angeles:20240906T163000
DTEND;TZID=America/Los_Angeles:20240906T180000
DTSTAMP:20260424T034759
CREATED:20240201T070211Z
LAST-MODIFIED:20240820T204434Z
UID:10002936-1725640200-1725645600@elynevada.net
SUMMARY:NNRY Robinson Canyon Excursion
DESCRIPTION:NNRY Robinson Canyon Excursion\nThe NNRY’s Regular Excursion Train through Robinson Canyon.
URL:https://elynevada.net/event/nnry-robinson-canyon-excursion/2024-09-06/
LOCATION:Nevada Northern Railway\, 1100 Avenue A\, Ely\, NV\, 89301\, United States
CATEGORIES:History
ATTACH;FMTTYPE=image/jpeg:https://elynevada.net/wp-content/uploads/2024/01/NNRY-Diesel-204.jpg
END:VEVENT
BEGIN:VEVENT
DTSTART;TZID=America/Los_Angeles:20240907T073000
DTEND;TZID=America/Los_Angeles:20240907T140000
DTSTAMP:20260424T034759
CREATED:20240131T061237Z
LAST-MODIFIED:20240725T180543Z
UID:10000723-1725694200-1725717600@elynevada.net
SUMMARY:Race the Rails 2024
DESCRIPTION:Race the Rails 2024\nThe steam locomotive and the bicycle were invented nearly 10 years apart. Both changed the way we travel\, but which will prevail on September 7th at the Race The Rails? At the sound of the train whistle\, mountain and road bikers race to see who can get back to the depot before the train. \nMountain bikers test their speed and agility on a challenging 10 mile course through the beautiful mountains surrounding Ely\, while road bikers prove their speed and endurance on a 25 mile course along roads and highways in the area. Everyone who finishes the course will receive a finisher’s medal. \nThis is not a regular race against time\, or your fellow riders. It’s a race against one of history’s most powerful inventions! It’s Race the Rails – 2024!\nRegister for Race the Rails 2024 HERE! \nSee what Ely offers in lodging by clicking HERE! \nEly is a remote mountain town of 4\,000 where history\, art\, and outdoor adventure run deep. In the nearby Great Basin National Park\, travelers have the chance to descend into the depths of the Lehman Cave system to explore a series of limestone and marble caverns full of huge stalagmites and other wild rock formations. The park is also home to the snow-capped Wheeler Peak which\, at 13\,000 feet\, is the second-tallest mountain in Nevada. \nFollow Updates on Our Facebook HERE!
URL:https://elynevada.net/event/race-the-rails-2024/
LOCATION:Ely\, NV\, 89301\, United States
CATEGORIES:History,Races,Sports
ATTACH;FMTTYPE=image/jpeg:https://elynevada.net/wp-content/uploads/2024/01/20230908-DSC01879-scaled.jpg
ORGANIZER;CN="White PIne County Tourism and Recreation":MAILTO:nicole.collard@elynevada.net
END:VEVENT
BEGIN:VEVENT
DTSTART;TZID=America/Los_Angeles:20240907T100000
DTEND;TZID=America/Los_Angeles:20240907T160000
DTSTAMP:20260424T034759
CREATED:20220126T050016Z
LAST-MODIFIED:20240503T214517Z
UID:10002763-1725703200-1725724800@elynevada.net
SUMMARY:Ely Renaissance Village Open
DESCRIPTION:Ely Renaissance Village Open!\nFor the ultimate heritage experience of White Pine County\, the Ely Renaissance Village may top the list.\nTour a total of nine houses\, seven of which have each been themed after a different ethnic background that helped shape our community. The Village is made for vacation planning and is open Fridays and Saturdays in the summer. Check out the 360 video below\, which allows you to click and drag different views as it provides you a feel for the site before visiting it in person: https://bit.ly/3hGMr5d\n\nLearn More Here!\n\nTravel Nevada
URL:https://elynevada.net/event/ely-renaissance-village-open/2024-09-07/
LOCATION:Ely Renaissance Village\, 400\, Ely\, NV\, 89301\, United States
CATEGORIES:Community,History
ATTACH;FMTTYPE=image/jpeg:https://elynevada.net/wp-content/uploads/2022/01/CoopyRenVillage4_SM.jpg
END:VEVENT
BEGIN:VEVENT
DTSTART;TZID=America/Los_Angeles:20240908T113000
DTEND;TZID=America/Los_Angeles:20240908T130000
DTSTAMP:20260424T034759
CREATED:20240201T064344Z
LAST-MODIFIED:20240820T204722Z
UID:10002969-1725795000-1725800400@elynevada.net
SUMMARY:NNRY Sunday Mornin' Excursion Train
DESCRIPTION:NNRY Excursion Train\nThe NNRY’s Regular Excursion Train through Robinson Canyon or Valley Vista. \nBook Your Ticket\, Discover Which Train is Running\, and More at www.NNRY.com!
URL:https://elynevada.net/event/nnry-sunday-mornin-excursion-train/2024-09-08/
LOCATION:Nevada Northern Railway\, 1100 Avenue A\, Ely\, NV\, 89301\, United States
CATEGORIES:History
ATTACH;FMTTYPE=image/jpeg:https://elynevada.net/wp-content/uploads/2020/11/Test-7.jpg
END:VEVENT
BEGIN:VEVENT
DTSTART;TZID=America/Los_Angeles:20240909T093000
DTEND;TZID=America/Los_Angeles:20240909T230000
DTSTAMP:20260424T034759
CREATED:20240201T065113Z
LAST-MODIFIED:20240820T205023Z
UID:10003022-1725874200-1725922800@elynevada.net
SUMMARY:NNRY Excursion Train
DESCRIPTION:NNRY Excursion Train\nThe NNRY’s Regular Excursion Train through Robinson Canyon or Valley Vista. \nBook Your Ticket\, Discover Which Train is Running\, and More at www.NNRY.com!
URL:https://elynevada.net/event/nnry-excursion-train-2/2024-09-09/
LOCATION:Nevada Northern Railway\, 1100 Avenue A\, Ely\, NV\, 89301\, United States
CATEGORIES:History
ATTACH;FMTTYPE=image/jpeg:https://elynevada.net/wp-content/uploads/2020/11/Test-7.jpg
END:VEVENT
BEGIN:VEVENT
DTSTART;TZID=America/Los_Angeles:20240910T093000
DTEND;TZID=America/Los_Angeles:20240910T230000
DTSTAMP:20260424T034759
CREATED:20240201T065113Z
LAST-MODIFIED:20240820T205023Z
UID:10003023-1725960600-1726009200@elynevada.net
SUMMARY:NNRY Excursion Train
DESCRIPTION:NNRY Excursion Train\nThe NNRY’s Regular Excursion Train through Robinson Canyon or Valley Vista. \nBook Your Ticket\, Discover Which Train is Running\, and More at www.NNRY.com!
URL:https://elynevada.net/event/nnry-excursion-train-2/2024-09-10/
LOCATION:Nevada Northern Railway\, 1100 Avenue A\, Ely\, NV\, 89301\, United States
CATEGORIES:History
ATTACH;FMTTYPE=image/jpeg:https://elynevada.net/wp-content/uploads/2020/11/Test-7.jpg
END:VEVENT
BEGIN:VEVENT
DTSTART;TZID=America/Los_Angeles:20240911T093000
DTEND;TZID=America/Los_Angeles:20240911T230000
DTSTAMP:20260424T034759
CREATED:20240201T065113Z
LAST-MODIFIED:20240820T205023Z
UID:10003024-1726047000-1726095600@elynevada.net
SUMMARY:NNRY Excursion Train
DESCRIPTION:NNRY Excursion Train\nThe NNRY’s Regular Excursion Train through Robinson Canyon or Valley Vista. \nBook Your Ticket\, Discover Which Train is Running\, and More at www.NNRY.com!
URL:https://elynevada.net/event/nnry-excursion-train-2/2024-09-11/
LOCATION:Nevada Northern Railway\, 1100 Avenue A\, Ely\, NV\, 89301\, United States
CATEGORIES:History
ATTACH;FMTTYPE=image/jpeg:https://elynevada.net/wp-content/uploads/2020/11/Test-7.jpg
END:VEVENT
BEGIN:VEVENT
DTSTART;TZID=America/Los_Angeles:20240912T163000
DTEND;TZID=America/Los_Angeles:20240912T180000
DTSTAMP:20260424T034759
CREATED:20240201T070211Z
LAST-MODIFIED:20240820T204434Z
UID:10002937-1726158600-1726164000@elynevada.net
SUMMARY:NNRY Robinson Canyon Excursion
DESCRIPTION:NNRY Robinson Canyon Excursion\nThe NNRY’s Regular Excursion Train through Robinson Canyon.
URL:https://elynevada.net/event/nnry-robinson-canyon-excursion/2024-09-12/
LOCATION:Nevada Northern Railway\, 1100 Avenue A\, Ely\, NV\, 89301\, United States
CATEGORIES:History
ATTACH;FMTTYPE=image/jpeg:https://elynevada.net/wp-content/uploads/2024/01/NNRY-Diesel-204.jpg
END:VEVENT
BEGIN:VEVENT
DTSTART;TZID=America/Los_Angeles:20240913T100000
DTEND;TZID=America/Los_Angeles:20240913T160000
DTSTAMP:20260424T034759
CREATED:20220126T050016Z
LAST-MODIFIED:20240503T214517Z
UID:10002764-1726221600-1726243200@elynevada.net
SUMMARY:Ely Renaissance Village Open
DESCRIPTION:Ely Renaissance Village Open!\nFor the ultimate heritage experience of White Pine County\, the Ely Renaissance Village may top the list.\nTour a total of nine houses\, seven of which have each been themed after a different ethnic background that helped shape our community. The Village is made for vacation planning and is open Fridays and Saturdays in the summer. Check out the 360 video below\, which allows you to click and drag different views as it provides you a feel for the site before visiting it in person: https://bit.ly/3hGMr5d\n\nLearn More Here!\n\nTravel Nevada
URL:https://elynevada.net/event/ely-renaissance-village-open/2024-09-13/
LOCATION:Ely Renaissance Village\, 400\, Ely\, NV\, 89301\, United States
CATEGORIES:Community,History
ATTACH;FMTTYPE=image/jpeg:https://elynevada.net/wp-content/uploads/2022/01/CoopyRenVillage4_SM.jpg
END:VEVENT
BEGIN:VEVENT
DTSTART;TZID=America/Los_Angeles:20240913T163000
DTEND;TZID=America/Los_Angeles:20240913T180000
DTSTAMP:20260424T034759
CREATED:20240201T070211Z
LAST-MODIFIED:20240820T204434Z
UID:10002938-1726245000-1726250400@elynevada.net
SUMMARY:NNRY Robinson Canyon Excursion
DESCRIPTION:NNRY Robinson Canyon Excursion\nThe NNRY’s Regular Excursion Train through Robinson Canyon.
URL:https://elynevada.net/event/nnry-robinson-canyon-excursion/2024-09-13/
LOCATION:Nevada Northern Railway\, 1100 Avenue A\, Ely\, NV\, 89301\, United States
CATEGORIES:History
ATTACH;FMTTYPE=image/jpeg:https://elynevada.net/wp-content/uploads/2024/01/NNRY-Diesel-204.jpg
END:VEVENT
BEGIN:VEVENT
DTSTART;TZID=America/Los_Angeles:20240914T100000
DTEND;TZID=America/Los_Angeles:20240914T160000
DTSTAMP:20260424T034759
CREATED:20220126T050016Z
LAST-MODIFIED:20240503T214517Z
UID:10002765-1726308000-1726329600@elynevada.net
SUMMARY:Ely Renaissance Village Open
DESCRIPTION:Ely Renaissance Village Open!\nFor the ultimate heritage experience of White Pine County\, the Ely Renaissance Village may top the list.\nTour a total of nine houses\, seven of which have each been themed after a different ethnic background that helped shape our community. The Village is made for vacation planning and is open Fridays and Saturdays in the summer. Check out the 360 video below\, which allows you to click and drag different views as it provides you a feel for the site before visiting it in person: https://bit.ly/3hGMr5d\n\nLearn More Here!\n\nTravel Nevada
URL:https://elynevada.net/event/ely-renaissance-village-open/2024-09-14/
LOCATION:Ely Renaissance Village\, 400\, Ely\, NV\, 89301\, United States
CATEGORIES:Community,History
ATTACH;FMTTYPE=image/jpeg:https://elynevada.net/wp-content/uploads/2022/01/CoopyRenVillage4_SM.jpg
END:VEVENT
BEGIN:VEVENT
DTSTART;TZID=America/Los_Angeles:20240915T113000
DTEND;TZID=America/Los_Angeles:20240915T130000
DTSTAMP:20260424T034759
CREATED:20240201T064344Z
LAST-MODIFIED:20240820T204722Z
UID:10002970-1726399800-1726405200@elynevada.net
SUMMARY:NNRY Sunday Mornin' Excursion Train
DESCRIPTION:NNRY Excursion Train\nThe NNRY’s Regular Excursion Train through Robinson Canyon or Valley Vista. \nBook Your Ticket\, Discover Which Train is Running\, and More at www.NNRY.com!
URL:https://elynevada.net/event/nnry-sunday-mornin-excursion-train/2024-09-15/
LOCATION:Nevada Northern Railway\, 1100 Avenue A\, Ely\, NV\, 89301\, United States
CATEGORIES:History
ATTACH;FMTTYPE=image/jpeg:https://elynevada.net/wp-content/uploads/2020/11/Test-7.jpg
END:VEVENT
BEGIN:VEVENT
DTSTART;TZID=America/Los_Angeles:20240916T093000
DTEND;TZID=America/Los_Angeles:20240916T230000
DTSTAMP:20260424T034759
CREATED:20240201T065113Z
LAST-MODIFIED:20240820T205023Z
UID:10003025-1726479000-1726527600@elynevada.net
SUMMARY:NNRY Excursion Train
DESCRIPTION:NNRY Excursion Train\nThe NNRY’s Regular Excursion Train through Robinson Canyon or Valley Vista. \nBook Your Ticket\, Discover Which Train is Running\, and More at www.NNRY.com!
URL:https://elynevada.net/event/nnry-excursion-train-2/2024-09-16/
LOCATION:Nevada Northern Railway\, 1100 Avenue A\, Ely\, NV\, 89301\, United States
CATEGORIES:History
ATTACH;FMTTYPE=image/jpeg:https://elynevada.net/wp-content/uploads/2020/11/Test-7.jpg
END:VEVENT
BEGIN:VEVENT
DTSTART;TZID=America/Los_Angeles:20240917T093000
DTEND;TZID=America/Los_Angeles:20240917T230000
DTSTAMP:20260424T034759
CREATED:20240201T065113Z
LAST-MODIFIED:20240820T205023Z
UID:10003026-1726565400-1726614000@elynevada.net
SUMMARY:NNRY Excursion Train
DESCRIPTION:NNRY Excursion Train\nThe NNRY’s Regular Excursion Train through Robinson Canyon or Valley Vista. \nBook Your Ticket\, Discover Which Train is Running\, and More at www.NNRY.com!
URL:https://elynevada.net/event/nnry-excursion-train-2/2024-09-17/
LOCATION:Nevada Northern Railway\, 1100 Avenue A\, Ely\, NV\, 89301\, United States
CATEGORIES:History
ATTACH;FMTTYPE=image/jpeg:https://elynevada.net/wp-content/uploads/2020/11/Test-7.jpg
END:VEVENT
BEGIN:VEVENT
DTSTART;TZID=America/Los_Angeles:20240918T093000
DTEND;TZID=America/Los_Angeles:20240918T230000
DTSTAMP:20260424T034759
CREATED:20240201T065113Z
LAST-MODIFIED:20240820T205023Z
UID:10003027-1726651800-1726700400@elynevada.net
SUMMARY:NNRY Excursion Train
DESCRIPTION:NNRY Excursion Train\nThe NNRY’s Regular Excursion Train through Robinson Canyon or Valley Vista. \nBook Your Ticket\, Discover Which Train is Running\, and More at www.NNRY.com!
URL:https://elynevada.net/event/nnry-excursion-train-2/2024-09-18/
LOCATION:Nevada Northern Railway\, 1100 Avenue A\, Ely\, NV\, 89301\, United States
CATEGORIES:History
ATTACH;FMTTYPE=image/jpeg:https://elynevada.net/wp-content/uploads/2020/11/Test-7.jpg
END:VEVENT
BEGIN:VEVENT
DTSTART;TZID=America/Los_Angeles:20240919T163000
DTEND;TZID=America/Los_Angeles:20240919T180000
DTSTAMP:20260424T034759
CREATED:20240201T070211Z
LAST-MODIFIED:20240820T204434Z
UID:10002939-1726763400-1726768800@elynevada.net
SUMMARY:NNRY Robinson Canyon Excursion
DESCRIPTION:NNRY Robinson Canyon Excursion\nThe NNRY’s Regular Excursion Train through Robinson Canyon.
URL:https://elynevada.net/event/nnry-robinson-canyon-excursion/2024-09-19/
LOCATION:Nevada Northern Railway\, 1100 Avenue A\, Ely\, NV\, 89301\, United States
CATEGORIES:History
ATTACH;FMTTYPE=image/jpeg:https://elynevada.net/wp-content/uploads/2024/01/NNRY-Diesel-204.jpg
END:VEVENT
BEGIN:VEVENT
DTSTART;TZID=America/Los_Angeles:20240920T100000
DTEND;TZID=America/Los_Angeles:20240920T160000
DTSTAMP:20260424T034759
CREATED:20220126T050016Z
LAST-MODIFIED:20240503T214517Z
UID:10002766-1726826400-1726848000@elynevada.net
SUMMARY:Ely Renaissance Village Open
DESCRIPTION:Ely Renaissance Village Open!\nFor the ultimate heritage experience of White Pine County\, the Ely Renaissance Village may top the list.\nTour a total of nine houses\, seven of which have each been themed after a different ethnic background that helped shape our community. The Village is made for vacation planning and is open Fridays and Saturdays in the summer. Check out the 360 video below\, which allows you to click and drag different views as it provides you a feel for the site before visiting it in person: https://bit.ly/3hGMr5d\n\nLearn More Here!\n\nTravel Nevada
URL:https://elynevada.net/event/ely-renaissance-village-open/2024-09-20/
LOCATION:Ely Renaissance Village\, 400\, Ely\, NV\, 89301\, United States
CATEGORIES:Community,History
ATTACH;FMTTYPE=image/jpeg:https://elynevada.net/wp-content/uploads/2022/01/CoopyRenVillage4_SM.jpg
END:VEVENT
BEGIN:VEVENT
DTSTART;TZID=America/Los_Angeles:20240920T163000
DTEND;TZID=America/Los_Angeles:20240920T180000
DTSTAMP:20260424T034759
CREATED:20240201T070211Z
LAST-MODIFIED:20240820T204434Z
UID:10002940-1726849800-1726855200@elynevada.net
SUMMARY:NNRY Robinson Canyon Excursion
DESCRIPTION:NNRY Robinson Canyon Excursion\nThe NNRY’s Regular Excursion Train through Robinson Canyon.
URL:https://elynevada.net/event/nnry-robinson-canyon-excursion/2024-09-20/
LOCATION:Nevada Northern Railway\, 1100 Avenue A\, Ely\, NV\, 89301\, United States
CATEGORIES:History
ATTACH;FMTTYPE=image/jpeg:https://elynevada.net/wp-content/uploads/2024/01/NNRY-Diesel-204.jpg
END:VEVENT
BEGIN:VEVENT
DTSTART;TZID=America/Los_Angeles:20240921T100000
DTEND;TZID=America/Los_Angeles:20240921T160000
DTSTAMP:20260424T034759
CREATED:20220126T050016Z
LAST-MODIFIED:20240503T214517Z
UID:10002767-1726912800-1726934400@elynevada.net
SUMMARY:Ely Renaissance Village Open
DESCRIPTION:Ely Renaissance Village Open!\nFor the ultimate heritage experience of White Pine County\, the Ely Renaissance Village may top the list.\nTour a total of nine houses\, seven of which have each been themed after a different ethnic background that helped shape our community. The Village is made for vacation planning and is open Fridays and Saturdays in the summer. Check out the 360 video below\, which allows you to click and drag different views as it provides you a feel for the site before visiting it in person: https://bit.ly/3hGMr5d\n\nLearn More Here!\n\nTravel Nevada
URL:https://elynevada.net/event/ely-renaissance-village-open/2024-09-21/
LOCATION:Ely Renaissance Village\, 400\, Ely\, NV\, 89301\, United States
CATEGORIES:Community,History
ATTACH;FMTTYPE=image/jpeg:https://elynevada.net/wp-content/uploads/2022/01/CoopyRenVillage4_SM.jpg
END:VEVENT
BEGIN:VEVENT
DTSTART;TZID=America/Los_Angeles:20240922T113000
DTEND;TZID=America/Los_Angeles:20240922T130000
DTSTAMP:20260424T034759
CREATED:20240201T064344Z
LAST-MODIFIED:20240820T204722Z
UID:10002971-1727004600-1727010000@elynevada.net
SUMMARY:NNRY Sunday Mornin' Excursion Train
DESCRIPTION:NNRY Excursion Train\nThe NNRY’s Regular Excursion Train through Robinson Canyon or Valley Vista. \nBook Your Ticket\, Discover Which Train is Running\, and More at www.NNRY.com!
URL:https://elynevada.net/event/nnry-sunday-mornin-excursion-train/2024-09-22/
LOCATION:Nevada Northern Railway\, 1100 Avenue A\, Ely\, NV\, 89301\, United States
CATEGORIES:History
ATTACH;FMTTYPE=image/jpeg:https://elynevada.net/wp-content/uploads/2020/11/Test-7.jpg
END:VEVENT
BEGIN:VEVENT
DTSTART;TZID=America/Los_Angeles:20240923T093000
DTEND;TZID=America/Los_Angeles:20240923T230000
DTSTAMP:20260424T034759
CREATED:20240201T065113Z
LAST-MODIFIED:20240820T205023Z
UID:10003028-1727083800-1727132400@elynevada.net
SUMMARY:NNRY Excursion Train
DESCRIPTION:NNRY Excursion Train\nThe NNRY’s Regular Excursion Train through Robinson Canyon or Valley Vista. \nBook Your Ticket\, Discover Which Train is Running\, and More at www.NNRY.com!
URL:https://elynevada.net/event/nnry-excursion-train-2/2024-09-23/
LOCATION:Nevada Northern Railway\, 1100 Avenue A\, Ely\, NV\, 89301\, United States
CATEGORIES:History
ATTACH;FMTTYPE=image/jpeg:https://elynevada.net/wp-content/uploads/2020/11/Test-7.jpg
END:VEVENT
BEGIN:VEVENT
DTSTART;TZID=America/Los_Angeles:20240924T093000
DTEND;TZID=America/Los_Angeles:20240924T230000
DTSTAMP:20260424T034759
CREATED:20240201T065113Z
LAST-MODIFIED:20240820T205023Z
UID:10003029-1727170200-1727218800@elynevada.net
SUMMARY:NNRY Excursion Train
DESCRIPTION:NNRY Excursion Train\nThe NNRY’s Regular Excursion Train through Robinson Canyon or Valley Vista. \nBook Your Ticket\, Discover Which Train is Running\, and More at www.NNRY.com!
URL:https://elynevada.net/event/nnry-excursion-train-2/2024-09-24/
LOCATION:Nevada Northern Railway\, 1100 Avenue A\, Ely\, NV\, 89301\, United States
CATEGORIES:History
ATTACH;FMTTYPE=image/jpeg:https://elynevada.net/wp-content/uploads/2020/11/Test-7.jpg
END:VEVENT
BEGIN:VEVENT
DTSTART;TZID=America/Los_Angeles:20240925T093000
DTEND;TZID=America/Los_Angeles:20240925T230000
DTSTAMP:20260424T034759
CREATED:20240201T065113Z
LAST-MODIFIED:20240820T205023Z
UID:10003030-1727256600-1727305200@elynevada.net
SUMMARY:NNRY Excursion Train
DESCRIPTION:NNRY Excursion Train\nThe NNRY’s Regular Excursion Train through Robinson Canyon or Valley Vista. \nBook Your Ticket\, Discover Which Train is Running\, and More at www.NNRY.com!
URL:https://elynevada.net/event/nnry-excursion-train-2/2024-09-25/
LOCATION:Nevada Northern Railway\, 1100 Avenue A\, Ely\, NV\, 89301\, United States
CATEGORIES:History
ATTACH;FMTTYPE=image/jpeg:https://elynevada.net/wp-content/uploads/2020/11/Test-7.jpg
END:VEVENT
END:VCALENDAR