BEGIN:VCALENDAR
VERSION:2.0
PRODID:-//Welcome To Ely - ECPv6.15.20//NONSGML v1.0//EN
CALSCALE:GREGORIAN
METHOD:PUBLISH
X-WR-CALNAME:Welcome To Ely
X-ORIGINAL-URL:https://elynevada.net
X-WR-CALDESC:Events for Welcome To Ely
REFRESH-INTERVAL;VALUE=DURATION:PT1H
X-Robots-Tag:noindex
X-PUBLISHED-TTL:PT1H
BEGIN:VTIMEZONE
TZID:America/Los_Angeles
BEGIN:DAYLIGHT
TZOFFSETFROM:-0800
TZOFFSETTO:-0700
TZNAME:PDT
DTSTART:20230312T100000
END:DAYLIGHT
BEGIN:STANDARD
TZOFFSETFROM:-0700
TZOFFSETTO:-0800
TZNAME:PST
DTSTART:20231105T090000
END:STANDARD
BEGIN:DAYLIGHT
TZOFFSETFROM:-0800
TZOFFSETTO:-0700
TZNAME:PDT
DTSTART:20240310T100000
END:DAYLIGHT
BEGIN:STANDARD
TZOFFSETFROM:-0700
TZOFFSETTO:-0800
TZNAME:PST
DTSTART:20241103T090000
END:STANDARD
BEGIN:DAYLIGHT
TZOFFSETFROM:-0800
TZOFFSETTO:-0700
TZNAME:PDT
DTSTART:20250309T100000
END:DAYLIGHT
BEGIN:STANDARD
TZOFFSETFROM:-0700
TZOFFSETTO:-0800
TZNAME:PST
DTSTART:20251102T090000
END:STANDARD
END:VTIMEZONE
BEGIN:VEVENT
DTSTART;TZID=America/Los_Angeles:20241002T093000
DTEND;TZID=America/Los_Angeles:20241002T230000
DTSTAMP:20260424T022332
CREATED:20240201T065113Z
LAST-MODIFIED:20240820T205023Z
UID:10003032-1727861400-1727910000@elynevada.net
SUMMARY:NNRY Excursion Train
DESCRIPTION:NNRY Excursion Train\nThe NNRY’s Regular Excursion Train through Robinson Canyon or Valley Vista. \nBook Your Ticket\, Discover Which Train is Running\, and More at www.NNRY.com!
URL:https://elynevada.net/event/nnry-excursion-train-2/2024-10-02/
LOCATION:Nevada Northern Railway\, 1100 Avenue A\, Ely\, NV\, 89301\, United States
CATEGORIES:History
ATTACH;FMTTYPE=image/jpeg:https://elynevada.net/wp-content/uploads/2020/11/Test-7.jpg
END:VEVENT
BEGIN:VEVENT
DTSTART;TZID=America/Los_Angeles:20241003T163000
DTEND;TZID=America/Los_Angeles:20241003T180000
DTSTAMP:20260424T022332
CREATED:20240201T070211Z
LAST-MODIFIED:20240820T204434Z
UID:10002943-1727973000-1727978400@elynevada.net
SUMMARY:NNRY Robinson Canyon Excursion
DESCRIPTION:NNRY Robinson Canyon Excursion\nThe NNRY’s Regular Excursion Train through Robinson Canyon.
URL:https://elynevada.net/event/nnry-robinson-canyon-excursion/2024-10-03/
LOCATION:Nevada Northern Railway\, 1100 Avenue A\, Ely\, NV\, 89301\, United States
CATEGORIES:History
ATTACH;FMTTYPE=image/jpeg:https://elynevada.net/wp-content/uploads/2024/01/NNRY-Diesel-204.jpg
END:VEVENT
BEGIN:VEVENT
DTSTART;TZID=America/Los_Angeles:20241004T100000
DTEND;TZID=America/Los_Angeles:20241004T160000
DTSTAMP:20260424T022332
CREATED:20220126T050016Z
LAST-MODIFIED:20240503T214517Z
UID:10002770-1728036000-1728057600@elynevada.net
SUMMARY:Ely Renaissance Village Open
DESCRIPTION:Ely Renaissance Village Open!\nFor the ultimate heritage experience of White Pine County\, the Ely Renaissance Village may top the list.\nTour a total of nine houses\, seven of which have each been themed after a different ethnic background that helped shape our community. The Village is made for vacation planning and is open Fridays and Saturdays in the summer. Check out the 360 video below\, which allows you to click and drag different views as it provides you a feel for the site before visiting it in person: https://bit.ly/3hGMr5d\n\nLearn More Here!\n\nTravel Nevada
URL:https://elynevada.net/event/ely-renaissance-village-open/2024-10-04/
LOCATION:Ely Renaissance Village\, 400\, Ely\, NV\, 89301\, United States
CATEGORIES:Community,History
ATTACH;FMTTYPE=image/jpeg:https://elynevada.net/wp-content/uploads/2022/01/CoopyRenVillage4_SM.jpg
END:VEVENT
BEGIN:VEVENT
DTSTART;TZID=America/Los_Angeles:20241004T163000
DTEND;TZID=America/Los_Angeles:20241004T180000
DTSTAMP:20260424T022332
CREATED:20240201T070211Z
LAST-MODIFIED:20240820T204434Z
UID:10002944-1728059400-1728064800@elynevada.net
SUMMARY:NNRY Robinson Canyon Excursion
DESCRIPTION:NNRY Robinson Canyon Excursion\nThe NNRY’s Regular Excursion Train through Robinson Canyon.
URL:https://elynevada.net/event/nnry-robinson-canyon-excursion/2024-10-04/
LOCATION:Nevada Northern Railway\, 1100 Avenue A\, Ely\, NV\, 89301\, United States
CATEGORIES:History
ATTACH;FMTTYPE=image/jpeg:https://elynevada.net/wp-content/uploads/2024/01/NNRY-Diesel-204.jpg
END:VEVENT
BEGIN:VEVENT
DTSTART;TZID=America/Los_Angeles:20241006T113000
DTEND;TZID=America/Los_Angeles:20241006T130000
DTSTAMP:20260424T022332
CREATED:20240201T064344Z
LAST-MODIFIED:20240820T204722Z
UID:10002973-1728214200-1728219600@elynevada.net
SUMMARY:NNRY Sunday Mornin' Excursion Train
DESCRIPTION:NNRY Excursion Train\nThe NNRY’s Regular Excursion Train through Robinson Canyon or Valley Vista. \nBook Your Ticket\, Discover Which Train is Running\, and More at www.NNRY.com!
URL:https://elynevada.net/event/nnry-sunday-mornin-excursion-train/2024-10-06/
LOCATION:Nevada Northern Railway\, 1100 Avenue A\, Ely\, NV\, 89301\, United States
CATEGORIES:History
ATTACH;FMTTYPE=image/jpeg:https://elynevada.net/wp-content/uploads/2020/11/Test-7.jpg
END:VEVENT
BEGIN:VEVENT
DTSTART;TZID=America/Los_Angeles:20241007T093000
DTEND;TZID=America/Los_Angeles:20241007T230000
DTSTAMP:20260424T022332
CREATED:20240201T065113Z
LAST-MODIFIED:20240820T205023Z
UID:10003033-1728293400-1728342000@elynevada.net
SUMMARY:NNRY Excursion Train
DESCRIPTION:NNRY Excursion Train\nThe NNRY’s Regular Excursion Train through Robinson Canyon or Valley Vista. \nBook Your Ticket\, Discover Which Train is Running\, and More at www.NNRY.com!
URL:https://elynevada.net/event/nnry-excursion-train-2/2024-10-07/
LOCATION:Nevada Northern Railway\, 1100 Avenue A\, Ely\, NV\, 89301\, United States
CATEGORIES:History
ATTACH;FMTTYPE=image/jpeg:https://elynevada.net/wp-content/uploads/2020/11/Test-7.jpg
END:VEVENT
BEGIN:VEVENT
DTSTART;TZID=America/Los_Angeles:20241009T093000
DTEND;TZID=America/Los_Angeles:20241009T230000
DTSTAMP:20260424T022332
CREATED:20240201T065113Z
LAST-MODIFIED:20240820T205023Z
UID:10003034-1728466200-1728514800@elynevada.net
SUMMARY:NNRY Excursion Train
DESCRIPTION:NNRY Excursion Train\nThe NNRY’s Regular Excursion Train through Robinson Canyon or Valley Vista. \nBook Your Ticket\, Discover Which Train is Running\, and More at www.NNRY.com!
URL:https://elynevada.net/event/nnry-excursion-train-2/2024-10-09/
LOCATION:Nevada Northern Railway\, 1100 Avenue A\, Ely\, NV\, 89301\, United States
CATEGORIES:History
ATTACH;FMTTYPE=image/jpeg:https://elynevada.net/wp-content/uploads/2020/11/Test-7.jpg
END:VEVENT
BEGIN:VEVENT
DTSTART;TZID=America/Los_Angeles:20241010T163000
DTEND;TZID=America/Los_Angeles:20241010T180000
DTSTAMP:20260424T022332
CREATED:20240201T070211Z
LAST-MODIFIED:20240820T204434Z
UID:10002945-1728577800-1728583200@elynevada.net
SUMMARY:NNRY Robinson Canyon Excursion
DESCRIPTION:NNRY Robinson Canyon Excursion\nThe NNRY’s Regular Excursion Train through Robinson Canyon.
URL:https://elynevada.net/event/nnry-robinson-canyon-excursion/2024-10-10/
LOCATION:Nevada Northern Railway\, 1100 Avenue A\, Ely\, NV\, 89301\, United States
CATEGORIES:History
ATTACH;FMTTYPE=image/jpeg:https://elynevada.net/wp-content/uploads/2024/01/NNRY-Diesel-204.jpg
END:VEVENT
BEGIN:VEVENT
DTSTART;TZID=America/Los_Angeles:20241011T163000
DTEND;TZID=America/Los_Angeles:20241011T180000
DTSTAMP:20260424T022332
CREATED:20240201T070211Z
LAST-MODIFIED:20240820T204434Z
UID:10002946-1728664200-1728669600@elynevada.net
SUMMARY:NNRY Robinson Canyon Excursion
DESCRIPTION:NNRY Robinson Canyon Excursion\nThe NNRY’s Regular Excursion Train through Robinson Canyon.
URL:https://elynevada.net/event/nnry-robinson-canyon-excursion/2024-10-11/
LOCATION:Nevada Northern Railway\, 1100 Avenue A\, Ely\, NV\, 89301\, United States
CATEGORIES:History
ATTACH;FMTTYPE=image/jpeg:https://elynevada.net/wp-content/uploads/2024/01/NNRY-Diesel-204.jpg
END:VEVENT
BEGIN:VEVENT
DTSTART;TZID=America/Los_Angeles:20241013T113000
DTEND;TZID=America/Los_Angeles:20241013T130000
DTSTAMP:20260424T022332
CREATED:20240201T064344Z
LAST-MODIFIED:20240820T204722Z
UID:10002974-1728819000-1728824400@elynevada.net
SUMMARY:NNRY Sunday Mornin' Excursion Train
DESCRIPTION:NNRY Excursion Train\nThe NNRY’s Regular Excursion Train through Robinson Canyon or Valley Vista. \nBook Your Ticket\, Discover Which Train is Running\, and More at www.NNRY.com!
URL:https://elynevada.net/event/nnry-sunday-mornin-excursion-train/2024-10-13/
LOCATION:Nevada Northern Railway\, 1100 Avenue A\, Ely\, NV\, 89301\, United States
CATEGORIES:History
ATTACH;FMTTYPE=image/jpeg:https://elynevada.net/wp-content/uploads/2020/11/Test-7.jpg
END:VEVENT
BEGIN:VEVENT
DTSTART;TZID=America/Los_Angeles:20241014T093000
DTEND;TZID=America/Los_Angeles:20241014T230000
DTSTAMP:20260424T022332
CREATED:20240201T065113Z
LAST-MODIFIED:20240820T205023Z
UID:10003035-1728898200-1728946800@elynevada.net
SUMMARY:NNRY Excursion Train
DESCRIPTION:NNRY Excursion Train\nThe NNRY’s Regular Excursion Train through Robinson Canyon or Valley Vista. \nBook Your Ticket\, Discover Which Train is Running\, and More at www.NNRY.com!
URL:https://elynevada.net/event/nnry-excursion-train-2/2024-10-14/
LOCATION:Nevada Northern Railway\, 1100 Avenue A\, Ely\, NV\, 89301\, United States
CATEGORIES:History
ATTACH;FMTTYPE=image/jpeg:https://elynevada.net/wp-content/uploads/2020/11/Test-7.jpg
END:VEVENT
BEGIN:VEVENT
DTSTART;TZID=America/Los_Angeles:20241016T093000
DTEND;TZID=America/Los_Angeles:20241016T230000
DTSTAMP:20260424T022332
CREATED:20240201T065113Z
LAST-MODIFIED:20240820T205023Z
UID:10003036-1729071000-1729119600@elynevada.net
SUMMARY:NNRY Excursion Train
DESCRIPTION:NNRY Excursion Train\nThe NNRY’s Regular Excursion Train through Robinson Canyon or Valley Vista. \nBook Your Ticket\, Discover Which Train is Running\, and More at www.NNRY.com!
URL:https://elynevada.net/event/nnry-excursion-train-2/2024-10-16/
LOCATION:Nevada Northern Railway\, 1100 Avenue A\, Ely\, NV\, 89301\, United States
CATEGORIES:History
ATTACH;FMTTYPE=image/jpeg:https://elynevada.net/wp-content/uploads/2020/11/Test-7.jpg
END:VEVENT
BEGIN:VEVENT
DTSTART;TZID=America/Los_Angeles:20241020T113000
DTEND;TZID=America/Los_Angeles:20241020T130000
DTSTAMP:20260424T022332
CREATED:20240201T064344Z
LAST-MODIFIED:20240820T204722Z
UID:10002975-1729423800-1729429200@elynevada.net
SUMMARY:NNRY Sunday Mornin' Excursion Train
DESCRIPTION:NNRY Excursion Train\nThe NNRY’s Regular Excursion Train through Robinson Canyon or Valley Vista. \nBook Your Ticket\, Discover Which Train is Running\, and More at www.NNRY.com!
URL:https://elynevada.net/event/nnry-sunday-mornin-excursion-train/2024-10-20/
LOCATION:Nevada Northern Railway\, 1100 Avenue A\, Ely\, NV\, 89301\, United States
CATEGORIES:History
ATTACH;FMTTYPE=image/jpeg:https://elynevada.net/wp-content/uploads/2020/11/Test-7.jpg
END:VEVENT
BEGIN:VEVENT
DTSTART;TZID=America/Los_Angeles:20241021T093000
DTEND;TZID=America/Los_Angeles:20241021T230000
DTSTAMP:20260424T022332
CREATED:20240201T065113Z
LAST-MODIFIED:20240820T205023Z
UID:10003037-1729503000-1729551600@elynevada.net
SUMMARY:NNRY Excursion Train
DESCRIPTION:NNRY Excursion Train\nThe NNRY’s Regular Excursion Train through Robinson Canyon or Valley Vista. \nBook Your Ticket\, Discover Which Train is Running\, and More at www.NNRY.com!
URL:https://elynevada.net/event/nnry-excursion-train-2/2024-10-21/
LOCATION:Nevada Northern Railway\, 1100 Avenue A\, Ely\, NV\, 89301\, United States
CATEGORIES:History
ATTACH;FMTTYPE=image/jpeg:https://elynevada.net/wp-content/uploads/2020/11/Test-7.jpg
END:VEVENT
BEGIN:VEVENT
DTSTART;TZID=America/Los_Angeles:20241023T093000
DTEND;TZID=America/Los_Angeles:20241023T230000
DTSTAMP:20260424T022332
CREATED:20240201T065113Z
LAST-MODIFIED:20240820T205023Z
UID:10003038-1729675800-1729724400@elynevada.net
SUMMARY:NNRY Excursion Train
DESCRIPTION:NNRY Excursion Train\nThe NNRY’s Regular Excursion Train through Robinson Canyon or Valley Vista. \nBook Your Ticket\, Discover Which Train is Running\, and More at www.NNRY.com!
URL:https://elynevada.net/event/nnry-excursion-train-2/2024-10-23/
LOCATION:Nevada Northern Railway\, 1100 Avenue A\, Ely\, NV\, 89301\, United States
CATEGORIES:History
ATTACH;FMTTYPE=image/jpeg:https://elynevada.net/wp-content/uploads/2020/11/Test-7.jpg
END:VEVENT
BEGIN:VEVENT
DTSTART;TZID=America/Los_Angeles:20241027T113000
DTEND;TZID=America/Los_Angeles:20241027T130000
DTSTAMP:20260424T022332
CREATED:20240201T064344Z
LAST-MODIFIED:20240820T204722Z
UID:10002976-1730028600-1730034000@elynevada.net
SUMMARY:NNRY Sunday Mornin' Excursion Train
DESCRIPTION:NNRY Excursion Train\nThe NNRY’s Regular Excursion Train through Robinson Canyon or Valley Vista. \nBook Your Ticket\, Discover Which Train is Running\, and More at www.NNRY.com!
URL:https://elynevada.net/event/nnry-sunday-mornin-excursion-train/2024-10-27/
LOCATION:Nevada Northern Railway\, 1100 Avenue A\, Ely\, NV\, 89301\, United States
CATEGORIES:History
ATTACH;FMTTYPE=image/jpeg:https://elynevada.net/wp-content/uploads/2020/11/Test-7.jpg
END:VEVENT
BEGIN:VEVENT
DTSTART;TZID=America/Los_Angeles:20241028T093000
DTEND;TZID=America/Los_Angeles:20241028T230000
DTSTAMP:20260424T022332
CREATED:20240201T065113Z
LAST-MODIFIED:20240820T205023Z
UID:10003039-1730107800-1730156400@elynevada.net
SUMMARY:NNRY Excursion Train
DESCRIPTION:NNRY Excursion Train\nThe NNRY’s Regular Excursion Train through Robinson Canyon or Valley Vista. \nBook Your Ticket\, Discover Which Train is Running\, and More at www.NNRY.com!
URL:https://elynevada.net/event/nnry-excursion-train-2/2024-10-28/
LOCATION:Nevada Northern Railway\, 1100 Avenue A\, Ely\, NV\, 89301\, United States
CATEGORIES:History
ATTACH;FMTTYPE=image/jpeg:https://elynevada.net/wp-content/uploads/2020/11/Test-7.jpg
END:VEVENT
END:VCALENDAR