BEGIN:VCALENDAR
VERSION:2.0
PRODID:-//Welcome To Ely - ECPv6.15.20//NONSGML v1.0//EN
CALSCALE:GREGORIAN
METHOD:PUBLISH
X-ORIGINAL-URL:https://elynevada.net
X-WR-CALDESC:Events for Welcome To Ely
REFRESH-INTERVAL;VALUE=DURATION:PT1H
X-Robots-Tag:noindex
X-PUBLISHED-TTL:PT1H
BEGIN:VTIMEZONE
TZID:America/Los_Angeles
BEGIN:DAYLIGHT
TZOFFSETFROM:-0800
TZOFFSETTO:-0700
TZNAME:PDT
DTSTART:20240310T100000
END:DAYLIGHT
BEGIN:STANDARD
TZOFFSETFROM:-0700
TZOFFSETTO:-0800
TZNAME:PST
DTSTART:20241103T090000
END:STANDARD
BEGIN:DAYLIGHT
TZOFFSETFROM:-0800
TZOFFSETTO:-0700
TZNAME:PDT
DTSTART:20250309T100000
END:DAYLIGHT
BEGIN:STANDARD
TZOFFSETFROM:-0700
TZOFFSETTO:-0800
TZNAME:PST
DTSTART:20251102T090000
END:STANDARD
BEGIN:DAYLIGHT
TZOFFSETFROM:-0800
TZOFFSETTO:-0700
TZNAME:PDT
DTSTART:20260308T100000
END:DAYLIGHT
BEGIN:STANDARD
TZOFFSETFROM:-0700
TZOFFSETTO:-0800
TZNAME:PST
DTSTART:20261101T090000
END:STANDARD
END:VTIMEZONE
BEGIN:VEVENT
DTSTART;TZID=America/Los_Angeles:20250405T130000
DTEND;TZID=America/Los_Angeles:20250405T150000
DTSTAMP:20260423T123548
CREATED:20250225T223530Z
LAST-MODIFIED:20250303T210956Z
UID:10003437-1743858000-1743865200@elynevada.net
SUMMARY:NNRY Excursion Train
DESCRIPTION:NNRY Excursion Train\nThe NNRY’s Regular Excursion Train through Robinson Canyon or Valley Vista. \nBook Your Ticket\, Discover Which Train is Running\, and More at www.NNRY.com!
URL:https://elynevada.net/event/nnry-excursion-train-3-2/2025-04-05/
LOCATION:Nevada Northern Railway\, 1100 Avenue A\, Ely\, NV\, 89301\, United States
CATEGORIES:History
ATTACH;FMTTYPE=image/jpeg:https://elynevada.net/wp-content/uploads/2020/11/Test-7.jpg
END:VEVENT
BEGIN:VEVENT
DTSTART;TZID=America/Los_Angeles:20250406T113000
DTEND;TZID=America/Los_Angeles:20250406T120000
DTSTAMP:20260423T123548
CREATED:20250225T232241Z
LAST-MODIFIED:20250228T000300Z
UID:10003565-1743939000-1743940800@elynevada.net
SUMMARY:NNRY Steam Train to Robinson Canyon
DESCRIPTION:NNRY Steam Excursion Train to Robinson Canyon\nThe NNRY’s Regular Steam Excursion Train through Robinson Canyon. \nBook Your Ticket and More at www.NNRY.com!
URL:https://elynevada.net/event/nnry-excursion-trains-to-robinson-canyon-steam/2025-04-06/
LOCATION:Nevada Northern Railway\, 1100 Avenue A\, Ely\, NV\, 89301\, United States
CATEGORIES:History
ATTACH;FMTTYPE=image/jpeg:https://elynevada.net/wp-content/uploads/2024/02/Locomotive40.jpg
END:VEVENT
BEGIN:VEVENT
DTSTART;TZID=America/Los_Angeles:20250412T130000
DTEND;TZID=America/Los_Angeles:20250412T150000
DTSTAMP:20260423T123548
CREATED:20250225T223530Z
LAST-MODIFIED:20250303T210956Z
UID:10003439-1744462800-1744470000@elynevada.net
SUMMARY:NNRY Excursion Train
DESCRIPTION:NNRY Excursion Train\nThe NNRY’s Regular Excursion Train through Robinson Canyon or Valley Vista. \nBook Your Ticket\, Discover Which Train is Running\, and More at www.NNRY.com!
URL:https://elynevada.net/event/nnry-excursion-train-3-2/2025-04-12/
LOCATION:Nevada Northern Railway\, 1100 Avenue A\, Ely\, NV\, 89301\, United States
CATEGORIES:History
ATTACH;FMTTYPE=image/jpeg:https://elynevada.net/wp-content/uploads/2020/11/Test-7.jpg
END:VEVENT
BEGIN:VEVENT
DTSTART;TZID=America/Los_Angeles:20250413T113000
DTEND;TZID=America/Los_Angeles:20250413T120000
DTSTAMP:20260423T123548
CREATED:20250225T232241Z
LAST-MODIFIED:20250228T000300Z
UID:10003566-1744543800-1744545600@elynevada.net
SUMMARY:NNRY Steam Train to Robinson Canyon
DESCRIPTION:NNRY Steam Excursion Train to Robinson Canyon\nThe NNRY’s Regular Steam Excursion Train through Robinson Canyon. \nBook Your Ticket and More at www.NNRY.com!
URL:https://elynevada.net/event/nnry-excursion-trains-to-robinson-canyon-steam/2025-04-13/
LOCATION:Nevada Northern Railway\, 1100 Avenue A\, Ely\, NV\, 89301\, United States
CATEGORIES:History
ATTACH;FMTTYPE=image/jpeg:https://elynevada.net/wp-content/uploads/2024/02/Locomotive40.jpg
END:VEVENT
BEGIN:VEVENT
DTSTART;TZID=America/Los_Angeles:20250419T130000
DTEND;TZID=America/Los_Angeles:20250419T150000
DTSTAMP:20260423T123548
CREATED:20250225T223530Z
LAST-MODIFIED:20250303T210956Z
UID:10003441-1745067600-1745074800@elynevada.net
SUMMARY:NNRY Excursion Train
DESCRIPTION:NNRY Excursion Train\nThe NNRY’s Regular Excursion Train through Robinson Canyon or Valley Vista. \nBook Your Ticket\, Discover Which Train is Running\, and More at www.NNRY.com!
URL:https://elynevada.net/event/nnry-excursion-train-3-2/2025-04-19/
LOCATION:Nevada Northern Railway\, 1100 Avenue A\, Ely\, NV\, 89301\, United States
CATEGORIES:History
ATTACH;FMTTYPE=image/jpeg:https://elynevada.net/wp-content/uploads/2020/11/Test-7.jpg
END:VEVENT
BEGIN:VEVENT
DTSTART;TZID=America/Los_Angeles:20250420T113000
DTEND;TZID=America/Los_Angeles:20250420T120000
DTSTAMP:20260423T123548
CREATED:20250225T232241Z
LAST-MODIFIED:20250228T000300Z
UID:10003567-1745148600-1745150400@elynevada.net
SUMMARY:NNRY Steam Train to Robinson Canyon
DESCRIPTION:NNRY Steam Excursion Train to Robinson Canyon\nThe NNRY’s Regular Steam Excursion Train through Robinson Canyon. \nBook Your Ticket and More at www.NNRY.com!
URL:https://elynevada.net/event/nnry-excursion-trains-to-robinson-canyon-steam/2025-04-20/
LOCATION:Nevada Northern Railway\, 1100 Avenue A\, Ely\, NV\, 89301\, United States
CATEGORIES:History
ATTACH;FMTTYPE=image/jpeg:https://elynevada.net/wp-content/uploads/2024/02/Locomotive40.jpg
END:VEVENT
BEGIN:VEVENT
DTSTART;TZID=America/Los_Angeles:20250426T130000
DTEND;TZID=America/Los_Angeles:20250426T150000
DTSTAMP:20260423T123548
CREATED:20250225T223530Z
LAST-MODIFIED:20250303T210956Z
UID:10003443-1745672400-1745679600@elynevada.net
SUMMARY:NNRY Excursion Train
DESCRIPTION:NNRY Excursion Train\nThe NNRY’s Regular Excursion Train through Robinson Canyon or Valley Vista. \nBook Your Ticket\, Discover Which Train is Running\, and More at www.NNRY.com!
URL:https://elynevada.net/event/nnry-excursion-train-3-2/2025-04-26/
LOCATION:Nevada Northern Railway\, 1100 Avenue A\, Ely\, NV\, 89301\, United States
CATEGORIES:History
ATTACH;FMTTYPE=image/jpeg:https://elynevada.net/wp-content/uploads/2020/11/Test-7.jpg
END:VEVENT
BEGIN:VEVENT
DTSTART;TZID=America/Los_Angeles:20250427T113000
DTEND;TZID=America/Los_Angeles:20250427T120000
DTSTAMP:20260423T123548
CREATED:20250225T232241Z
LAST-MODIFIED:20250228T000300Z
UID:10003568-1745753400-1745755200@elynevada.net
SUMMARY:NNRY Steam Train to Robinson Canyon
DESCRIPTION:NNRY Steam Excursion Train to Robinson Canyon\nThe NNRY’s Regular Steam Excursion Train through Robinson Canyon. \nBook Your Ticket and More at www.NNRY.com!
URL:https://elynevada.net/event/nnry-excursion-trains-to-robinson-canyon-steam/2025-04-27/
LOCATION:Nevada Northern Railway\, 1100 Avenue A\, Ely\, NV\, 89301\, United States
CATEGORIES:History
ATTACH;FMTTYPE=image/jpeg:https://elynevada.net/wp-content/uploads/2024/02/Locomotive40.jpg
END:VEVENT
END:VCALENDAR