BEGIN:VCALENDAR
VERSION:2.0
PRODID:-//Welcome To Ely - ECPv6.15.20//NONSGML v1.0//EN
CALSCALE:GREGORIAN
METHOD:PUBLISH
X-WR-CALNAME:Welcome To Ely
X-ORIGINAL-URL:https://elynevada.net
X-WR-CALDESC:Events for Welcome To Ely
REFRESH-INTERVAL;VALUE=DURATION:PT1H
X-Robots-Tag:noindex
X-PUBLISHED-TTL:PT1H
BEGIN:VTIMEZONE
TZID:America/Los_Angeles
BEGIN:DAYLIGHT
TZOFFSETFROM:-0800
TZOFFSETTO:-0700
TZNAME:PDT
DTSTART:20250309T100000
END:DAYLIGHT
BEGIN:STANDARD
TZOFFSETFROM:-0700
TZOFFSETTO:-0800
TZNAME:PST
DTSTART:20251102T090000
END:STANDARD
BEGIN:DAYLIGHT
TZOFFSETFROM:-0800
TZOFFSETTO:-0700
TZNAME:PDT
DTSTART:20260308T100000
END:DAYLIGHT
BEGIN:STANDARD
TZOFFSETFROM:-0700
TZOFFSETTO:-0800
TZNAME:PST
DTSTART:20261101T090000
END:STANDARD
BEGIN:DAYLIGHT
TZOFFSETFROM:-0800
TZOFFSETTO:-0700
TZNAME:PDT
DTSTART:20270314T100000
END:DAYLIGHT
BEGIN:STANDARD
TZOFFSETFROM:-0700
TZOFFSETTO:-0800
TZNAME:PST
DTSTART:20271107T090000
END:STANDARD
END:VTIMEZONE
BEGIN:VEVENT
DTSTART;VALUE=DATE:20260302
DTEND;VALUE=DATE:20260303
DTSTAMP:20260422T204300
CREATED:20260127T001540Z
LAST-MODIFIED:20260127T001540Z
UID:10004119-1772409600-1772495999@elynevada.net
SUMMARY:Anniversary of WPC
DESCRIPTION:Anniversary of White Pine County\nIt’s White Pine County’s Birthday Month! In March of 1869\, this area of Nevada was officially established by the state legislature. Happy Birthday White Pine!
URL:https://elynevada.net/event/anniversary-of-wpc/
LOCATION:NV
CATEGORIES:History
ATTACH;FMTTYPE=image/jpeg:https://elynevada.net/wp-content/uploads/2025/01/Happy-Birthday-White-Pine-County-2025.jpg
END:VEVENT
BEGIN:VEVENT
DTSTART;TZID=America/Los_Angeles:20260324T173000
DTEND;TZID=America/Los_Angeles:20260324T200000
DTSTAMP:20260422T204300
CREATED:20260124T000053Z
LAST-MODIFIED:20260124T000054Z
UID:10004109-1774373400-1774382400@elynevada.net
SUMMARY:Great Basin Virtual Speaker Series
DESCRIPTION:Great Basin Virtual Speaker Series\nGreat Basin Virtual Speaker Series per Great Basin National Park foundation: \n“In 2026\, Great Basin National Park celebrates its 40th anniversary – a milestone shaped by decades of scientific research\, stewardship\, and community passion. To honor this legacy and expand access to the stories that make the Park extraordinary\, Great Basin National Park Foundation is launching a monthly Virtual Speaker Series. \n‘Whether you’re a longtime Park enthusiast and explorer\, or someone discovering Great Basin National Park for the first time\, the series will offer a unique opportunity to see the Park through new perspectives. We hope you’ll join us!” \nTuesday\, January 27\, 6 pm pacific time – Kick-Off Program \nSuperintendent Stories \nOur kick-off event will feature three former Great Basin National Park superintendents whose leadership and passion helped define Great Basin National Park’s identity\, protect its resources\, and expand its impact\, sustainability\, accessibility\, and significance. \nRegister\nLearn more about our event and speakers!\n \nTuesday\, February 24\, 6 pm pacific time – The Park / Art Connection \nWhat happens when painters\, photographers\, and composers immerse themselves in one of the most remote and inspiring landscapes in America? How do creativity\, conservation\, and place intertwine? And why does art matter in National Parks? \nIn this program we will be joined by four former Great Basin National Park Artists-in-Residence – painters\, writers\, and composers – to discuss why and how art benefits national parks and national parks benefit artists. \nRegister\nLearn more about our event and speakers!\n \nTuesday\, March 24\, 5:30 pm pacific time – Packrat Middens: Uncovering Thousands of Years of Biotic Change in the Great Basin \nDid you know that packrat’s preserved nests have provided significant insight into Great Basin’s climate and biota through time? Discover packrats’ biological and ecological significance to mammalian research and beyond with Dr. Ally Coconis\, packrat researcher and Curator of Mammalogy at the Santa Barbara Museum of Natural History. \nRegister\nLearn more about our event and speaker!\n \nTuesday\, April 21\, 6 pm pacific time – Water Warriors \nWater is essential to life in the Great Basin desert. In this program\, writer Michael Branch will share stories from his new book project\, Water Warriors\, which tells the inspiring story of how a colorful and diverse underdog alliance of rural Nevadans won a monumental battle in the water wars of the west\, and helped safeguard water essential to life within the Great Basin region. \nRegister\nLearn more about our event and speaker!
URL:https://elynevada.net/event/great-basin-virtual-speaker-series/2026-03-24/
LOCATION:NV
CATEGORIES:Arts & Culture,Community,History,Stargazing
ATTACH;FMTTYPE=image/png:https://elynevada.net/wp-content/uploads/2026/01/Great-Basin-Virtual-Speaker-Series.png
END:VEVENT
BEGIN:VEVENT
DTSTART;VALUE=DATE:20260329
DTEND;VALUE=DATE:20260330
DTSTAMP:20260422T204300
CREATED:20221215T082241Z
LAST-MODIFIED:20260127T001700Z
UID:10000323-1774742400-1774828799@elynevada.net
SUMMARY:National Nevada Day
DESCRIPTION:National Nevada Day\nIt’s National Nevada Day In 2017\, the National Day Calendar began celebrating each state in the order they entered the union\, and March 29th is the day they recognize Nevada. We all know that home means Nevada\, and in that spirit\, here’s to the Silver State!
URL:https://elynevada.net/event/national-nevada-day/
LOCATION:NV
CATEGORIES:History
ATTACH;FMTTYPE=image/jpeg:https://elynevada.net/wp-content/uploads/2022/12/asf.jpg
END:VEVENT
END:VCALENDAR