BEGIN:VCALENDAR
VERSION:2.0
PRODID:-//Welcome To Ely - ECPv6.15.20//NONSGML v1.0//EN
CALSCALE:GREGORIAN
METHOD:PUBLISH
X-WR-CALNAME:Welcome To Ely
X-ORIGINAL-URL:https://elynevada.net
X-WR-CALDESC:Events for Welcome To Ely
REFRESH-INTERVAL;VALUE=DURATION:PT1H
X-Robots-Tag:noindex
X-PUBLISHED-TTL:PT1H
BEGIN:VTIMEZONE
TZID:UTC
BEGIN:STANDARD
TZOFFSETFROM:+0000
TZOFFSETTO:+0000
TZNAME:UTC
DTSTART:20230101T000000
END:STANDARD
END:VTIMEZONE
BEGIN:VEVENT
DTSTART;VALUE=DATE:20240216
DTEND;VALUE=DATE:20240219
DTSTAMP:20260424T210137
CREATED:20220125T050659Z
LAST-MODIFIED:20240119T045747Z
UID:10000667-1708041600-1708300799@elynevada.net
SUMMARY:Winter Steam Photo Spectacular
DESCRIPTION:Winter Steam Photo Spectacular\nRailfans from around the world come to Ely to photograph winter steam in early February each year. \nPhotography workshops are typically intensive three-and-a-half-day experience that is based at photogenic Nevada Northern Railway\, National Historic Landmark in Ely Nevada. Time stopped at the railroad. You will be able to hone your photography skills under the tutelage of well known rail photographers in the western United States. \nThe workshops offer an in-depth\, hands-on photographic instruction in a time capsule that is essentially unchanged since it was built a century ago. The workshop will incorporate talks\, edit-and-critique sessions\, and photo assignments in each day’s schedule. \nLearn how to navigate your surroundings and work with light\, color\, background\, and other influences and challenges inherent in each unique setting. You will gain a better technical understanding of how to use your camera’s body\, lenses\, and various settings. You’ll have questions. The instructors are there to answer those questions and get you to look at the world with a new appreciation. They are there to push you out of your comfort zone. \nThe goal is to help you understand on how to create stronger\, more interesting compositions using wide angle\, normal\, and telephoto lenses. You’ll have the chance to discover new ways to use color and pattern to add depth\, emotion\, and graphic power to your images. This will help you transition from just taking pictures to expressing powerful ideas through your imagery. Expand your ability to choose compelling subjects and portray them in more meaningful ways. \nThe highlight of the workshops might be the night photo shoots. Using “Hollywood” level lighting equipment\, you will have the ability to photograph the night in a whole new way. You will have the chance to experiment with different settings\, viewpoints and capture outstanding images that you thought would be impossible. \nBy the end of the workshop\, you will be tired but will be leaving with a new comprehension of what it takes to “get” the shot. You should be more comfortable in using your and professional equipment. You will be looking at the world with a new awareness and judgment. Attending the workshop will make you a better photographer. You’ll have the best tools and use it with confidence! \nDiscover more about the Nevada Northern Railway HERE!\nDiscover more to don in White Pine County HERE!
URL:https://elynevada.net/event/winter-steam-photography-workshop/2024-02-16/
LOCATION:Nevada Northern Railway\, 1100 Avenue A\, Ely\, NV\, 89301\, United States
CATEGORIES:Arts & Culture,Community,History
ATTACH;FMTTYPE=image/jpeg:https://elynevada.net/wp-content/uploads/2018/12/train.jpg
END:VEVENT
END:VCALENDAR