BEGIN:VCALENDAR
VERSION:2.0
PRODID:-//Welcome To Ely - ECPv6.15.20//NONSGML v1.0//EN
CALSCALE:GREGORIAN
METHOD:PUBLISH
X-ORIGINAL-URL:https://elynevada.net
X-WR-CALDESC:Events for Welcome To Ely
REFRESH-INTERVAL;VALUE=DURATION:PT1H
X-Robots-Tag:noindex
X-PUBLISHED-TTL:PT1H
BEGIN:VTIMEZONE
TZID:America/Los_Angeles
BEGIN:DAYLIGHT
TZOFFSETFROM:-0800
TZOFFSETTO:-0700
TZNAME:PDT
DTSTART:20230312T100000
END:DAYLIGHT
BEGIN:STANDARD
TZOFFSETFROM:-0700
TZOFFSETTO:-0800
TZNAME:PST
DTSTART:20231105T090000
END:STANDARD
BEGIN:DAYLIGHT
TZOFFSETFROM:-0800
TZOFFSETTO:-0700
TZNAME:PDT
DTSTART:20240310T100000
END:DAYLIGHT
BEGIN:STANDARD
TZOFFSETFROM:-0700
TZOFFSETTO:-0800
TZNAME:PST
DTSTART:20241103T090000
END:STANDARD
BEGIN:DAYLIGHT
TZOFFSETFROM:-0800
TZOFFSETTO:-0700
TZNAME:PDT
DTSTART:20250309T100000
END:DAYLIGHT
BEGIN:STANDARD
TZOFFSETFROM:-0700
TZOFFSETTO:-0800
TZNAME:PST
DTSTART:20251102T090000
END:STANDARD
END:VTIMEZONE
BEGIN:VEVENT
DTSTART;VALUE=DATE:20240608
DTEND;VALUE=DATE:20240609
DTSTAMP:20260424T100604
CREATED:20230124T075934Z
LAST-MODIFIED:20240322T203649Z
UID:10000540-1717804800-1717891199@elynevada.net
SUMMARY:Fears\, Tears\, and Beers 2024
DESCRIPTION:Fears\, Tears\, and Beers 2024\nFears\, Tears\, and Beers 2024 is the enduro format mountain bike event of the season! Pedal your bike to the top of the mountain and then you are timed at specific sections of the course. There will be 2-6 timed sections\, mostly twisty downhills and sprint sections. The sum of the times on these special tests will determine the winner.\n\nThe event takes place on BLM and USFS administered lands under special use permits.\n\nMen’s and women’s events for all classes.\n\nFun Run: Shorter in length and less climbing than the beginner class\, 2 timed sections\nBeginner Class: 17.5 miles\, 2\,300′ elevation gain\, 3 timed sections\nSport Class: 26.6 miles\, 3\,500′ elevation gain\, 4 timed sections\nExpert/Pro Class: 33.3 miles\, 5\,400′ elevation gain\, 6 timed sections\nBe prepared for the weather. We have had everything from hot and sunny to very wet and snowing. \nAfter-party/awards ceremony at Bristlecone Convention Center\nRacers eat free\, others will need purchase wristband for $10.\n\nThe event is also great for visitors. Music and celebrating all day at Broadbent Park. Bring your binoculars and lawn chairs to watch the Expert and Pro classes take on the final downhill timed section.\n\nJune 8th – Check in begins at 8:00 a.m. Races start 9 a.m.\nFun Ride\, Beginners\, Sport\, Expert and Pro\n1st 2nd and 3rd awarded in each class\nContact Kent Robertson-(775-289-6042) or Kelly Ernest-(775-296-0910) for more information. \nStay Updated by Following This Event on Facebook HERE!\nLearn More and Register For the Event HERE!
URL:https://elynevada.net/event/fears-tears-and-beers-2024/
LOCATION:Ely\, NV\, 89301\, United States
CATEGORIES:History,Races,Sports
ATTACH;FMTTYPE=image/jpeg:https://elynevada.net/wp-content/uploads/2023/01/Fears-Tears-and-Beers-2023.jpg
ORGANIZER;CN="Great Basin Trails Stewardship":MAILTO:krobeg@mwpower.net
END:VEVENT
BEGIN:VEVENT
DTSTART;TZID=America/Los_Angeles:20240608T100000
DTEND;TZID=America/Los_Angeles:20240608T160000
DTSTAMP:20260424T100604
CREATED:20220126T050016Z
LAST-MODIFIED:20240503T214517Z
UID:10002737-1717840800-1717862400@elynevada.net
SUMMARY:Ely Renaissance Village Open
DESCRIPTION:Ely Renaissance Village Open!\nFor the ultimate heritage experience of White Pine County\, the Ely Renaissance Village may top the list.\nTour a total of nine houses\, seven of which have each been themed after a different ethnic background that helped shape our community. The Village is made for vacation planning and is open Fridays and Saturdays in the summer. Check out the 360 video below\, which allows you to click and drag different views as it provides you a feel for the site before visiting it in person: https://bit.ly/3hGMr5d\n\nLearn More Here!\n\nTravel Nevada
URL:https://elynevada.net/event/ely-renaissance-village-open/2024-06-08/
LOCATION:Ely Renaissance Village\, 400\, Ely\, NV\, 89301\, United States
CATEGORIES:Community,History
ATTACH;FMTTYPE=image/jpeg:https://elynevada.net/wp-content/uploads/2022/01/CoopyRenVillage4_SM.jpg
END:VEVENT
END:VCALENDAR