BEGIN:VCALENDAR
VERSION:2.0
PRODID:-//Welcome To Ely - ECPv6.15.20//NONSGML v1.0//EN
CALSCALE:GREGORIAN
METHOD:PUBLISH
X-WR-CALNAME:Welcome To Ely
X-ORIGINAL-URL:https://elynevada.net
X-WR-CALDESC:Events for Welcome To Ely
REFRESH-INTERVAL;VALUE=DURATION:PT1H
X-Robots-Tag:noindex
X-PUBLISHED-TTL:PT1H
BEGIN:VTIMEZONE
TZID:UTC
BEGIN:STANDARD
TZOFFSETFROM:+0000
TZOFFSETTO:+0000
TZNAME:UTC
DTSTART:20230101T000000
END:STANDARD
END:VTIMEZONE
BEGIN:VEVENT
DTSTART;TZID=UTC:20241206T180000
DTEND;TZID=UTC:20241206T210000
DTSTAMP:20260423T234049
CREATED:20221027T050410Z
LAST-MODIFIED:20240131T065221Z
UID:10000489-1733508000-1733518800@elynevada.net
SUMMARY:Festival Of Trees Auction - 2024
DESCRIPTION:Festival of Trees Auction – 2024\nAfter a full week of Festival of Trees\, voting on donated and decorated Christmas trees at the Bristlecone Convention Center\, the day finally comes for the auction on Friday\, December 6th. All proceeds will go to Great Basin Service Club’s mission and charity. Contact Bunny Hill for more information at (775) 296 – 0439. Buy tickets and reserve at the Bristlecone Convention Center. Call the Convention Center at (775) 289-3720.
URL:https://elynevada.net/event/festival-of-trees-auction-2022/
LOCATION:Bristlecone Convention Center\, 150 Sixth Street\, Ely\, NV\, 89301\, United States
CATEGORIES:Community,History
ATTACH;FMTTYPE=image/jpeg:https://elynevada.net/wp-content/uploads/2022/10/festival-of-trees-auction-2024.jpg
ORGANIZER;CN="Great Basin Service Club":MAILTO:greatbasinserviceclub@yahoo.com
END:VEVENT
END:VCALENDAR