BEGIN:VCALENDAR
VERSION:2.0
PRODID:-//Welcome To Ely - ECPv6.15.20//NONSGML v1.0//EN
CALSCALE:GREGORIAN
METHOD:PUBLISH
X-WR-CALNAME:Welcome To Ely
X-ORIGINAL-URL:https://elynevada.net
X-WR-CALDESC:Events for Welcome To Ely
REFRESH-INTERVAL;VALUE=DURATION:PT1H
X-Robots-Tag:noindex
X-PUBLISHED-TTL:PT1H
BEGIN:VTIMEZONE
TZID:America/Los_Angeles
BEGIN:DAYLIGHT
TZOFFSETFROM:-0800
TZOFFSETTO:-0700
TZNAME:PDT
DTSTART:20240310T100000
END:DAYLIGHT
BEGIN:STANDARD
TZOFFSETFROM:-0700
TZOFFSETTO:-0800
TZNAME:PST
DTSTART:20241103T090000
END:STANDARD
BEGIN:DAYLIGHT
TZOFFSETFROM:-0800
TZOFFSETTO:-0700
TZNAME:PDT
DTSTART:20250309T100000
END:DAYLIGHT
BEGIN:STANDARD
TZOFFSETFROM:-0700
TZOFFSETTO:-0800
TZNAME:PST
DTSTART:20251102T090000
END:STANDARD
BEGIN:DAYLIGHT
TZOFFSETFROM:-0800
TZOFFSETTO:-0700
TZNAME:PDT
DTSTART:20260308T100000
END:DAYLIGHT
BEGIN:STANDARD
TZOFFSETFROM:-0700
TZOFFSETTO:-0800
TZNAME:PST
DTSTART:20261101T090000
END:STANDARD
END:VTIMEZONE
BEGIN:VEVENT
DTSTART;TZID=America/Los_Angeles:20250531T100000
DTEND;TZID=America/Los_Angeles:20250531T160000
DTSTAMP:20260423T124007
CREATED:20250128T193920Z
LAST-MODIFIED:20250128T194014Z
UID:10003275-1748685600-1748707200@elynevada.net
SUMMARY:Ely Renaissance Village OPEN
DESCRIPTION:Ely Renaissance Village Open!\nFor the ultimate heritage experience of White Pine County\, the Ely Renaissance Village may top the list.\nTour a total of nine houses\, seven of which have each been themed after a different ethnic background that helped shape our community. The Village is made for vacation planning and is open Fridays and Saturdays in the summer. Check out the 360 video below\, which allows you to click and drag different views as it provides you a feel for the site before visiting it in person: https://bit.ly/3hGMr5d\n\nLearn More Here!
URL:https://elynevada.net/event/ely-renaissance-village-open-2/2025-05-31/
LOCATION:Ely Renaissance Village\, 400\, Ely\, NV\, 89301\, United States
CATEGORIES:Arts & Culture,Community,History
ATTACH;FMTTYPE=image/jpeg:https://elynevada.net/wp-content/uploads/2022/01/CoopyRenVillage4_SM.jpg
END:VEVENT
BEGIN:VEVENT
DTSTART;TZID=America/Los_Angeles:20250531T130000
DTEND;TZID=America/Los_Angeles:20250531T150000
DTSTAMP:20260423T124007
CREATED:20250225T223530Z
LAST-MODIFIED:20250303T210956Z
UID:10003453-1748696400-1748703600@elynevada.net
SUMMARY:NNRY Excursion Train
DESCRIPTION:NNRY Excursion Train\nThe NNRY’s Regular Excursion Train through Robinson Canyon or Valley Vista. \nBook Your Ticket\, Discover Which Train is Running\, and More at www.NNRY.com!
URL:https://elynevada.net/event/nnry-excursion-train-3-2/2025-05-31/
LOCATION:Nevada Northern Railway\, 1100 Avenue A\, Ely\, NV\, 89301\, United States
CATEGORIES:History
ATTACH;FMTTYPE=image/jpeg:https://elynevada.net/wp-content/uploads/2020/11/Test-7.jpg
END:VEVENT
BEGIN:VEVENT
DTSTART;TZID=America/Los_Angeles:20250531T130000
DTEND;TZID=America/Los_Angeles:20250531T150000
DTSTAMP:20260423T124007
CREATED:20250326T235642Z
LAST-MODIFIED:20250326T235829Z
UID:10003961-1748696400-1748703600@elynevada.net
SUMMARY:Mother & Me\, History and Tea
DESCRIPTION:Mother & Me\, History and Tea\nJoin the White Pine Public Museum in celebrating mothers at Mother & Me\, History and Tea! \nAn afternoon of elegance\, history\, and fun! \nCelebrate tradition with a special mother-daughter tea event. \nLearn the art of hosting a proper tea party. \nDress the part! Wear your favorite tea-time attire — hats\, gloves\, and dresses encouraged! \n1:00pm \nFriday\, May 31\, 2025 \nAges 5+\, Fathers are welcome! \nAdmission: $7 \nMuseum Members Enter for Free! \nRSVP to Museum by May 24\, 2025: \nEmail: wpmuseumnv@gmail.com \nPhone: (775) 289-4710 \n \nDiscover More White Pine County Museums HERE!
URL:https://elynevada.net/event/mother-me-history-and-tea/
LOCATION:White Pine Public Museum\, 2000 East Aultman Street\, Ely\, NV\, 89301\, United States
CATEGORIES:Arts & Culture,History,Party
ATTACH;FMTTYPE=image/png:https://elynevada.net/wp-content/uploads/2025/03/Mother-Me-History-and-Tea-Banner.png
ORGANIZER;CN="White Pine Public Museum":MAILTO:wpmusuemnv@gmail.com
END:VEVENT
BEGIN:VEVENT
DTSTART;TZID=America/Los_Angeles:20250531T163000
DTEND;TZID=America/Los_Angeles:20250531T180000
DTSTAMP:20260423T124007
CREATED:20240201T082226Z
LAST-MODIFIED:20250303T202510Z
UID:10003882-1748709000-1748714400@elynevada.net
SUMMARY:NNRY Bingo Bash Express
DESCRIPTION:Bingo Bash Express\nBingo Was His Namo… on the Train!!!!!!!!!!!!!! \nJoin us for a game of bingo while riding behind a vintage steam locomotive! When the train leaves you will receive two bingo cards\, with the option to purchase more. As you travel along the tracks\, the caller will announce bingo numbers over the sound system. Winners who hit a bingo\, will receive prizes! \nTickets and More Info at www.NNRY.com
URL:https://elynevada.net/event/bingo-bash-express/2025-05-31/
LOCATION:Nevada Northern Railway\, 1100 Avenue A\, Ely\, NV\, 89301\, United States
CATEGORIES:Arts & Culture,Community,History,Sports
ATTACH;FMTTYPE=image/jpeg:https://elynevada.net/wp-content/uploads/2024/02/Bingo.-On-the-Train.jpg
END:VEVENT
BEGIN:VEVENT
DTSTART;TZID=America/Los_Angeles:20250531T190000
DTEND;TZID=America/Los_Angeles:20250531T220000
DTSTAMP:20260423T124007
CREATED:20200602T065817Z
LAST-MODIFIED:20250225T225845Z
UID:10003531-1748718000-1748728800@elynevada.net
SUMMARY:NNRY Sunset\, Stars\, and Champagne Train
DESCRIPTION:The Nevada Northern Railway offers a most unique experience and look forward to having you join us for a ride back in history here in the mountains of Central Nevada\, this time for the Sunset\, Stars\, and Champagne Train! Venture out into the rural mountains of White Pine County for nothing less than picturesque views and our renowned dark skies\, all while relaxing and socializing with bottomless champagne. Basic info about Nevada Northern Railway rides\, including the Sunset\, Stars\, and Champagne Train can be found below. \n\nDon’t miss the train! All Nevada Northern Railway trains depart from ELY\, NV on-time\, regardless of the weather\, as they have for over a century now\, so be at the depot ready for boarding 30 minutes before departure time.\nEveryone needs a ticket\nNo passes or discounts are available on themed trains (other than Membership discount…see below)\nSorry\, pets are not allowed on the trains or tours. Certified service animals are always welcome\, but please take necessary precautions for this somewhat noisy\, industrial environment.\n\nLearn more about the Railway by clicking HERE!
URL:https://elynevada.net/event/nnry-sunset-stars-and-champagne-train/2025-05-31/
LOCATION:Nevada Northern Railway\, 1100 Avenue A\, Ely\, NV\, 89301\, United States
CATEGORIES:Arts & Culture,History,Stargazing
ATTACH;FMTTYPE=image/jpeg:https://elynevada.net/wp-content/uploads/2020/06/Couple-for-Sunset-Stars-Champagne.jpg
END:VEVENT
END:VCALENDAR