BEGIN:VCALENDAR
VERSION:2.0
PRODID:-//Welcome To Ely - ECPv6.15.20//NONSGML v1.0//EN
CALSCALE:GREGORIAN
METHOD:PUBLISH
X-WR-CALNAME:Welcome To Ely
X-ORIGINAL-URL:https://elynevada.net
X-WR-CALDESC:Events for Welcome To Ely
REFRESH-INTERVAL;VALUE=DURATION:PT1H
X-Robots-Tag:noindex
X-PUBLISHED-TTL:PT1H
BEGIN:VTIMEZONE
TZID:America/Los_Angeles
BEGIN:DAYLIGHT
TZOFFSETFROM:-0800
TZOFFSETTO:-0700
TZNAME:PDT
DTSTART:20240310T100000
END:DAYLIGHT
BEGIN:STANDARD
TZOFFSETFROM:-0700
TZOFFSETTO:-0800
TZNAME:PST
DTSTART:20241103T090000
END:STANDARD
BEGIN:DAYLIGHT
TZOFFSETFROM:-0800
TZOFFSETTO:-0700
TZNAME:PDT
DTSTART:20250309T100000
END:DAYLIGHT
BEGIN:STANDARD
TZOFFSETFROM:-0700
TZOFFSETTO:-0800
TZNAME:PST
DTSTART:20251102T090000
END:STANDARD
BEGIN:DAYLIGHT
TZOFFSETFROM:-0800
TZOFFSETTO:-0700
TZNAME:PDT
DTSTART:20260308T100000
END:DAYLIGHT
BEGIN:STANDARD
TZOFFSETFROM:-0700
TZOFFSETTO:-0800
TZNAME:PST
DTSTART:20261101T090000
END:STANDARD
END:VTIMEZONE
BEGIN:VEVENT
DTSTART;TZID=America/Los_Angeles:20250531T130000
DTEND;TZID=America/Los_Angeles:20250531T150000
DTSTAMP:20260423T080516
CREATED:20250326T235642Z
LAST-MODIFIED:20250326T235829Z
UID:10003961-1748696400-1748703600@elynevada.net
SUMMARY:Mother & Me\, History and Tea
DESCRIPTION:Mother & Me\, History and Tea\nJoin the White Pine Public Museum in celebrating mothers at Mother & Me\, History and Tea! \nAn afternoon of elegance\, history\, and fun! \nCelebrate tradition with a special mother-daughter tea event. \nLearn the art of hosting a proper tea party. \nDress the part! Wear your favorite tea-time attire — hats\, gloves\, and dresses encouraged! \n1:00pm \nFriday\, May 31\, 2025 \nAges 5+\, Fathers are welcome! \nAdmission: $7 \nMuseum Members Enter for Free! \nRSVP to Museum by May 24\, 2025: \nEmail: wpmuseumnv@gmail.com \nPhone: (775) 289-4710 \n \nDiscover More White Pine County Museums HERE!
URL:https://elynevada.net/event/mother-me-history-and-tea/
LOCATION:White Pine Public Museum\, 2000 East Aultman Street\, Ely\, NV\, 89301\, United States
CATEGORIES:Arts & Culture,History,Party
ATTACH;FMTTYPE=image/png:https://elynevada.net/wp-content/uploads/2025/03/Mother-Me-History-and-Tea-Banner.png
ORGANIZER;CN="White Pine Public Museum":MAILTO:wpmusuemnv@gmail.com
END:VEVENT
END:VCALENDAR