BEGIN:VCALENDAR
VERSION:2.0
PRODID:-//Welcome To Ely - ECPv6.15.20//NONSGML v1.0//EN
CALSCALE:GREGORIAN
METHOD:PUBLISH
X-WR-CALNAME:Welcome To Ely
X-ORIGINAL-URL:https://elynevada.net
X-WR-CALDESC:Events for Welcome To Ely
REFRESH-INTERVAL;VALUE=DURATION:PT1H
X-Robots-Tag:noindex
X-PUBLISHED-TTL:PT1H
BEGIN:VTIMEZONE
TZID:America/Los_Angeles
BEGIN:DAYLIGHT
TZOFFSETFROM:-0800
TZOFFSETTO:-0700
TZNAME:PDT
DTSTART:20240310T100000
END:DAYLIGHT
BEGIN:STANDARD
TZOFFSETFROM:-0700
TZOFFSETTO:-0800
TZNAME:PST
DTSTART:20241103T090000
END:STANDARD
BEGIN:DAYLIGHT
TZOFFSETFROM:-0800
TZOFFSETTO:-0700
TZNAME:PDT
DTSTART:20250309T100000
END:DAYLIGHT
BEGIN:STANDARD
TZOFFSETFROM:-0700
TZOFFSETTO:-0800
TZNAME:PST
DTSTART:20251102T090000
END:STANDARD
BEGIN:DAYLIGHT
TZOFFSETFROM:-0800
TZOFFSETTO:-0700
TZNAME:PDT
DTSTART:20260308T100000
END:DAYLIGHT
BEGIN:STANDARD
TZOFFSETFROM:-0700
TZOFFSETTO:-0800
TZNAME:PST
DTSTART:20261101T090000
END:STANDARD
END:VTIMEZONE
BEGIN:VEVENT
DTSTART;VALUE=DATE:20251201
DTEND;VALUE=DATE:20251206
DTSTAMP:20260423T002307
CREATED:20251125T003110Z
LAST-MODIFIED:20251125T003141Z
UID:10004070-1764547200-1764979199@elynevada.net
SUMMARY:2025 Festival of Trees
DESCRIPTION:2025 Festival of Trees & Auction\nFestival of Trees is an annual holiday event hosted by the Great Basin Service Club. Get ready for 2025 Festival of Trees & Auction! \nTrees are donated and decorated by organizations and businesses throughout White Pine County. You are welcome to come by the Bristlecone Convention Center during extended business hours from Dec. 1st through the 4th to vote on your favorite trees. \nFriday\, December 5th will be the tree auction and banquet to raise money for the Service Clubs mission. The convention center will be decked out in full holiday spirit making it a perfect time to come and take family photos. This is the time to start viewing Ely in the eyes of Christmas and get ready for an exciting month! \nAuction Night:\nAfter a full week of Festival of Trees\, voting on donated and decorated Christmas trees at the Bristlecone Convention Center\, the day finally comes for the auction on Friday\, December 5th. \nThis year will feature live music by Nevada native Jacob Bingham! \n \nAll proceeds will go to Great Basin Service Club’s mission and charity. \nContact Bunny Hill for more information at (775) 296 – 0439.\nBuy tickets and reserve at the Bristlecone Convention Center. Call the Convention Center at (775) 289-3720. \n \n  \nLearn More About Great Basin Service Club HERE!\nDiscover More Holiday Season Events in White Pine County HERE!
URL:https://elynevada.net/event/2025-festival-of-trees/
LOCATION:Bristlecone Convention Center\, 150 Sixth Street\, Ely\, NV\, 89301\, United States
CATEGORIES:Community,Holiday,Party
ATTACH;FMTTYPE=image/png:https://elynevada.net/wp-content/uploads/2025/11/2025-Festival-of-Trees-Facebook-Banner.png
ORGANIZER;CN="Great Basin Service Club":MAILTO:greatbasinserviceclub@yahoo.com
END:VEVENT
END:VCALENDAR