BEGIN:VCALENDAR
VERSION:2.0
PRODID:-//Welcome To Ely - ECPv6.15.20//NONSGML v1.0//EN
CALSCALE:GREGORIAN
METHOD:PUBLISH
X-ORIGINAL-URL:https://elynevada.net
X-WR-CALDESC:Events for Welcome To Ely
REFRESH-INTERVAL;VALUE=DURATION:PT1H
X-Robots-Tag:noindex
X-PUBLISHED-TTL:PT1H
BEGIN:VTIMEZONE
TZID:America/Los_Angeles
BEGIN:DAYLIGHT
TZOFFSETFROM:-0800
TZOFFSETTO:-0700
TZNAME:PDT
DTSTART:20250309T100000
END:DAYLIGHT
BEGIN:STANDARD
TZOFFSETFROM:-0700
TZOFFSETTO:-0800
TZNAME:PST
DTSTART:20251102T090000
END:STANDARD
BEGIN:DAYLIGHT
TZOFFSETFROM:-0800
TZOFFSETTO:-0700
TZNAME:PDT
DTSTART:20260308T100000
END:DAYLIGHT
BEGIN:STANDARD
TZOFFSETFROM:-0700
TZOFFSETTO:-0800
TZNAME:PST
DTSTART:20261101T090000
END:STANDARD
BEGIN:DAYLIGHT
TZOFFSETFROM:-0800
TZOFFSETTO:-0700
TZNAME:PDT
DTSTART:20270314T100000
END:DAYLIGHT
BEGIN:STANDARD
TZOFFSETFROM:-0700
TZOFFSETTO:-0800
TZNAME:PST
DTSTART:20271107T090000
END:STANDARD
END:VTIMEZONE
BEGIN:VEVENT
DTSTART;TZID=America/Los_Angeles:20260620T170000
DTEND;TZID=America/Los_Angeles:20260620T200000
DTSTAMP:20260423T015743
CREATED:20250610T203522Z
LAST-MODIFIED:20260203T220301Z
UID:10004034-1781974800-1781985600@elynevada.net
SUMMARY:Ely Wine Walk and Auction
DESCRIPTION:Ely Wine Walk and Auction\nJoin us on Saturday\, June 21\, for the 2025 Ely Wine Walk at the Renaissance Village!\n\nSip on delicious wines for a great cause!\n\nly’s Annual Art and Wine Walk benefitting Ely’s Boy’s and Girl’s Club. This Art and Wine Walk showcases Ely’s downtown\, from the Renaissance Village\, to much more!\n\nAttendees will receive a commemorative wine glass\, enjoy live music and small bites\, and visit the cash bar if you’d prefer to skip the wine.\n\nMobile auction + live auction will feature fun experiences and unique packages.\n\n\nThis cost will include wine from various booths\, a meal voucher for one of the food trucks attending and a piece of souvenir drink wear.\n\nThis event will feature various wines to sample and unique art to purchase. Many mobile/silent auction items will be up for grabs including many live auction items.\n\n\nLive auction begins at 7:00p / Mobile auction closes at 7:45p\n\nTickets are $50 pre-sale / $60 at the door and all proceeds benefit the local Boys & Girls Club.\n\nFor tickets\, auction registration\, the mobile auction\, and more\, visit https://bgctm.ejoinme.org/ElyWineWalk2025\n\n\n\nDiscover Ely Events HERE!
URL:https://elynevada.net/event/ely-wine-walk-and-auction/
LOCATION:Ely Renaissance Village\, 400\, Ely\, NV\, 89301\, United States
CATEGORIES:Arts & Culture,Community,Party
ORGANIZER;CN="Ely Boys and Girls Club":MAILTO:info@bgctm.org
END:VEVENT
BEGIN:VEVENT
DTSTART;VALUE=DATE:20260703
DTEND;VALUE=DATE:20260706
DTSTAMP:20260423T015743
CREATED:20260127T222302Z
LAST-MODIFIED:20260127T222303Z
UID:10004951-1783036800-1783295999@elynevada.net
SUMMARY:Red\, White Pine\, & Blue
DESCRIPTION:Red\, White Pine\, & Blue\nEly and White Pine County is the ultimate destination for your 4th of July celebrations! Be here for our Red\, White Pine\, and Blue Independence Weekend Festival! \nUltimate Fourth of July Destination\n\n\n\n\nThe entire community is getting involved for our Independence Day Festival! It’s an all-hands-on-deck celebration to ring in another year of the United States. You may find the ever-updating schedule of the week’s events below\, or keep an eye on our Monthly Events Calendar HERE! \n\n\n\n\n\n\nWe have packed four days worth of events and goings-on for July 4th weekend. These events range from art shows\, scavenger hunts\, a historic downtown parade\, free breakfasts’\, and so much more! A true Independence Day Celebration for all ages!\n\n\n\n\n\n Festival Events\nJul. 3 – Jul. 5\, 2026\nThursday\, Jul. 2\n11am-5pm\, Sculpture Park: All Class Reunion Registration\n  \nFriday\, Jul. 3\n10am-2pm\, Ely Art Bank: Open\n10am-4pm Ely Renaissance Village Open\n11am-2pm\, Nevada Bank & Trust: Annual Independence Day BBQ\n11am-5pm\, Sculpture Park: All Class Reunion Registration\n11am-5pm\, McGill: McGill Pool is Open\n12pm-2pm\, Ely: Open House Tours of St. Bartholomew Episcopal Church\, Centennial Fine Arts Building\, & Ely Masonic Hall Building\n12pm-3pm: White Pine High School and Great Basin College campus tours\n4pm-6pm\, White Pine Public Museum: Wine Tasting & Social\n4:30pm\, Nevada Northern Railway: Excursion to Robinson Canyon\n5pm-7pm\, Ely Art Bank: Artist Reception\n7:15pm\, Nevada Northern Railway: Sunset\, Stars & Champagne Train\n  \nSaturday\, Jul. 4\n8am-10:30am\, Bristlecone Convention Center: FREE Community Breakfast\n10am-2pm\, Ely Art Bank: Open\n10am-4pm\, Ely Renaissance Village: Village is Open\, Food Available For Purchase After Parade\n11am\, Downtown Ely: Independence Day Parade\n11am-5pm\, McGill: McGill Pool is Open\n11:45am-12:30pm\, Veterans Park: Military Band\n12:15pm\, Broadbent Park: White Pine Chamber of Commerce Red\, White & Blue Blowout\n1215pm\, Broadbent Park: EVFD Bar Open to Public\n12:30pm\, Broadbent Park: EVFD Cornhole Tournament\n1pm\, Nevada Northern Railway: Diesel Train to Robinson Canyon\n2:30pm\, Nevada Northern Railway: Guided Tour of the Musuem with Torpedo Demonstration\n4pm\, Commercial Club in Ruth: Pool Tournament\n5pm-9pm\, Nevada Northern Railway: Alumni BBQ and Bonfire\n6:30pm\, Nevada Northern Railway:  Fireworks Express – 6:30pm\n9pm\, White Pine Golf Course: Fireworks presented by Great Basin Pyrotechnics\nAfter Fireworks\, Outpost Bar: Afterparty w/ Drink Specials & Karaoke\n  \nSunday\, Jul. 5\n9am\, White Pine County Golf Course: Red\, White\, and Blue 4 Person Scramble\n10am\, Nevada Northern Railway: Guided Tour of the Musuem\n10am-2pm\, Ely Art Bank: Open\n10am-4pm Ely Renaissance Village Open\n11am-5pm\, McGill: McGill Pool is Open\n2pm\, Outpost Bar: Cornhole Tournament\n3:pm-5:pm\, Ely VFW: Dart Tournament\n4pm-6pm\, Cave Lake State Park: White Pine Yacht Club Happy Hour\n4:30pm\, Nevada Northern Railway: Rockin’ N’ Rollin’ Geology Train to Robinson Canyon\n5pm\, Shooters Bar & Grill: Billiards Tournament\n7:15pm\, Nevada Northern Railway: Sunset\, Stars & Champagne Train
URL:https://elynevada.net/event/red-white-pine-blue/
LOCATION:Ely\, NV\, 89301\, United States
CATEGORIES:Community,Party
ATTACH;FMTTYPE=image/jpeg:https://elynevada.net/wp-content/uploads/2025/05/red-white-pine-and-blue-for-home-page.jpg
END:VEVENT
BEGIN:VEVENT
DTSTART;TZID=America/Los_Angeles:20260711T180000
DTEND;TZID=America/Los_Angeles:20260711T210000
DTSTAMP:20260423T015743
CREATED:20260127T223054Z
LAST-MODIFIED:20260127T223055Z
UID:10004952-1783792800-1783803600@elynevada.net
SUMMARY:Summer Concerts in the Park - 2026
DESCRIPTION:Summer Concerts in the Park – 2026\nJoin us this summer for our Ely Summer Concerts in the Park – 2026!    We’re very excited to keep the music going this summer\, and it’s all taking place at Broadbent Park. Looking forward to seeing the community come down for these FREE shows. Let’s support these amazing musicians and let them feel welcome. Everyone is invited! These shows are made for families\, and blankets in the grass. \nLine Up Coming Soon
URL:https://elynevada.net/event/summer-concerts-in-the-park-2026/2026-07-11/
LOCATION:Broadbent Park
CATEGORIES:Community,Concert,Party
ATTACH;FMTTYPE=image/jpeg:https://elynevada.net/wp-content/uploads/2024/01/Ely-Summer-Concerts-in-the-Park.jpg
ORGANIZER;CN="White PIne County Tourism and Recreation":MAILTO:nicole.collard@elynevada.net
END:VEVENT
BEGIN:VEVENT
DTSTART;TZID=America/Los_Angeles:20260725T180000
DTEND;TZID=America/Los_Angeles:20260725T210000
DTSTAMP:20260423T015743
CREATED:20260127T223054Z
LAST-MODIFIED:20260127T223055Z
UID:10004953-1785002400-1785013200@elynevada.net
SUMMARY:Summer Concerts in the Park - 2026
DESCRIPTION:Summer Concerts in the Park – 2026\nJoin us this summer for our Ely Summer Concerts in the Park – 2026!    We’re very excited to keep the music going this summer\, and it’s all taking place at Broadbent Park. Looking forward to seeing the community come down for these FREE shows. Let’s support these amazing musicians and let them feel welcome. Everyone is invited! These shows are made for families\, and blankets in the grass. \nLine Up Coming Soon
URL:https://elynevada.net/event/summer-concerts-in-the-park-2026/2026-07-25/
LOCATION:Broadbent Park
CATEGORIES:Community,Concert,Party
ATTACH;FMTTYPE=image/jpeg:https://elynevada.net/wp-content/uploads/2024/01/Ely-Summer-Concerts-in-the-Park.jpg
ORGANIZER;CN="White PIne County Tourism and Recreation":MAILTO:nicole.collard@elynevada.net
END:VEVENT
BEGIN:VEVENT
DTSTART;TZID=America/Los_Angeles:20260808T080000
DTEND;TZID=America/Los_Angeles:20260808T150000
DTSTAMP:20260423T015743
CREATED:20260127T215835Z
LAST-MODIFIED:20260127T215849Z
UID:10004949-1786176000-1786201200@elynevada.net
SUMMARY:2nd Annual Tour de Schell
DESCRIPTION:2nd Annual Tour de Schell\nFresh off of the release of the new Ely Gravel Adventure Field Guide\, The Rotary Club of Ely is excited to expand gravel cycling in Nevada by producing the inaugural Tour de Schell.\nA gravel race through Nevada’s copper country. Cyclists will get the option to choose from 3 routes that will showcase some of the finest gravel in Nevada.\nDistances include:\nLong Distance 118 mi. 5\,438 ft of gain\nMedium Distance 81mi. 4\,084 ft of gain\nShort Distance 64mi. 3\,575 ft of gain.\nGPS of the routes and maps coming soon.\nParticipants will be treated to western hospitality on and off the course with food\, drinks\, music\, and activities at the event and things to do throughout the community all weekend.\nFor the complete Race Guide with all the information you will need to maximize your enjoyment at this event\, click HERE!\nTo access the maps of routes and elevation profiles for the 3 different categories\, click HERE!\nThis event comes right off the tails of the recently released Ely Gravel Adventure Field Guide. The first Gravel Adventure Field Guide in the state of Nevada has been long awaited.\n\n\nPer Gravel Adventure Field Guide: \n“The Basin and Range landscape of eastern Nevada represents one of the last frontiers within the ever-evolving American West. Imposing peaks between long stretches of valley floors have served as barriers to large scale development. A nineteenth-century Pony Express rider in White Pine County saw hard days of unforgiving miles. Their courage and determination lives on in the spirit of Nevadan generations that have followed. \nToday\, approximately 80 percent of the old Pony Express Trail travels through Nevada public lands. Over the years\, natural-resource development and recreational access have helped open the Basin and Range of White Pine County to economic opportunity and tourism. The county’s remote location continues to offer adventurers the chance to escape the trappings of modern life and experience the benefits of living\, working\, and playing in a truly rural setting. \nWith the town of Ely leading the way\, off-road adventure riding is helping the communities of White Pine County reimagine themselves. Miles of unpaved roads\, along with trail development\, have rekindled the gritty Old West spirit that gives eastern Nevada an edge as the region seeks to balance the booms-and-busts of years past. Gravel enthusiasts are part of this solution-based approach.” \nThe Ely Gravel Adventure Field Guide is available at the Bristlecone Convention Center in Ely\, NV. Or pick up yours at any of favorite bike shops in the west! \nLearn more about the Ely Gravel Adventure Field Guide and prepare for Tour de Schell HERE!
URL:https://elynevada.net/event/2nd-annual-tour-de-schell/
LOCATION:Ely\, NV\, 89301\, United States
CATEGORIES:Community,Party,Sports
ATTACH;FMTTYPE=image/jpeg:https://elynevada.net/wp-content/uploads/2025/12/Tour-de-Schell.jpg
ORGANIZER;CN="Ely Rotary Club":MAILTO:elyrotary@gmail.com
END:VEVENT
BEGIN:VEVENT
DTSTART;TZID=America/Los_Angeles:20260808T180000
DTEND;TZID=America/Los_Angeles:20260808T210000
DTSTAMP:20260423T015743
CREATED:20260127T223054Z
LAST-MODIFIED:20260127T223055Z
UID:10004954-1786212000-1786222800@elynevada.net
SUMMARY:Summer Concerts in the Park - 2026
DESCRIPTION:Summer Concerts in the Park – 2026\nJoin us this summer for our Ely Summer Concerts in the Park – 2026!    We’re very excited to keep the music going this summer\, and it’s all taking place at Broadbent Park. Looking forward to seeing the community come down for these FREE shows. Let’s support these amazing musicians and let them feel welcome. Everyone is invited! These shows are made for families\, and blankets in the grass. \nLine Up Coming Soon
URL:https://elynevada.net/event/summer-concerts-in-the-park-2026/2026-08-08/
LOCATION:Broadbent Park
CATEGORIES:Community,Concert,Party
ATTACH;FMTTYPE=image/jpeg:https://elynevada.net/wp-content/uploads/2024/01/Ely-Summer-Concerts-in-the-Park.jpg
ORGANIZER;CN="White PIne County Tourism and Recreation":MAILTO:nicole.collard@elynevada.net
END:VEVENT
BEGIN:VEVENT
DTSTART;TZID=America/Los_Angeles:20260815T180000
DTEND;TZID=America/Los_Angeles:20260815T210000
DTSTAMP:20260423T015743
CREATED:20260127T223054Z
LAST-MODIFIED:20260127T223055Z
UID:10004955-1786816800-1786827600@elynevada.net
SUMMARY:Summer Concerts in the Park - 2026
DESCRIPTION:Summer Concerts in the Park – 2026\nJoin us this summer for our Ely Summer Concerts in the Park – 2026!    We’re very excited to keep the music going this summer\, and it’s all taking place at Broadbent Park. Looking forward to seeing the community come down for these FREE shows. Let’s support these amazing musicians and let them feel welcome. Everyone is invited! These shows are made for families\, and blankets in the grass. \nLine Up Coming Soon
URL:https://elynevada.net/event/summer-concerts-in-the-park-2026/2026-08-15/
LOCATION:Broadbent Park
CATEGORIES:Community,Concert,Party
ATTACH;FMTTYPE=image/jpeg:https://elynevada.net/wp-content/uploads/2024/01/Ely-Summer-Concerts-in-the-Park.jpg
ORGANIZER;CN="White PIne County Tourism and Recreation":MAILTO:nicole.collard@elynevada.net
END:VEVENT
BEGIN:VEVENT
DTSTART;TZID=America/Los_Angeles:20261017T100000
DTEND;TZID=America/Los_Angeles:20261017T160000
DTSTAMP:20260423T015743
CREATED:20260107T204423Z
LAST-MODIFIED:20260108T191215Z
UID:10004093-1792231200-1792252800@elynevada.net
SUMMARY:Ely Renaissance Faire & Pumpkin Festival
DESCRIPTION:Ely Renaissance Faire & Pumpkin Festival\nThe Lions Club’s Ely Renaissance Faire & Pumpkin Festival returns to White Pine County once again! And\, once again\, expect fun\, food\, games\, prizes\, and an exciting time. Fun for the whole family! \nMedieval styled Punkin’ Chunkin’! \nPumpkins will fly\, and knights will battle as the Punkin Chunkin’ returns to Ely\, Nevada.\n\nWhere: Broadbent Park\nWhen: Oct. 17th\, 2026 10:00am-4:00pm\n\nYou don’t want to miss this full day of autumnal activities and medieval merriment!\n\nAlso expect the usual pumpkin patch\, punkin’ chunkin’ throwing contest\, pumpkin drops\, bounce house and carnival games\, and music and food. Hope to see you this October!\n\nDiscover More Events of White Pine County HERE!
URL:https://elynevada.net/event/ely-renaissance-faire-pumpkin-festival/
LOCATION:Broadbent Park
CATEGORIES:Community,Party
ATTACH;FMTTYPE=image/png:https://elynevada.net/wp-content/uploads/2026/01/Save-the-Date-2026-Ely-Ren-Faire.png
ORGANIZER;CN="Ely Lions Club":MAILTO:elylions@hotmail.com
END:VEVENT
END:VCALENDAR