BEGIN:VCALENDAR
VERSION:2.0
PRODID:-//Welcome To Ely - ECPv6.15.20//NONSGML v1.0//EN
CALSCALE:GREGORIAN
METHOD:PUBLISH
X-ORIGINAL-URL:https://elynevada.net
X-WR-CALDESC:Events for Welcome To Ely
REFRESH-INTERVAL;VALUE=DURATION:PT1H
X-Robots-Tag:noindex
X-PUBLISHED-TTL:PT1H
BEGIN:VTIMEZONE
TZID:America/Los_Angeles
BEGIN:DAYLIGHT
TZOFFSETFROM:-0800
TZOFFSETTO:-0700
TZNAME:PDT
DTSTART:20240310T100000
END:DAYLIGHT
BEGIN:STANDARD
TZOFFSETFROM:-0700
TZOFFSETTO:-0800
TZNAME:PST
DTSTART:20241103T090000
END:STANDARD
BEGIN:DAYLIGHT
TZOFFSETFROM:-0800
TZOFFSETTO:-0700
TZNAME:PDT
DTSTART:20250309T100000
END:DAYLIGHT
BEGIN:STANDARD
TZOFFSETFROM:-0700
TZOFFSETTO:-0800
TZNAME:PST
DTSTART:20251102T090000
END:STANDARD
BEGIN:DAYLIGHT
TZOFFSETFROM:-0800
TZOFFSETTO:-0700
TZNAME:PDT
DTSTART:20260308T100000
END:DAYLIGHT
BEGIN:STANDARD
TZOFFSETFROM:-0700
TZOFFSETTO:-0800
TZNAME:PST
DTSTART:20261101T090000
END:STANDARD
END:VTIMEZONE
BEGIN:VEVENT
DTSTART;TZID=America/Los_Angeles:20250817T130000
DTEND;TZID=America/Los_Angeles:20250817T140000
DTSTAMP:20260425T151219
CREATED:20240716T191629Z
LAST-MODIFIED:20250408T173215Z
UID:10002831-1755435600-1755439200@elynevada.net
SUMMARY:T-Rex/Costume Shuffle
DESCRIPTION:T-Rex/Costume Shuffle\nMark your calendars! The 2025 T-Rex/Costume Shuffle is back at the White Pine Horse Races! \nThis fan-favorite race is bigger and better than ever! Whether you’re racing to win or just for laughs\, it’s guaranteed to be a roaring good time! \nSunday\, August 17\, 2025 \nFREE! OPEN TO ALL AGES! \nFor More Information: AllAboardEly.com/trex \nT-Rex/Costume Shuffle
URL:https://elynevada.net/event/t-rex-mascot-shuffle-2/
LOCATION:White Pine County Fairgrounds\, 78 n mcgill hwy\, Ely\, NV\, United States
CATEGORIES:Arts & Culture,Community,Races
ATTACH;FMTTYPE=image/jpeg:https://elynevada.net/wp-content/uploads/2024/07/2025-T-Rex-Costume-Race.jpg
ORGANIZER;CN="BeFitEly":MAILTO:info@allaboardely.com
END:VEVENT
END:VCALENDAR