BEGIN:VCALENDAR
VERSION:2.0
PRODID:-//Welcome To Ely - ECPv6.15.20//NONSGML v1.0//EN
CALSCALE:GREGORIAN
METHOD:PUBLISH
X-ORIGINAL-URL:https://elynevada.net
X-WR-CALDESC:Events for Welcome To Ely
REFRESH-INTERVAL;VALUE=DURATION:PT1H
X-Robots-Tag:noindex
X-PUBLISHED-TTL:PT1H
BEGIN:VTIMEZONE
TZID:America/Los_Angeles
BEGIN:DAYLIGHT
TZOFFSETFROM:-0800
TZOFFSETTO:-0700
TZNAME:PDT
DTSTART:20250309T100000
END:DAYLIGHT
BEGIN:STANDARD
TZOFFSETFROM:-0700
TZOFFSETTO:-0800
TZNAME:PST
DTSTART:20251102T090000
END:STANDARD
BEGIN:DAYLIGHT
TZOFFSETFROM:-0800
TZOFFSETTO:-0700
TZNAME:PDT
DTSTART:20260308T100000
END:DAYLIGHT
BEGIN:STANDARD
TZOFFSETFROM:-0700
TZOFFSETTO:-0800
TZNAME:PST
DTSTART:20261101T090000
END:STANDARD
BEGIN:DAYLIGHT
TZOFFSETFROM:-0800
TZOFFSETTO:-0700
TZNAME:PDT
DTSTART:20270314T100000
END:DAYLIGHT
BEGIN:STANDARD
TZOFFSETFROM:-0700
TZOFFSETTO:-0800
TZNAME:PST
DTSTART:20271107T090000
END:STANDARD
END:VTIMEZONE
BEGIN:VEVENT
DTSTART;TZID=America/Los_Angeles:20260213T160000
DTEND;TZID=America/Los_Angeles:20260213T180000
DTSTAMP:20260424T204921
CREATED:20260203T194711Z
LAST-MODIFIED:20260203T194712Z
UID:10004991-1770998400-1771005600@elynevada.net
SUMMARY:Sound Bath
DESCRIPTION:Sound Bath\nJoin Us For Deep Relaxation & Healing \nFebruary 13th & March 13th \n4:00 PM – 6:00 PM \n$10.00 per session \nLimited Spaces \nCall (775) 289 – 7701 to Reserve Your Spot
URL:https://elynevada.net/event/sound-bath/2026-02-13/
LOCATION:White Pine County Aquatics Center\, 1111 Veterans Blvd\, Ely\, NV\, 89301\, United States
CATEGORIES:Relaxation
ATTACH;FMTTYPE=image/jpeg:https://elynevada.net/wp-content/uploads/2026/02/Josi-Sound-Bath-Feb-Mar-2026.jpg
END:VEVENT
END:VCALENDAR