BEGIN:VCALENDAR
VERSION:2.0
PRODID:-//Welcome To Ely - ECPv6.15.20//NONSGML v1.0//EN
CALSCALE:GREGORIAN
METHOD:PUBLISH
X-WR-CALNAME:Welcome To Ely
X-ORIGINAL-URL:https://elynevada.net
X-WR-CALDESC:Events for Welcome To Ely
REFRESH-INTERVAL;VALUE=DURATION:PT1H
X-Robots-Tag:noindex
X-PUBLISHED-TTL:PT1H
BEGIN:VTIMEZONE
TZID:America/Los_Angeles
BEGIN:DAYLIGHT
TZOFFSETFROM:-0800
TZOFFSETTO:-0700
TZNAME:PDT
DTSTART:20220313T100000
END:DAYLIGHT
BEGIN:STANDARD
TZOFFSETFROM:-0700
TZOFFSETTO:-0800
TZNAME:PST
DTSTART:20221106T090000
END:STANDARD
BEGIN:DAYLIGHT
TZOFFSETFROM:-0800
TZOFFSETTO:-0700
TZNAME:PDT
DTSTART:20230312T100000
END:DAYLIGHT
BEGIN:STANDARD
TZOFFSETFROM:-0700
TZOFFSETTO:-0800
TZNAME:PST
DTSTART:20231105T090000
END:STANDARD
BEGIN:DAYLIGHT
TZOFFSETFROM:-0800
TZOFFSETTO:-0700
TZNAME:PDT
DTSTART:20240310T100000
END:DAYLIGHT
BEGIN:STANDARD
TZOFFSETFROM:-0700
TZOFFSETTO:-0800
TZNAME:PST
DTSTART:20241103T090000
END:STANDARD
END:VTIMEZONE
BEGIN:VTIMEZONE
TZID:UTC
BEGIN:STANDARD
TZOFFSETFROM:+0000
TZOFFSETTO:+0000
TZNAME:UTC
DTSTART:20220101T000000
END:STANDARD
END:VTIMEZONE
BEGIN:VEVENT
DTSTART;TZID=America/Los_Angeles:20231006T180000
DTEND;TZID=America/Los_Angeles:20231006T203000
DTSTAMP:20260424T205423
CREATED:20230104T033012Z
LAST-MODIFIED:20240405T001343Z
UID:10002541-1696615200-1696624200@elynevada.net
SUMMARY:Ely Elks Lodge Bingo
DESCRIPTION:Ely Elks Lodge Bingo\nBingo every first Thursday at the Ely Elks Lodge. Hot dogs and Chili are sold. Great time\, great people\, and BINGO!!!
URL:https://elynevada.net/event/ely-elks-lodge-bingo/2023-10-06/
LOCATION:Ely Elks Lodge\, 694 Campton St.\, Ely\, NV\, 89301\, United States
CATEGORIES:Community,Sports
ATTACH;FMTTYPE=image/png:https://elynevada.net/wp-content/uploads/2023/01/Ely-Elks-Lodge-Bingo.png
ORGANIZER;CN="Ely Elks Lodge":MAILTO:elyelks1469@att.net
END:VEVENT
BEGIN:VEVENT
DTSTART;TZID=UTC:20231014T100000
DTEND;TZID=UTC:20231014T170000
DTSTAMP:20260424T205423
CREATED:20220816T050145Z
LAST-MODIFIED:20230815T010800Z
UID:10000473-1697277600-1697302800@elynevada.net
SUMMARY:Lions Club Punkin' Chunkin'
DESCRIPTION:Lions Club Punkin’ Chunkin’\nThe Ely Lions Club’s Punkin Chunkin’ returns to White Pine County once again! And\, once again\, expect fun\, food\, games\, prizes\, and an exciting time. Fun for the whole family! \nThis year\, the Punkin’ Chunkin’ has gone Medieval! \nPumpkins will fly\, knights will battle and the skies will darken as Punkin Chunkin’ returns to Ely\, Nevada.\nCelebrating its 10th event\, Punkin Chunkin’ 2023 will feature its traditional assortment of food\, music\, feats of strength\, games\, bounce houses.\nIn addition\, armored knights will fight and a renaissance faire atmosphere will permeate the air\, with a costume contest and prizes.\nAn annular eclipse will mark the commencement of the festivities!\nYou don’t want to miss this full day of autumnal activities and medieval merriment!\n\nAlso expect the usual pumpkin patch\, Punkin’ Chunkin’ throwing contest\, pumpkin drops\, bounce house and carnival games\, and music and food. Hope to see you this October! \nDiscover More Events of White Pine County HERE!
URL:https://elynevada.net/event/lions-club-punkin-chunkin/
LOCATION:Veteran’s Memorial Park\, 801 Clark Street\, Ely\, NV\, 89301\, United States
CATEGORIES:Arts & Culture,Community,Sports
ATTACH;FMTTYPE=image/jpeg:https://elynevada.net/wp-content/uploads/2022/08/Punkin-Chunkin_2023_1640x856.jpg
ORGANIZER;CN="Ely Lions Club":MAILTO:elylions@hotmail.com
END:VEVENT
END:VCALENDAR