BEGIN:VCALENDAR
VERSION:2.0
PRODID:-//Welcome To Ely - ECPv6.15.20//NONSGML v1.0//EN
CALSCALE:GREGORIAN
METHOD:PUBLISH
X-WR-CALNAME:Welcome To Ely
X-ORIGINAL-URL:https://elynevada.net
X-WR-CALDESC:Events for Welcome To Ely
REFRESH-INTERVAL;VALUE=DURATION:PT1H
X-Robots-Tag:noindex
X-PUBLISHED-TTL:PT1H
BEGIN:VTIMEZONE
TZID:UTC
BEGIN:STANDARD
TZOFFSETFROM:+0000
TZOFFSETTO:+0000
TZNAME:UTC
DTSTART:20230101T000000
END:STANDARD
END:VTIMEZONE
BEGIN:VTIMEZONE
TZID:America/Los_Angeles
BEGIN:DAYLIGHT
TZOFFSETFROM:-0800
TZOFFSETTO:-0700
TZNAME:PDT
DTSTART:20230312T100000
END:DAYLIGHT
BEGIN:STANDARD
TZOFFSETFROM:-0700
TZOFFSETTO:-0800
TZNAME:PST
DTSTART:20231105T090000
END:STANDARD
BEGIN:DAYLIGHT
TZOFFSETFROM:-0800
TZOFFSETTO:-0700
TZNAME:PDT
DTSTART:20240310T100000
END:DAYLIGHT
BEGIN:STANDARD
TZOFFSETFROM:-0700
TZOFFSETTO:-0800
TZNAME:PST
DTSTART:20241103T090000
END:STANDARD
BEGIN:DAYLIGHT
TZOFFSETFROM:-0800
TZOFFSETTO:-0700
TZNAME:PDT
DTSTART:20250309T100000
END:DAYLIGHT
BEGIN:STANDARD
TZOFFSETFROM:-0700
TZOFFSETTO:-0800
TZNAME:PST
DTSTART:20251102T090000
END:STANDARD
END:VTIMEZONE
BEGIN:VEVENT
DTSTART;TZID=UTC:20240303T130000
DTEND;TZID=UTC:20240303T150000
DTSTAMP:20260424T100314
CREATED:20240201T031516Z
LAST-MODIFIED:20240201T031546Z
UID:10000733-1709470800-1709478000@elynevada.net
SUMMARY:GET FIT in Baker (Winter 2024)
DESCRIPTION:GET FIT in Baker (Winter 2024)
URL:https://elynevada.net/event/get-fit-in-baker-2024/2024-03-03/
LOCATION:Downtown Baker\, Baker\, NV\, United States
CATEGORIES:Community,Sports
ORGANIZER;CN="Bristlecone General Store":MAILTO:stay@stargazernevada.com
END:VEVENT
BEGIN:VEVENT
DTSTART;TZID=America/Los_Angeles:20240306T020000
DTEND;TZID=America/Los_Angeles:20240306T040000
DTSTAMP:20260424T100314
CREATED:20240124T064654Z
LAST-MODIFIED:20240321T182247Z
UID:10002176-1709690400-1709697600@elynevada.net
SUMMARY:Indoor Cornhole League
DESCRIPTION:Boys and Girls Club Indoor Cornhole League\nBoys and Girls Club is hosting an Indoor Cornhole League! Every Tuesday night until April 16th. \n6:00 p.m. \nHosted inside the Bristlecone Convention Center. \nBar Game Nights: Beer\, seltzers & wine. Cash only. \n1st\, 2nd\, & 3rd Prizes \nMore Info: \nTony Enriquez\, tenriquez@dbgctm.org\, (775) 289-4841 Ext. 3110 \nJaime Wood\, High Fitness\, (775) 934-1658 \n  \nStay Up to Date on This Event by Following Us on Facebook!\nInfo on the Eastern Nevada Cornhole Championships HERE!
URL:https://elynevada.net/event/indoor-cornhole-league/2024-03-06/
LOCATION:Bristlecone Convention Center\, 150 Sixth Street\, Ely\, NV\, 89301\, United States
CATEGORIES:Community,Sports
ATTACH;FMTTYPE=image/jpeg:https://elynevada.net/wp-content/uploads/2024/01/Boys-and-Girl-Club-Indoor-Cornhole-League.jpg
ORGANIZER;CN="White PIne County Tourism and Recreation":MAILTO:nicole.collard@elynevada.net
END:VEVENT
BEGIN:VEVENT
DTSTART;TZID=America/Los_Angeles:20240306T180000
DTEND;TZID=America/Los_Angeles:20240306T203000
DTSTAMP:20260424T100314
CREATED:20230104T033012Z
LAST-MODIFIED:20240405T001343Z
UID:10002546-1709748000-1709757000@elynevada.net
SUMMARY:Ely Elks Lodge Bingo
DESCRIPTION:Ely Elks Lodge Bingo\nBingo every first Thursday at the Ely Elks Lodge. Hot dogs and Chili are sold. Great time\, great people\, and BINGO!!!
URL:https://elynevada.net/event/ely-elks-lodge-bingo/2024-03-06/
LOCATION:Ely Elks Lodge\, 694 Campton St.\, Ely\, NV\, 89301\, United States
CATEGORIES:Community,Sports
ATTACH;FMTTYPE=image/png:https://elynevada.net/wp-content/uploads/2023/01/Ely-Elks-Lodge-Bingo.png
ORGANIZER;CN="Ely Elks Lodge":MAILTO:elyelks1469@att.net
END:VEVENT
BEGIN:VEVENT
DTSTART;TZID=America/Los_Angeles:20240312T020000
DTEND;TZID=America/Los_Angeles:20240312T040000
DTSTAMP:20260424T100314
CREATED:20240124T064654Z
LAST-MODIFIED:20240321T182247Z
UID:10002177-1710208800-1710216000@elynevada.net
SUMMARY:Indoor Cornhole League
DESCRIPTION:Boys and Girls Club Indoor Cornhole League\nBoys and Girls Club is hosting an Indoor Cornhole League! Every Tuesday night until April 16th. \n6:00 p.m. \nHosted inside the Bristlecone Convention Center. \nBar Game Nights: Beer\, seltzers & wine. Cash only. \n1st\, 2nd\, & 3rd Prizes \nMore Info: \nTony Enriquez\, tenriquez@dbgctm.org\, (775) 289-4841 Ext. 3110 \nJaime Wood\, High Fitness\, (775) 934-1658 \n  \nStay Up to Date on This Event by Following Us on Facebook!\nInfo on the Eastern Nevada Cornhole Championships HERE!
URL:https://elynevada.net/event/indoor-cornhole-league/2024-03-12/
LOCATION:Bristlecone Convention Center\, 150 Sixth Street\, Ely\, NV\, 89301\, United States
CATEGORIES:Community,Sports
ATTACH;FMTTYPE=image/jpeg:https://elynevada.net/wp-content/uploads/2024/01/Boys-and-Girl-Club-Indoor-Cornhole-League.jpg
ORGANIZER;CN="White PIne County Tourism and Recreation":MAILTO:nicole.collard@elynevada.net
END:VEVENT
BEGIN:VEVENT
DTSTART;TZID=UTC:20240316T100000
DTEND;TZID=UTC:20240316T120000
DTSTAMP:20260424T100314
CREATED:20200212T052545Z
LAST-MODIFIED:20240119T053112Z
UID:10000235-1710583200-1710590400@elynevada.net
SUMMARY:Turkey Vulture Stretch 5K
DESCRIPTION:Join us for the annual end-of-winter\, welcome-spring\, get-off-the-couch\, Turkey Vulture Stretch 5K! Event is held at Veterans Park Near the duck pond and takes a lap around town. \nOn March 16th\, welcome spring and the turkey vultures return to Ely\, with a 5K run/walk! The event is held at Veterans Park near the duck pond and takes a lap around town.\n\nMedals will be awarded to the top 3 female\, top 3 male\, top 3 kids (10 yrs and younger)\, and top 3 seniors (55+).\n\nTo be eligible for awards you must be chipped timed.\n\nEmail us to get details on group discounts: elyoutdoorenthusiasts@gmail.com\n\nFor event details visit their website at:\nwww.elyoutdoorenthusiasts.org\nAfter the Turkey Vulture Stretch 5K\, look forward to enjoying some of the best dining Ely has to offer!
URL:https://elynevada.net/event/turkey-vulture-stretch-5k-3/
LOCATION:Ely\, NV\, 89301\, United States
CATEGORIES:Community,Races,Sports
ATTACH;FMTTYPE=image/jpeg:https://elynevada.net/wp-content/uploads/2021/02/Turkey-Vultrue-Stretch-5K-2023.jpg
END:VEVENT
BEGIN:VEVENT
DTSTART;TZID=America/Los_Angeles:20240319T020000
DTEND;TZID=America/Los_Angeles:20240319T040000
DTSTAMP:20260424T100314
CREATED:20240124T064654Z
LAST-MODIFIED:20240321T182247Z
UID:10002178-1710813600-1710820800@elynevada.net
SUMMARY:Indoor Cornhole League
DESCRIPTION:Boys and Girls Club Indoor Cornhole League\nBoys and Girls Club is hosting an Indoor Cornhole League! Every Tuesday night until April 16th. \n6:00 p.m. \nHosted inside the Bristlecone Convention Center. \nBar Game Nights: Beer\, seltzers & wine. Cash only. \n1st\, 2nd\, & 3rd Prizes \nMore Info: \nTony Enriquez\, tenriquez@dbgctm.org\, (775) 289-4841 Ext. 3110 \nJaime Wood\, High Fitness\, (775) 934-1658 \n  \nStay Up to Date on This Event by Following Us on Facebook!\nInfo on the Eastern Nevada Cornhole Championships HERE!
URL:https://elynevada.net/event/indoor-cornhole-league/2024-03-19/
LOCATION:Bristlecone Convention Center\, 150 Sixth Street\, Ely\, NV\, 89301\, United States
CATEGORIES:Community,Sports
ATTACH;FMTTYPE=image/jpeg:https://elynevada.net/wp-content/uploads/2024/01/Boys-and-Girl-Club-Indoor-Cornhole-League.jpg
ORGANIZER;CN="White PIne County Tourism and Recreation":MAILTO:nicole.collard@elynevada.net
END:VEVENT
BEGIN:VEVENT
DTSTART;TZID=America/Los_Angeles:20240323T070000
DTEND;TZID=America/Los_Angeles:20240323T130000
DTSTAMP:20260424T100314
CREATED:20240321T181155Z
LAST-MODIFIED:20240321T181156Z
UID:10001851-1711177200-1711198800@elynevada.net
SUMMARY:SVTST Long Range Shoot
DESCRIPTION:Open Long Range Shoots Every Last Saturday\nSteptoe Valley Trap\, Skeet and Target will be holding Long Rance and Critter Shoots the last Saturday and Sunday of each month. \nLong Range Rifle Shoot – Saturdays \nCritter Shoots – Sundays \nSign in and set up will begin 7:00am \nSafety Briefing at 7:50am \nShooting Begins at 8:00am \nFees: Members $10\, Non-Members $15 \n(Membership forms will be available at the shoots) \nIf you have any questions\, please contact: \nBryant Barnson (775) 293-3054 \nBill Ricci (775) 296-0919 \nCody Bliss (775) 296-0077
URL:https://elynevada.net/event/svtst-long-range-shoot-2/2024-03-23/
LOCATION:SVTST Range\, Cross Timbers\, Ely\, NV\, 89301\, United States
CATEGORIES:Sports
ATTACH;FMTTYPE=image/jpeg:https://elynevada.net/wp-content/uploads/2022/03/svtst-long-range.jpg
ORGANIZER;CN="Steptoe Valley Trap%2C Skeet & Target Club":MAILTO:https://m.me/SVTST?fbclid=IwAR14ZsKDRy8acHhy_NvkKeQEybWoERP2h8Wpep1U5PUpQlmv1B4-FVvptSo
END:VEVENT
BEGIN:VEVENT
DTSTART;TZID=America/Los_Angeles:20240324T070000
DTEND;TZID=America/Los_Angeles:20240324T130000
DTSTAMP:20260424T100314
CREATED:20240321T181230Z
LAST-MODIFIED:20240321T181231Z
UID:10001853-1711263600-1711285200@elynevada.net
SUMMARY:SVTST Critter Shoots
DESCRIPTION:Open Critter Shoots Every Last Sunday\nSteptoe Valley Trap\, Skeet and Target will be holding Long Rance and Critter Shoots the last Saturday and Sunday of each month. \nLong Range Rifle Shoot – Saturdays \nCritter Shoots – Sundays \nSign in and set up will begin 7:00am \nSafety Briefing at 7:50am \nShooting Begins at 8:00am \nFees: Members $10\, Non-Members $15 \n(Membership forms will be available at the shoots) \nIf you have any questions\, please contact: \nBryant Barnson (775) 293-3054 \nBill Ricci (775) 296-0919 \nCody Bliss (775) 296-0077
URL:https://elynevada.net/event/svtst-trap-shoots-2/2024-03-24/
LOCATION:SVTST Range\, Cross Timbers\, Ely\, NV\, 89301\, United States
CATEGORIES:Community,Sports
ATTACH;FMTTYPE=image/jpeg:https://elynevada.net/wp-content/uploads/2022/03/svtst.jpg
ORGANIZER;CN="Steptoe Valley Trap%2C Skeet & Target Club":MAILTO:https://m.me/SVTST?fbclid=IwAR14ZsKDRy8acHhy_NvkKeQEybWoERP2h8Wpep1U5PUpQlmv1B4-FVvptSo
END:VEVENT
BEGIN:VEVENT
DTSTART;TZID=America/Los_Angeles:20240324T193000
DTEND;TZID=America/Los_Angeles:20240324T203000
DTSTAMP:20260424T100314
CREATED:20240321T181318Z
LAST-MODIFIED:20240321T181318Z
UID:10001868-1711308600-1711312200@elynevada.net
SUMMARY:GET MOONED in Baker!
DESCRIPTION:GET MOONED in BAKER\, NV!\nBaker is adding MORE to our “GET” series with Full Moon Hikes each month!! Meet at the Bristlecone General Store and we’ll venture on a 2-3 mile hike in the area with the light of the moon as our guide. \nHere’s what we have scheduled so far:\nThurs\, January 25: 6:30pm\nSat\, February 24: 7:00pm\nSun\, March 24: 7:30pm\nWed\, April 24: 8:30pm \n“Full moons offer us a chance to reflect\, refresh and renew our senses.”
URL:https://elynevada.net/event/get-mooned-in-baker-2/2024-03-24/
LOCATION:Bristlecone General Store\, 115 S. Baker Ave.\, Baker\, NV\, 89311\, United States
CATEGORIES:Arts & Culture,Community,Sports
ATTACH;FMTTYPE=image/jpeg:https://elynevada.net/wp-content/uploads/2024/01/Get-Mooned-in-Baker_2024.jpg
ORGANIZER;CN="Bristlecone General Store":MAILTO:stay@stargazernevada.com
END:VEVENT
BEGIN:VEVENT
DTSTART;TZID=America/Los_Angeles:20240326T180000
DTEND;TZID=America/Los_Angeles:20240326T200000
DTSTAMP:20260424T100314
CREATED:20240321T181459Z
LAST-MODIFIED:20240321T181500Z
UID:10000707-1711476000-1711483200@elynevada.net
SUMMARY:Indoor Cornhole League
DESCRIPTION:Boys and Girls Club Indoor Cornhole League\nBoys and Girls Club is hosting an Indoor Cornhole League! Every Tuesday night until April 16th. \n6:00 p.m. \nHosted inside the Bristlecone Convention Center. \nBar Game Nights: Beer\, seltzers & wine. Cash only. \n1st\, 2nd\, & 3rd Prizes \nMore Info: \nTony Enriquez\, tenriquez@dbgctm.org\, (775) 289-4841 Ext. 3110 \nJaime Wood\, High Fitness\, (775) 934-1658 \n  \nStay Up to Date on This Event by Following Us on Facebook!\nInfo on the Eastern Nevada Cornhole Championships HERE!
URL:https://elynevada.net/event/indoor-cornhole-league-2/2024-03-26/
LOCATION:Bristlecone Convention Center\, 150 Sixth Street\, Ely\, NV\, 89301\, United States
CATEGORIES:Community,Sports
ATTACH;FMTTYPE=image/jpeg:https://elynevada.net/wp-content/uploads/2024/01/Boys-and-Girl-Club-Indoor-Cornhole-League.jpg
ORGANIZER;CN="White PIne County Tourism and Recreation":MAILTO:nicole.collard@elynevada.net
END:VEVENT
END:VCALENDAR