BEGIN:VCALENDAR
VERSION:2.0
PRODID:-//Welcome To Ely - ECPv6.15.20//NONSGML v1.0//EN
CALSCALE:GREGORIAN
METHOD:PUBLISH
X-ORIGINAL-URL:https://elynevada.net
X-WR-CALDESC:Events for Welcome To Ely
REFRESH-INTERVAL;VALUE=DURATION:PT1H
X-Robots-Tag:noindex
X-PUBLISHED-TTL:PT1H
BEGIN:VTIMEZONE
TZID:America/Los_Angeles
BEGIN:DAYLIGHT
TZOFFSETFROM:-0800
TZOFFSETTO:-0700
TZNAME:PDT
DTSTART:20230312T100000
END:DAYLIGHT
BEGIN:STANDARD
TZOFFSETFROM:-0700
TZOFFSETTO:-0800
TZNAME:PST
DTSTART:20231105T090000
END:STANDARD
BEGIN:DAYLIGHT
TZOFFSETFROM:-0800
TZOFFSETTO:-0700
TZNAME:PDT
DTSTART:20240310T100000
END:DAYLIGHT
BEGIN:STANDARD
TZOFFSETFROM:-0700
TZOFFSETTO:-0800
TZNAME:PST
DTSTART:20241103T090000
END:STANDARD
BEGIN:DAYLIGHT
TZOFFSETFROM:-0800
TZOFFSETTO:-0700
TZNAME:PDT
DTSTART:20250309T100000
END:DAYLIGHT
BEGIN:STANDARD
TZOFFSETFROM:-0700
TZOFFSETTO:-0800
TZNAME:PST
DTSTART:20251102T090000
END:STANDARD
END:VTIMEZONE
BEGIN:VEVENT
DTSTART;TZID=America/Los_Angeles:20240606T180000
DTEND;TZID=America/Los_Angeles:20240606T203000
DTSTAMP:20260424T052441
CREATED:20240405T001511Z
LAST-MODIFIED:20240405T001511Z
UID:10002549-1717696800-1717705800@elynevada.net
SUMMARY:Ely Elks Lodge Bingo
DESCRIPTION:Ely Elks Lodge Bingo\nBingo every first Thursday at the Ely Elks Lodge. Hot dogs and Chili are sold. Great time\, great people\, and BINGO!!!
URL:https://elynevada.net/event/ely-elks-lodge-bingo-2/2024-06-06/
LOCATION:Ely Elks Lodge\, 694 Campton St.\, Ely\, NV\, 89301\, United States
CATEGORIES:Community,Sports
ATTACH;FMTTYPE=image/png:https://elynevada.net/wp-content/uploads/2023/01/Ely-Elks-Lodge-Bingo.png
ORGANIZER;CN="Ely Elks Lodge":MAILTO:elyelks1469@att.net
END:VEVENT
BEGIN:VEVENT
DTSTART;VALUE=DATE:20240608
DTEND;VALUE=DATE:20240609
DTSTAMP:20260424T052441
CREATED:20230124T075934Z
LAST-MODIFIED:20240322T203649Z
UID:10000540-1717804800-1717891199@elynevada.net
SUMMARY:Fears\, Tears\, and Beers 2024
DESCRIPTION:Fears\, Tears\, and Beers 2024\nFears\, Tears\, and Beers 2024 is the enduro format mountain bike event of the season! Pedal your bike to the top of the mountain and then you are timed at specific sections of the course. There will be 2-6 timed sections\, mostly twisty downhills and sprint sections. The sum of the times on these special tests will determine the winner.\n\nThe event takes place on BLM and USFS administered lands under special use permits.\n\nMen’s and women’s events for all classes.\n\nFun Run: Shorter in length and less climbing than the beginner class\, 2 timed sections\nBeginner Class: 17.5 miles\, 2\,300′ elevation gain\, 3 timed sections\nSport Class: 26.6 miles\, 3\,500′ elevation gain\, 4 timed sections\nExpert/Pro Class: 33.3 miles\, 5\,400′ elevation gain\, 6 timed sections\nBe prepared for the weather. We have had everything from hot and sunny to very wet and snowing. \nAfter-party/awards ceremony at Bristlecone Convention Center\nRacers eat free\, others will need purchase wristband for $10.\n\nThe event is also great for visitors. Music and celebrating all day at Broadbent Park. Bring your binoculars and lawn chairs to watch the Expert and Pro classes take on the final downhill timed section.\n\nJune 8th – Check in begins at 8:00 a.m. Races start 9 a.m.\nFun Ride\, Beginners\, Sport\, Expert and Pro\n1st 2nd and 3rd awarded in each class\nContact Kent Robertson-(775-289-6042) or Kelly Ernest-(775-296-0910) for more information. \nStay Updated by Following This Event on Facebook HERE!\nLearn More and Register For the Event HERE!
URL:https://elynevada.net/event/fears-tears-and-beers-2024/
LOCATION:Ely\, NV\, 89301\, United States
CATEGORIES:History,Races,Sports
ATTACH;FMTTYPE=image/jpeg:https://elynevada.net/wp-content/uploads/2023/01/Fears-Tears-and-Beers-2023.jpg
ORGANIZER;CN="Great Basin Trails Stewardship":MAILTO:krobeg@mwpower.net
END:VEVENT
BEGIN:VEVENT
DTSTART;TZID=America/Los_Angeles:20240608T080000
DTEND;TZID=America/Los_Angeles:20240608T100000
DTSTAMP:20260424T052441
CREATED:20240523T232310Z
LAST-MODIFIED:20240523T232311Z
UID:10002819-1717833600-1717840800@elynevada.net
SUMMARY:FREE FISHING DAY
DESCRIPTION: 
URL:https://elynevada.net/event/free-fishing-day/
LOCATION:Comins Lake\, Lake in Nevada\, Ely\, NV\, United States
CATEGORIES:Sports
ATTACH;FMTTYPE=image/png:https://elynevada.net/wp-content/uploads/2024/05/2.png
END:VEVENT
BEGIN:VEVENT
DTSTART;TZID=America/Los_Angeles:20240615T070000
DTEND;TZID=America/Los_Angeles:20240615T130000
DTSTAMP:20260424T052441
CREATED:20230125T052725Z
LAST-MODIFIED:20240322T204119Z
UID:10000541-1718434800-1718456400@elynevada.net
SUMMARY:Ward Mountain Trail Run 2024
DESCRIPTION:Ward Mountain Trail Run 2024\nThe Ward Mountain Trail Run 2024 on June 15th starts and ends at the Ward Mountain Campground (Group Site A) in Ely\, Nevada. Choose from 2+\, 5.5+\, 8.5+\, and 13+ mile courses that winds through mostly single-track trails of Ward Mountain. You don’t want to miss this race with outstanding trails and scenery! Register quickly because this event closes at 100 participants!\n\nPrices:\n2+ miles = $25\n5.5+ miles = $35\n8.5+ miles = $45\n13+ mles = $55\n\nDogs will be permitted for an extra $5. One dog per participant of 13 years or older. Specific rules apply for those running with dogs.\n\nEvent details can be found at elyoutdoorenthusiasts.org\nDiscover More Events to do this summer HERE!
URL:https://elynevada.net/event/ward-mountain-trail-run-2023/
LOCATION:NV
CATEGORIES:Community,Sports
ATTACH;FMTTYPE=image/jpeg:https://elynevada.net/wp-content/uploads/2023/01/Ward-Mountain-Trail-Run-2023.jpg
END:VEVENT
BEGIN:VEVENT
DTSTART;TZID=America/Los_Angeles:20240615T160000
DTEND;TZID=America/Los_Angeles:20240615T183000
DTSTAMP:20260424T052441
CREATED:20240506T222508Z
LAST-MODIFIED:20240506T223216Z
UID:10002810-1718467200-1718476200@elynevada.net
SUMMARY:Fourth Annual Motorcycle Rodeo
DESCRIPTION:Fourth Annual Motorcycle Rodeo\nThe Fourth Annual Motorcycle Rodeo is coming to the White Pine County Fairgrounds on June 15th! Hosted by White Pine Productions\, catch a glimpse of an event with all the technicality of a traditional rodeo but motor-crossed to the max.\n\nBeginning at 4:00 p.m.\, expect 3 exciting events: straight away sprints\, poles\, and barrels! Enter now\, and the winner of each division wins a custom belt buckle!\n\nThere are no restrictions on dirt bikes\, and quads are welcomes\, but spots are limited. Contact Ben Noyes at (435) 691 – 2536 to register.\nRegistration CLOSES June 7\, 2024. There will be NO “DAY-OF” SIGN UPS.\n\nEntry Fee: $50.00\nMandatory Rider Pre Meeting at 3:30pm\nSpectator Fee: $10.00\nGrand Entry at 4:00pm / Bar & Concessions\n\nSponsored By:\nPMK1 LLC/Hot-potato Property\nCopper Queen/Ramada Inn\nJW Electric\nPattern Energy/Spring Valley Wind Energy\nFirst National Bank\nSahara Motors\nKGHM Robinson Mine\n\nAbout White Pine Productions:\nWhite Pine Productions are hosts to many events throughout the year. Their events typically cover all things rodeo: 4D barrel racing\, poles\, roping\, etc.\nAll take place at the White Pine County Fairgrounds. White Pine Productions is currently running their 2024 Summer Series of events.\nFor the full list\, check out group on Facebook HERE\, or contact:\n\nBen Noyes (435) 691-2536\nJamie Noyes (775) 293-0892\nDon't Know Where to Stay? Check Out Our Lodging Options HERE!\nDiscover More To See and Do in White Pine County HERE!
URL:https://elynevada.net/event/fourth-annual-motorcycle-rodeo/
LOCATION:White Pine County Fairgrounds\, 78 n mcgill hwy\, Ely\, NV\, United States
CATEGORIES:Community,Sports
ATTACH;FMTTYPE=image/jpeg:https://elynevada.net/wp-content/uploads/2024/05/Motorcycle-Rodeo_2024_1640x856.jpg
ORGANIZER;CN="White Pine Productions":MAILTO:wpprosnv@gmail.com
END:VEVENT
END:VCALENDAR