BEGIN:VCALENDAR
VERSION:2.0
PRODID:-//Welcome To Ely - ECPv6.15.20//NONSGML v1.0//EN
CALSCALE:GREGORIAN
METHOD:PUBLISH
X-WR-CALNAME:Welcome To Ely
X-ORIGINAL-URL:https://elynevada.net
X-WR-CALDESC:Events for Welcome To Ely
REFRESH-INTERVAL;VALUE=DURATION:PT1H
X-Robots-Tag:noindex
X-PUBLISHED-TTL:PT1H
BEGIN:VTIMEZONE
TZID:America/Los_Angeles
BEGIN:DAYLIGHT
TZOFFSETFROM:-0800
TZOFFSETTO:-0700
TZNAME:PDT
DTSTART:20230312T100000
END:DAYLIGHT
BEGIN:STANDARD
TZOFFSETFROM:-0700
TZOFFSETTO:-0800
TZNAME:PST
DTSTART:20231105T090000
END:STANDARD
BEGIN:DAYLIGHT
TZOFFSETFROM:-0800
TZOFFSETTO:-0700
TZNAME:PDT
DTSTART:20240310T100000
END:DAYLIGHT
BEGIN:STANDARD
TZOFFSETFROM:-0700
TZOFFSETTO:-0800
TZNAME:PST
DTSTART:20241103T090000
END:STANDARD
BEGIN:DAYLIGHT
TZOFFSETFROM:-0800
TZOFFSETTO:-0700
TZNAME:PDT
DTSTART:20250309T100000
END:DAYLIGHT
BEGIN:STANDARD
TZOFFSETFROM:-0700
TZOFFSETTO:-0800
TZNAME:PST
DTSTART:20251102T090000
END:STANDARD
END:VTIMEZONE
BEGIN:VEVENT
DTSTART;TZID=America/Los_Angeles:20240905T180000
DTEND;TZID=America/Los_Angeles:20240905T203000
DTSTAMP:20260423T233656
CREATED:20240405T001511Z
LAST-MODIFIED:20240405T001511Z
UID:10002610-1725559200-1725568200@elynevada.net
SUMMARY:Ely Elks Lodge Bingo
DESCRIPTION:Ely Elks Lodge Bingo\nBingo every first Thursday at the Ely Elks Lodge. Hot dogs and Chili are sold. Great time\, great people\, and BINGO!!!
URL:https://elynevada.net/event/ely-elks-lodge-bingo-2/2024-09-05/
LOCATION:Ely Elks Lodge\, 694 Campton St.\, Ely\, NV\, 89301\, United States
CATEGORIES:Community,Sports
ATTACH;FMTTYPE=image/png:https://elynevada.net/wp-content/uploads/2023/01/Ely-Elks-Lodge-Bingo.png
ORGANIZER;CN="Ely Elks Lodge":MAILTO:elyelks1469@att.net
END:VEVENT
BEGIN:VEVENT
DTSTART;TZID=America/Los_Angeles:20240907T073000
DTEND;TZID=America/Los_Angeles:20240907T140000
DTSTAMP:20260423T233656
CREATED:20240131T061237Z
LAST-MODIFIED:20240725T180543Z
UID:10000723-1725694200-1725717600@elynevada.net
SUMMARY:Race the Rails 2024
DESCRIPTION:Race the Rails 2024\nThe steam locomotive and the bicycle were invented nearly 10 years apart. Both changed the way we travel\, but which will prevail on September 7th at the Race The Rails? At the sound of the train whistle\, mountain and road bikers race to see who can get back to the depot before the train. \nMountain bikers test their speed and agility on a challenging 10 mile course through the beautiful mountains surrounding Ely\, while road bikers prove their speed and endurance on a 25 mile course along roads and highways in the area. Everyone who finishes the course will receive a finisher’s medal. \nThis is not a regular race against time\, or your fellow riders. It’s a race against one of history’s most powerful inventions! It’s Race the Rails – 2024!\nRegister for Race the Rails 2024 HERE! \nSee what Ely offers in lodging by clicking HERE! \nEly is a remote mountain town of 4\,000 where history\, art\, and outdoor adventure run deep. In the nearby Great Basin National Park\, travelers have the chance to descend into the depths of the Lehman Cave system to explore a series of limestone and marble caverns full of huge stalagmites and other wild rock formations. The park is also home to the snow-capped Wheeler Peak which\, at 13\,000 feet\, is the second-tallest mountain in Nevada. \nFollow Updates on Our Facebook HERE!
URL:https://elynevada.net/event/race-the-rails-2024/
LOCATION:Ely\, NV\, 89301\, United States
CATEGORIES:History,Races,Sports
ATTACH;FMTTYPE=image/jpeg:https://elynevada.net/wp-content/uploads/2024/01/20230908-DSC01879-scaled.jpg
ORGANIZER;CN="White PIne County Tourism and Recreation":MAILTO:nicole.collard@elynevada.net
END:VEVENT
BEGIN:VEVENT
DTSTART;TZID=America/Los_Angeles:20240907T090000
DTEND;TZID=America/Los_Angeles:20240907T130000
DTSTAMP:20260423T233656
CREATED:20240822T183232Z
LAST-MODIFIED:20240822T183354Z
UID:10003040-1725699600-1725714000@elynevada.net
SUMMARY:WPGC 4 Person Scramble
DESCRIPTION:4 Person Scramble\nOpen to All\, $15 Entry.  Like in a scramble\, all members of a team tee off and the best drive of the four is selected (1 Drive Per Player Per 9 Required). All players move their balls to selected drive. Players then play his or her own ball to completion of the hole. 2 Net BB of the foursome and kick out low and high score net BB for 2nd payout. See Randy for details
URL:https://elynevada.net/event/wpgc-4-person-scramble/
LOCATION:White Pine Golf Course\, 151 N. Golf Course Drive\, Ely\, NV\, 89301\, United States
CATEGORIES:Sports
ATTACH;FMTTYPE=image/png:https://elynevada.net/wp-content/uploads/2022/03/Basic-Golf-Smaller-Copy.png
ORGANIZER;CN="White Pine Golf Course":MAILTO:rlong@whitepinecountynv.gov
END:VEVENT
BEGIN:VEVENT
DTSTART;TZID=America/Los_Angeles:20240914T090000
DTEND;TZID=America/Los_Angeles:20240914T133000
DTSTAMP:20260423T233656
CREATED:20240822T183806Z
LAST-MODIFIED:20240822T183808Z
UID:10003041-1726304400-1726320600@elynevada.net
SUMMARY:WPGC Member/Guest Tournament
DESCRIPTION:WPGC Member/Guest Tournament\nWPMGA members living outside of 50 miles from Ely have the option of playing as a member or a guest.  Maximum 8 stroke handicap differential.  Format will be net best ball.  A Scotch Racehorse Derby will follow play on Saturday\, BBQ to follow for players and their families along with a Calcutta Auction for Sunday’s play.  Added money by WPMGA.   Entry fee is $150.00 per team.  Make plans to play early and invite your guest.  Entry forms will be available in the clubhouse.
URL:https://elynevada.net/event/wpgc-member-guest-tournament/2024-09-14/
LOCATION:White Pine Golf Course\, 151 N. Golf Course Drive\, Ely\, NV\, 89301\, United States
CATEGORIES:Sports
ATTACH;FMTTYPE=image/png:https://elynevada.net/wp-content/uploads/2022/03/Basic-Golf-Smaller-Copy.png
ORGANIZER;CN="White Pine Golf Course":MAILTO:rlong@whitepinecountynv.gov
END:VEVENT
BEGIN:VEVENT
DTSTART;TZID=America/Los_Angeles:20240915T090000
DTEND;TZID=America/Los_Angeles:20240915T133000
DTSTAMP:20260423T233656
CREATED:20240822T183806Z
LAST-MODIFIED:20240822T183808Z
UID:10003042-1726390800-1726407000@elynevada.net
SUMMARY:WPGC Member/Guest Tournament
DESCRIPTION:WPGC Member/Guest Tournament\nWPMGA members living outside of 50 miles from Ely have the option of playing as a member or a guest.  Maximum 8 stroke handicap differential.  Format will be net best ball.  A Scotch Racehorse Derby will follow play on Saturday\, BBQ to follow for players and their families along with a Calcutta Auction for Sunday’s play.  Added money by WPMGA.   Entry fee is $150.00 per team.  Make plans to play early and invite your guest.  Entry forms will be available in the clubhouse.
URL:https://elynevada.net/event/wpgc-member-guest-tournament/2024-09-15/
LOCATION:White Pine Golf Course\, 151 N. Golf Course Drive\, Ely\, NV\, 89301\, United States
CATEGORIES:Sports
ATTACH;FMTTYPE=image/png:https://elynevada.net/wp-content/uploads/2022/03/Basic-Golf-Smaller-Copy.png
ORGANIZER;CN="White Pine Golf Course":MAILTO:rlong@whitepinecountynv.gov
END:VEVENT
BEGIN:VEVENT
DTSTART;TZID=America/Los_Angeles:20240921T100000
DTEND;TZID=America/Los_Angeles:20240922T100000
DTSTAMP:20260423T233656
CREATED:20240812T194514Z
LAST-MODIFIED:20240812T194627Z
UID:10002832-1726912800-1726999200@elynevada.net
SUMMARY:Let's Glow Softball Tournament
DESCRIPTION:Let’s Glow Softball Tournament\nThe Elyte Allstars present their Let’s Glow Softball Tournament located in Ely\, NV! \n24 Hour Co-Ed! \nSeptember 21-22\, 2024 \nStarting at 10:00 am on the 21s and going all thew ay till 10:00am on the 22nd. \nSign Ups: \nUntil August 1st \n$400 Team Entry Fee \nComes with Shirt and Glow Sticks \n$450 for Late Team Entry and NOT guaranteed a shirt \n14 per Team Max \nContact: (775) 296-2834
URL:https://elynevada.net/event/lets-glow-softball-tournament/
LOCATION:Ely\, NV\, 89301\, United States
CATEGORIES:Sports
ATTACH;FMTTYPE=image/jpeg:https://elynevada.net/wp-content/uploads/2024/08/Elyte-Cheer-Thing-scaled.jpg
END:VEVENT
BEGIN:VEVENT
DTSTART;TZID=America/Los_Angeles:20240922T070000
DTEND;TZID=America/Los_Angeles:20240922T130000
DTSTAMP:20260423T233656
CREATED:20240321T181230Z
LAST-MODIFIED:20240321T181231Z
UID:10001857-1726988400-1727010000@elynevada.net
SUMMARY:SVTST Critter Shoots
DESCRIPTION:Open Critter Shoots Every Last Sunday\nSteptoe Valley Trap\, Skeet and Target will be holding Long Rance and Critter Shoots the last Saturday and Sunday of each month. \nLong Range Rifle Shoot – Saturdays \nCritter Shoots – Sundays \nSign in and set up will begin 7:00am \nSafety Briefing at 7:50am \nShooting Begins at 8:00am \nFees: Members $10\, Non-Members $15 \n(Membership forms will be available at the shoots) \nIf you have any questions\, please contact: \nBryant Barnson (775) 293-3054 \nBill Ricci (775) 296-0919 \nCody Bliss (775) 296-0077
URL:https://elynevada.net/event/svtst-trap-shoots-2/2024-09-22/
LOCATION:SVTST Range\, Cross Timbers\, Ely\, NV\, 89301\, United States
CATEGORIES:Community,Sports
ATTACH;FMTTYPE=image/jpeg:https://elynevada.net/wp-content/uploads/2022/03/svtst.jpg
ORGANIZER;CN="Steptoe Valley Trap%2C Skeet & Target Club":MAILTO:https://m.me/SVTST?fbclid=IwAR14ZsKDRy8acHhy_NvkKeQEybWoERP2h8Wpep1U5PUpQlmv1B4-FVvptSo
END:VEVENT
END:VCALENDAR