BEGIN:VCALENDAR
VERSION:2.0
PRODID:-//Welcome To Ely - ECPv6.15.20//NONSGML v1.0//EN
CALSCALE:GREGORIAN
METHOD:PUBLISH
X-ORIGINAL-URL:https://elynevada.net
X-WR-CALDESC:Events for Welcome To Ely
REFRESH-INTERVAL;VALUE=DURATION:PT1H
X-Robots-Tag:noindex
X-PUBLISHED-TTL:PT1H
BEGIN:VTIMEZONE
TZID:America/Los_Angeles
BEGIN:DAYLIGHT
TZOFFSETFROM:-0800
TZOFFSETTO:-0700
TZNAME:PDT
DTSTART:20240310T100000
END:DAYLIGHT
BEGIN:STANDARD
TZOFFSETFROM:-0700
TZOFFSETTO:-0800
TZNAME:PST
DTSTART:20241103T090000
END:STANDARD
BEGIN:DAYLIGHT
TZOFFSETFROM:-0800
TZOFFSETTO:-0700
TZNAME:PDT
DTSTART:20250309T100000
END:DAYLIGHT
BEGIN:STANDARD
TZOFFSETFROM:-0700
TZOFFSETTO:-0800
TZNAME:PST
DTSTART:20251102T090000
END:STANDARD
BEGIN:DAYLIGHT
TZOFFSETFROM:-0800
TZOFFSETTO:-0700
TZNAME:PDT
DTSTART:20260308T100000
END:DAYLIGHT
BEGIN:STANDARD
TZOFFSETFROM:-0700
TZOFFSETTO:-0800
TZNAME:PST
DTSTART:20261101T090000
END:STANDARD
END:VTIMEZONE
BEGIN:VEVENT
DTSTART;TZID=America/Los_Angeles:20251106T180000
DTEND;TZID=America/Los_Angeles:20251106T203000
DTSTAMP:20260423T033427
CREATED:20240405T001511Z
LAST-MODIFIED:20240405T001511Z
UID:10002566-1762452000-1762461000@elynevada.net
SUMMARY:Ely Elks Lodge Bingo
DESCRIPTION:Ely Elks Lodge Bingo\nBingo every first Thursday at the Ely Elks Lodge. Hot dogs and Chili are sold. Great time\, great people\, and BINGO!!!
URL:https://elynevada.net/event/ely-elks-lodge-bingo-2/2025-11-06/
LOCATION:Ely Elks Lodge\, 694 Campton St.\, Ely\, NV\, 89301\, United States
CATEGORIES:Community,Sports
ATTACH;FMTTYPE=image/png:https://elynevada.net/wp-content/uploads/2023/01/Ely-Elks-Lodge-Bingo.png
ORGANIZER;CN="Ely Elks Lodge":MAILTO:elyelks1469@att.net
END:VEVENT
BEGIN:VEVENT
DTSTART;TZID=America/Los_Angeles:20251124T063000
DTEND;TZID=America/Los_Angeles:20251124T080000
DTSTAMP:20260423T033427
CREATED:20251118T013050Z
LAST-MODIFIED:20251125T001821Z
UID:10004064-1763965800-1763971200@elynevada.net
SUMMARY:November Fitness Classes
DESCRIPTION:🧡 BeFitEly’s Thankful\, Grateful Workouts 🧡\nStart your Thanksgiving morning with movement\, gratitude\, and good vibes! Join us for two FREE community workouts—come to one or both! \n🕖 Total Body Tone – 7:00 to 7:45 AM\n💃 Step & Sculpt – 7:50 to 8:35 AM \nBoth classes are beginner-friendly\, fun\, and the perfect way to start your holiday feeling strong and thankful. 🌿 \nIMPORTANT – We are asking for pre-registration. You can do this at here. Have any trouble please contact us. \n✨ This is BeFitEly’s way of giving back to our amazing community. Pre-registration is required—spots fill fast! \n📍 BeFitEly Studio – 740 Aultman (upstairs\, across from Racks Bar & Grill)\n🌐 Sign up at www.BeFitEly.com\n📧 befitely@gmail.com\n| 📱 775-293-8555 \nLet’s move\, smile\, and give thanks—together! 🦃💪
URL:https://elynevada.net/event/fitness-classes/2025-11-24/
LOCATION:740 Autlman Street\, 740 Aultman Street\, Ely\, NV\, 89301\, United States
CATEGORIES:Community,Sports
ATTACH;FMTTYPE=image/png:https://elynevada.net/wp-content/uploads/2025/11/Ely-Fitness-2025-November-Flyer.png
ORGANIZER;CN="BeFitEly":MAILTO:info@allaboardely.com
END:VEVENT
BEGIN:VEVENT
DTSTART;TZID=America/Los_Angeles:20251125T180000
DTEND;TZID=America/Los_Angeles:20251125T200000
DTSTAMP:20260423T033427
CREATED:20251118T013050Z
LAST-MODIFIED:20251125T001821Z
UID:10004065-1764093600-1764100800@elynevada.net
SUMMARY:November Fitness Classes
DESCRIPTION:🧡 BeFitEly’s Thankful\, Grateful Workouts 🧡\nStart your Thanksgiving morning with movement\, gratitude\, and good vibes! Join us for two FREE community workouts—come to one or both! \n🕖 Total Body Tone – 7:00 to 7:45 AM\n💃 Step & Sculpt – 7:50 to 8:35 AM \nBoth classes are beginner-friendly\, fun\, and the perfect way to start your holiday feeling strong and thankful. 🌿 \nIMPORTANT – We are asking for pre-registration. You can do this at here. Have any trouble please contact us. \n✨ This is BeFitEly’s way of giving back to our amazing community. Pre-registration is required—spots fill fast! \n📍 BeFitEly Studio – 740 Aultman (upstairs\, across from Racks Bar & Grill)\n🌐 Sign up at www.BeFitEly.com\n📧 befitely@gmail.com\n| 📱 775-293-8555 \nLet’s move\, smile\, and give thanks—together! 🦃💪
URL:https://elynevada.net/event/fitness-classes/2025-11-25/
LOCATION:740 Autlman Street\, 740 Aultman Street\, Ely\, NV\, 89301\, United States
CATEGORIES:Community,Sports
ATTACH;FMTTYPE=image/png:https://elynevada.net/wp-content/uploads/2025/11/Ely-Fitness-2025-November-Flyer.png
ORGANIZER;CN="BeFitEly":MAILTO:info@allaboardely.com
END:VEVENT
BEGIN:VEVENT
DTSTART;TZID=America/Los_Angeles:20251126T063000
DTEND;TZID=America/Los_Angeles:20251126T080000
DTSTAMP:20260423T033427
CREATED:20251118T013050Z
LAST-MODIFIED:20251125T001821Z
UID:10004066-1764138600-1764144000@elynevada.net
SUMMARY:November Fitness Classes
DESCRIPTION:🧡 BeFitEly’s Thankful\, Grateful Workouts 🧡\nStart your Thanksgiving morning with movement\, gratitude\, and good vibes! Join us for two FREE community workouts—come to one or both! \n🕖 Total Body Tone – 7:00 to 7:45 AM\n💃 Step & Sculpt – 7:50 to 8:35 AM \nBoth classes are beginner-friendly\, fun\, and the perfect way to start your holiday feeling strong and thankful. 🌿 \nIMPORTANT – We are asking for pre-registration. You can do this at here. Have any trouble please contact us. \n✨ This is BeFitEly’s way of giving back to our amazing community. Pre-registration is required—spots fill fast! \n📍 BeFitEly Studio – 740 Aultman (upstairs\, across from Racks Bar & Grill)\n🌐 Sign up at www.BeFitEly.com\n📧 befitely@gmail.com\n| 📱 775-293-8555 \nLet’s move\, smile\, and give thanks—together! 🦃💪
URL:https://elynevada.net/event/fitness-classes/2025-11-26/
LOCATION:740 Autlman Street\, 740 Aultman Street\, Ely\, NV\, 89301\, United States
CATEGORIES:Community,Sports
ATTACH;FMTTYPE=image/png:https://elynevada.net/wp-content/uploads/2025/11/Ely-Fitness-2025-November-Flyer.png
ORGANIZER;CN="BeFitEly":MAILTO:info@allaboardely.com
END:VEVENT
BEGIN:VEVENT
DTSTART;TZID=America/Los_Angeles:20251127T070000
DTEND;TZID=America/Los_Angeles:20251127T073000
DTSTAMP:20260423T033427
CREATED:20251118T013050Z
LAST-MODIFIED:20251125T001821Z
UID:10004067-1764226800-1764228600@elynevada.net
SUMMARY:November Fitness Classes
DESCRIPTION:🧡 BeFitEly’s Thankful\, Grateful Workouts 🧡\nStart your Thanksgiving morning with movement\, gratitude\, and good vibes! Join us for two FREE community workouts—come to one or both! \n🕖 Total Body Tone – 7:00 to 7:45 AM\n💃 Step & Sculpt – 7:50 to 8:35 AM \nBoth classes are beginner-friendly\, fun\, and the perfect way to start your holiday feeling strong and thankful. 🌿 \nIMPORTANT – We are asking for pre-registration. You can do this at here. Have any trouble please contact us. \n✨ This is BeFitEly’s way of giving back to our amazing community. Pre-registration is required—spots fill fast! \n📍 BeFitEly Studio – 740 Aultman (upstairs\, across from Racks Bar & Grill)\n🌐 Sign up at www.BeFitEly.com\n📧 befitely@gmail.com\n| 📱 775-293-8555 \nLet’s move\, smile\, and give thanks—together! 🦃💪
URL:https://elynevada.net/event/fitness-classes/2025-11-27/1/
LOCATION:740 Autlman Street\, 740 Aultman Street\, Ely\, NV\, 89301\, United States
CATEGORIES:Community,Sports
ATTACH;FMTTYPE=image/png:https://elynevada.net/wp-content/uploads/2025/11/Ely-Fitness-2025-November-Flyer.png
ORGANIZER;CN="BeFitEly":MAILTO:info@allaboardely.com
END:VEVENT
BEGIN:VEVENT
DTSTART;TZID=America/Los_Angeles:20251127T080000
DTEND;TZID=America/Los_Angeles:20251127T083000
DTSTAMP:20260423T033427
CREATED:20251118T013050Z
LAST-MODIFIED:20251125T001821Z
UID:10004068-1764230400-1764232200@elynevada.net
SUMMARY:November Fitness Classes
DESCRIPTION:🧡 BeFitEly’s Thankful\, Grateful Workouts 🧡\nStart your Thanksgiving morning with movement\, gratitude\, and good vibes! Join us for two FREE community workouts—come to one or both! \n🕖 Total Body Tone – 7:00 to 7:45 AM\n💃 Step & Sculpt – 7:50 to 8:35 AM \nBoth classes are beginner-friendly\, fun\, and the perfect way to start your holiday feeling strong and thankful. 🌿 \nIMPORTANT – We are asking for pre-registration. You can do this at here. Have any trouble please contact us. \n✨ This is BeFitEly’s way of giving back to our amazing community. Pre-registration is required—spots fill fast! \n📍 BeFitEly Studio – 740 Aultman (upstairs\, across from Racks Bar & Grill)\n🌐 Sign up at www.BeFitEly.com\n📧 befitely@gmail.com\n| 📱 775-293-8555 \nLet’s move\, smile\, and give thanks—together! 🦃💪
URL:https://elynevada.net/event/fitness-classes/2025-11-27/2/
LOCATION:740 Autlman Street\, 740 Aultman Street\, Ely\, NV\, 89301\, United States
CATEGORIES:Community,Sports
ATTACH;FMTTYPE=image/png:https://elynevada.net/wp-content/uploads/2025/11/Ely-Fitness-2025-November-Flyer.png
ORGANIZER;CN="BeFitEly":MAILTO:info@allaboardely.com
END:VEVENT
BEGIN:VEVENT
DTSTART;TZID=America/Los_Angeles:20251128T063000
DTEND;TZID=America/Los_Angeles:20251128T080000
DTSTAMP:20260423T033427
CREATED:20251118T013050Z
LAST-MODIFIED:20251125T001821Z
UID:10004069-1764311400-1764316800@elynevada.net
SUMMARY:November Fitness Classes
DESCRIPTION:🧡 BeFitEly’s Thankful\, Grateful Workouts 🧡\nStart your Thanksgiving morning with movement\, gratitude\, and good vibes! Join us for two FREE community workouts—come to one or both! \n🕖 Total Body Tone – 7:00 to 7:45 AM\n💃 Step & Sculpt – 7:50 to 8:35 AM \nBoth classes are beginner-friendly\, fun\, and the perfect way to start your holiday feeling strong and thankful. 🌿 \nIMPORTANT – We are asking for pre-registration. You can do this at here. Have any trouble please contact us. \n✨ This is BeFitEly’s way of giving back to our amazing community. Pre-registration is required—spots fill fast! \n📍 BeFitEly Studio – 740 Aultman (upstairs\, across from Racks Bar & Grill)\n🌐 Sign up at www.BeFitEly.com\n📧 befitely@gmail.com\n| 📱 775-293-8555 \nLet’s move\, smile\, and give thanks—together! 🦃💪
URL:https://elynevada.net/event/fitness-classes/2025-11-28/
LOCATION:740 Autlman Street\, 740 Aultman Street\, Ely\, NV\, 89301\, United States
CATEGORIES:Community,Sports
ATTACH;FMTTYPE=image/png:https://elynevada.net/wp-content/uploads/2025/11/Ely-Fitness-2025-November-Flyer.png
ORGANIZER;CN="BeFitEly":MAILTO:info@allaboardely.com
END:VEVENT
END:VCALENDAR