BEGIN:VCALENDAR
VERSION:2.0
PRODID:-//Welcome To Ely - ECPv6.15.20//NONSGML v1.0//EN
CALSCALE:GREGORIAN
METHOD:PUBLISH
X-WR-CALNAME:Welcome To Ely
X-ORIGINAL-URL:https://elynevada.net
X-WR-CALDESC:Events for Welcome To Ely
REFRESH-INTERVAL;VALUE=DURATION:PT1H
X-Robots-Tag:noindex
X-PUBLISHED-TTL:PT1H
BEGIN:VTIMEZONE
TZID:America/Los_Angeles
BEGIN:DAYLIGHT
TZOFFSETFROM:-0800
TZOFFSETTO:-0700
TZNAME:PDT
DTSTART:20250309T100000
END:DAYLIGHT
BEGIN:STANDARD
TZOFFSETFROM:-0700
TZOFFSETTO:-0800
TZNAME:PST
DTSTART:20251102T090000
END:STANDARD
BEGIN:DAYLIGHT
TZOFFSETFROM:-0800
TZOFFSETTO:-0700
TZNAME:PDT
DTSTART:20260308T100000
END:DAYLIGHT
BEGIN:STANDARD
TZOFFSETFROM:-0700
TZOFFSETTO:-0800
TZNAME:PST
DTSTART:20261101T090000
END:STANDARD
BEGIN:DAYLIGHT
TZOFFSETFROM:-0800
TZOFFSETTO:-0700
TZNAME:PDT
DTSTART:20270314T100000
END:DAYLIGHT
BEGIN:STANDARD
TZOFFSETFROM:-0700
TZOFFSETTO:-0800
TZNAME:PST
DTSTART:20271107T090000
END:STANDARD
END:VTIMEZONE
BEGIN:VEVENT
DTSTART;TZID=America/Los_Angeles:20260201T180000
DTEND;TZID=America/Los_Angeles:20260201T193000
DTSTAMP:20260422T205018
CREATED:20250107T204841Z
LAST-MODIFIED:20260113T231504Z
UID:10004097-1769968800-1769974200@elynevada.net
SUMMARY:GET MOONED Full Moon Hike in Baker
DESCRIPTION:GET MOONED Full Moon Hike in Baker\nA part of Baker’s “GET” series\, there are Full Moon Hikes every month. Meet at the Bristlecone General Store and you’ll venture on a 2-3 mile hike in the area with the light of the moon as your guide. \n“Full moons offer us a chance to reflect\, refresh and renew our senses.”
URL:https://elynevada.net/event/get-mooned-full-moon-hike-in-baker/2026-02-01/
LOCATION:Bristlecone General Store\, 115 S. Baker Ave.\, Baker\, NV\, 89311\, United States
CATEGORIES:Community,Sports
ATTACH;FMTTYPE=image/png:https://elynevada.net/wp-content/uploads/2025/01/GET-MOONED-2026.png
ORGANIZER;CN="Bristlecone General Store":MAILTO:stay@stargazernevada.com
END:VEVENT
BEGIN:VEVENT
DTSTART;TZID=America/Los_Angeles:20260202T063000
DTEND;TZID=America/Los_Angeles:20260202T070000
DTSTAMP:20260422T205018
CREATED:20260127T210739Z
LAST-MODIFIED:20260325T005141Z
UID:10004125-1770013800-1770015600@elynevada.net
SUMMARY:BeFitEly TBT
DESCRIPTION:BeFitEly Total Body Tone\nFull body strength training with progressive weight loading \nBuild strength from head to toe with our comprehensive full-body workout. You control the weight load\, starting light and progressing as you grow stronger. Perfect for building confidence and muscle definition. \n  \n\nFull body strength training\nProgressive weight loading\nBeginner to advanced options\nBuild at your own pace\n\n  \nPre Register at BeFitEly.com!
URL:https://elynevada.net/event/befitely-tbt/2026-02-02/1/
LOCATION:740 Autlman Street\, 740 Aultman Street\, Ely\, NV\, 89301\, United States
CATEGORIES:Community,Sports
ATTACH;FMTTYPE=image/jpeg:https://elynevada.net/wp-content/uploads/2026/01/BeFitEly-TBT.jpg
ORGANIZER;CN="BeFitEly":MAILTO:info@allaboardely.com
END:VEVENT
BEGIN:VEVENT
DTSTART;TZID=America/Los_Angeles:20260202T080000
DTEND;TZID=America/Los_Angeles:20260202T170000
DTSTAMP:20260422T205018
CREATED:20260127T210739Z
LAST-MODIFIED:20260325T005141Z
UID:10004126-1770019200-1770051600@elynevada.net
SUMMARY:BeFitEly TBT
DESCRIPTION:BeFitEly Total Body Tone\nFull body strength training with progressive weight loading \nBuild strength from head to toe with our comprehensive full-body workout. You control the weight load\, starting light and progressing as you grow stronger. Perfect for building confidence and muscle definition. \n  \n\nFull body strength training\nProgressive weight loading\nBeginner to advanced options\nBuild at your own pace\n\n  \nPre Register at BeFitEly.com!
URL:https://elynevada.net/event/befitely-tbt/2026-02-02/2/
LOCATION:740 Autlman Street\, 740 Aultman Street\, Ely\, NV\, 89301\, United States
CATEGORIES:Community,Sports
ATTACH;FMTTYPE=image/jpeg:https://elynevada.net/wp-content/uploads/2026/01/BeFitEly-TBT.jpg
ORGANIZER;CN="BeFitEly":MAILTO:info@allaboardely.com
END:VEVENT
BEGIN:VEVENT
DTSTART;TZID=America/Los_Angeles:20260203T170000
DTEND;TZID=America/Los_Angeles:20260203T180000
DTSTAMP:20260422T205018
CREATED:20260127T211512Z
LAST-MODIFIED:20260127T211513Z
UID:10004424-1770138000-1770141600@elynevada.net
SUMMARY:BeFitEly Step & Sculpt
DESCRIPTION:BeFitEly Step & Sculpt\nModern cardio step aerobics meets strength sculpting \nGet your heart pumping with dynamic step aerobics while building lean muscle with targeted sculpting exercises using weights. This high-energy class combines the best of both worlds for a complete workout experience. \n\nCardio step aerobics\nSculpting with weights\nHigh-energy music\nAll fitness levels welcome\n\n  \nNo Sign Up – Just Come to Class. Learn more at BeFitEly.com
URL:https://elynevada.net/event/befitely-step-sculpt/2026-02-03/
LOCATION:740 Autlman Street\, 740 Aultman Street\, Ely\, NV\, 89301\, United States
CATEGORIES:Community,Sports
ATTACH;FMTTYPE=image/jpeg:https://elynevada.net/wp-content/uploads/2026/01/BeFitEly-Step-Sculpt.jpg
ORGANIZER;CN="BeFitEly":MAILTO:info@allaboardely.com
END:VEVENT
BEGIN:VEVENT
DTSTART;TZID=America/Los_Angeles:20260203T180000
DTEND;TZID=America/Los_Angeles:20260203T203000
DTSTAMP:20260422T205018
CREATED:20260107T190349Z
LAST-MODIFIED:20260107T190350Z
UID:10004081-1770141600-1770150600@elynevada.net
SUMMARY:Ely Cornhole League
DESCRIPTION:2026 Ely Cornhole League\nJoin the 2026 Ely Cornhole League! All proceeds benefit the WPHS Girls Basketball Teams. \nGrab a partner or come solo. All skill levels welcome. Family-friendly event. \nPrizes\, cash bar\, music & fun! \nEvery Tuesday at 6:00pm\, January 6th – February 24th at the Bristlecone Convention Center. \n6:00pm-8:30pm \nRegistration Fee: $60 per team \nTo register or get more information\, contact Jaime at (775) 934-1658
URL:https://elynevada.net/event/ely-cornhole-league/2026-02-03/
LOCATION:Bristlecone Convention Center\, 150 Sixth Street\, Ely\, NV\, 89301\, United States
CATEGORIES:Community,Sports
ATTACH;FMTTYPE=image/jpeg:https://elynevada.net/wp-content/uploads/2026/01/Cornhole-League-2026.jpg
END:VEVENT
BEGIN:VEVENT
DTSTART;TZID=America/Los_Angeles:20260204T063000
DTEND;TZID=America/Los_Angeles:20260204T070000
DTSTAMP:20260422T205018
CREATED:20260127T210739Z
LAST-MODIFIED:20260325T005141Z
UID:10004324-1770186600-1770188400@elynevada.net
SUMMARY:BeFitEly TBT
DESCRIPTION:BeFitEly Total Body Tone\nFull body strength training with progressive weight loading \nBuild strength from head to toe with our comprehensive full-body workout. You control the weight load\, starting light and progressing as you grow stronger. Perfect for building confidence and muscle definition. \n  \n\nFull body strength training\nProgressive weight loading\nBeginner to advanced options\nBuild at your own pace\n\n  \nPre Register at BeFitEly.com!
URL:https://elynevada.net/event/befitely-tbt/2026-02-04/
LOCATION:740 Autlman Street\, 740 Aultman Street\, Ely\, NV\, 89301\, United States
CATEGORIES:Community,Sports
ATTACH;FMTTYPE=image/jpeg:https://elynevada.net/wp-content/uploads/2026/01/BeFitEly-TBT.jpg
ORGANIZER;CN="BeFitEly":MAILTO:info@allaboardely.com
END:VEVENT
BEGIN:VEVENT
DTSTART;TZID=America/Los_Angeles:20260205T170000
DTEND;TZID=America/Los_Angeles:20260205T180000
DTSTAMP:20260422T205018
CREATED:20260127T211512Z
LAST-MODIFIED:20260127T211513Z
UID:10004425-1770310800-1770314400@elynevada.net
SUMMARY:BeFitEly Step & Sculpt
DESCRIPTION:BeFitEly Step & Sculpt\nModern cardio step aerobics meets strength sculpting \nGet your heart pumping with dynamic step aerobics while building lean muscle with targeted sculpting exercises using weights. This high-energy class combines the best of both worlds for a complete workout experience. \n\nCardio step aerobics\nSculpting with weights\nHigh-energy music\nAll fitness levels welcome\n\n  \nNo Sign Up – Just Come to Class. Learn more at BeFitEly.com
URL:https://elynevada.net/event/befitely-step-sculpt/2026-02-05/
LOCATION:740 Autlman Street\, 740 Aultman Street\, Ely\, NV\, 89301\, United States
CATEGORIES:Community,Sports
ATTACH;FMTTYPE=image/jpeg:https://elynevada.net/wp-content/uploads/2026/01/BeFitEly-Step-Sculpt.jpg
ORGANIZER;CN="BeFitEly":MAILTO:info@allaboardely.com
END:VEVENT
BEGIN:VEVENT
DTSTART;TZID=America/Los_Angeles:20260205T180000
DTEND;TZID=America/Los_Angeles:20260205T203000
DTSTAMP:20260422T205018
CREATED:20240405T001511Z
LAST-MODIFIED:20240405T001511Z
UID:10002624-1770314400-1770323400@elynevada.net
SUMMARY:Ely Elks Lodge Bingo
DESCRIPTION:Ely Elks Lodge Bingo\nBingo every first Thursday at the Ely Elks Lodge. Hot dogs and Chili are sold. Great time\, great people\, and BINGO!!!
URL:https://elynevada.net/event/ely-elks-lodge-bingo-2/2026-02-05/
LOCATION:Ely Elks Lodge\, 694 Campton St.\, Ely\, NV\, 89301\, United States
CATEGORIES:Community,Sports
ATTACH;FMTTYPE=image/png:https://elynevada.net/wp-content/uploads/2023/01/Ely-Elks-Lodge-Bingo.png
ORGANIZER;CN="Ely Elks Lodge":MAILTO:elyelks1469@att.net
END:VEVENT
BEGIN:VEVENT
DTSTART;TZID=America/Los_Angeles:20260206T063000
DTEND;TZID=America/Los_Angeles:20260206T070000
DTSTAMP:20260422T205018
CREATED:20260127T210739Z
LAST-MODIFIED:20260325T005141Z
UID:10004127-1770359400-1770361200@elynevada.net
SUMMARY:BeFitEly TBT
DESCRIPTION:BeFitEly Total Body Tone\nFull body strength training with progressive weight loading \nBuild strength from head to toe with our comprehensive full-body workout. You control the weight load\, starting light and progressing as you grow stronger. Perfect for building confidence and muscle definition. \n  \n\nFull body strength training\nProgressive weight loading\nBeginner to advanced options\nBuild at your own pace\n\n  \nPre Register at BeFitEly.com!
URL:https://elynevada.net/event/befitely-tbt/2026-02-06/
LOCATION:740 Autlman Street\, 740 Aultman Street\, Ely\, NV\, 89301\, United States
CATEGORIES:Community,Sports
ATTACH;FMTTYPE=image/jpeg:https://elynevada.net/wp-content/uploads/2026/01/BeFitEly-TBT.jpg
ORGANIZER;CN="BeFitEly":MAILTO:info@allaboardely.com
END:VEVENT
BEGIN:VEVENT
DTSTART;TZID=America/Los_Angeles:20260207T070000
DTEND;TZID=America/Los_Angeles:20260207T080000
DTSTAMP:20260422T205018
CREATED:20260127T211922Z
LAST-MODIFIED:20260127T211922Z
UID:10004943-1770447600-1770451200@elynevada.net
SUMMARY:BeFitEly 50/50
DESCRIPTION:BeFitEly 50/50\nStart your Saturday strong with 50/50\, a fun and effective class that gives you the best of both worlds. \nThe first half of class features a gentle warm-up and easy-to-follow step patterns. The second half transitions into Total Body Tone. This class is beginner-friendly. \n\nHalf Step/Half Strength\nBeginner-friendly\nPre-registration required\nIncluded with the Step Blast Pass\n\nPre Register at BeFitEly.com
URL:https://elynevada.net/event/befitely-50-50/2026-02-07/
LOCATION:740 Autlman Street\, 740 Aultman Street\, Ely\, NV\, 89301\, United States
CATEGORIES:Community,Sports
ATTACH;FMTTYPE=image/jpeg:https://elynevada.net/wp-content/uploads/2026/01/BeFitEly-50_50.jpg
ORGANIZER;CN="BeFitEly":MAILTO:info@allaboardely.com
END:VEVENT
BEGIN:VEVENT
DTSTART;TZID=America/Los_Angeles:20260208T150000
DTEND;TZID=America/Los_Angeles:20260208T180000
DTSTAMP:20260422T205018
CREATED:20260202T192353Z
LAST-MODIFIED:20260202T192354Z
UID:10004975-1770562800-1770573600@elynevada.net
SUMMARY:GET ROWDY Superbowl Party
DESCRIPTION:GET ROWDY Superbowl Party\nSun\, Feb. 8th: 3pm.It’s time to GET ROWDY! Cheer on your team at our annual Super Bowl Party & Potluck. Bring a dish or snack to share. Food and beverages are also available for purchase at the store.
URL:https://elynevada.net/event/get-rowdy-superbowl-party/
LOCATION:Bristlecone General Store\, 115 S. Baker Ave.\, Baker\, NV\, 89311\, United States
CATEGORIES:Community,Party,Sports
ATTACH;FMTTYPE=image/jpeg:https://elynevada.net/wp-content/uploads/2026/02/GET-ROWDY-Super-Bowl-Party.jpg
ORGANIZER;CN="Bristlecone General Store":MAILTO:stay@stargazernevada.com
END:VEVENT
BEGIN:VEVENT
DTSTART;TZID=America/Los_Angeles:20260209T063000
DTEND;TZID=America/Los_Angeles:20260209T070000
DTSTAMP:20260422T205018
CREATED:20260127T210739Z
LAST-MODIFIED:20260325T005141Z
UID:10004128-1770618600-1770620400@elynevada.net
SUMMARY:BeFitEly TBT
DESCRIPTION:BeFitEly Total Body Tone\nFull body strength training with progressive weight loading \nBuild strength from head to toe with our comprehensive full-body workout. You control the weight load\, starting light and progressing as you grow stronger. Perfect for building confidence and muscle definition. \n  \n\nFull body strength training\nProgressive weight loading\nBeginner to advanced options\nBuild at your own pace\n\n  \nPre Register at BeFitEly.com!
URL:https://elynevada.net/event/befitely-tbt/2026-02-09/
LOCATION:740 Autlman Street\, 740 Aultman Street\, Ely\, NV\, 89301\, United States
CATEGORIES:Community,Sports
ATTACH;FMTTYPE=image/jpeg:https://elynevada.net/wp-content/uploads/2026/01/BeFitEly-TBT.jpg
ORGANIZER;CN="BeFitEly":MAILTO:info@allaboardely.com
END:VEVENT
BEGIN:VEVENT
DTSTART;TZID=America/Los_Angeles:20260210T170000
DTEND;TZID=America/Los_Angeles:20260210T180000
DTSTAMP:20260422T205018
CREATED:20260127T211512Z
LAST-MODIFIED:20260127T211513Z
UID:10004426-1770742800-1770746400@elynevada.net
SUMMARY:BeFitEly Step & Sculpt
DESCRIPTION:BeFitEly Step & Sculpt\nModern cardio step aerobics meets strength sculpting \nGet your heart pumping with dynamic step aerobics while building lean muscle with targeted sculpting exercises using weights. This high-energy class combines the best of both worlds for a complete workout experience. \n\nCardio step aerobics\nSculpting with weights\nHigh-energy music\nAll fitness levels welcome\n\n  \nNo Sign Up – Just Come to Class. Learn more at BeFitEly.com
URL:https://elynevada.net/event/befitely-step-sculpt/2026-02-10/
LOCATION:740 Autlman Street\, 740 Aultman Street\, Ely\, NV\, 89301\, United States
CATEGORIES:Community,Sports
ATTACH;FMTTYPE=image/jpeg:https://elynevada.net/wp-content/uploads/2026/01/BeFitEly-Step-Sculpt.jpg
ORGANIZER;CN="BeFitEly":MAILTO:info@allaboardely.com
END:VEVENT
BEGIN:VEVENT
DTSTART;TZID=America/Los_Angeles:20260210T180000
DTEND;TZID=America/Los_Angeles:20260210T203000
DTSTAMP:20260422T205018
CREATED:20260107T190349Z
LAST-MODIFIED:20260107T190350Z
UID:10004082-1770746400-1770755400@elynevada.net
SUMMARY:Ely Cornhole League
DESCRIPTION:2026 Ely Cornhole League\nJoin the 2026 Ely Cornhole League! All proceeds benefit the WPHS Girls Basketball Teams. \nGrab a partner or come solo. All skill levels welcome. Family-friendly event. \nPrizes\, cash bar\, music & fun! \nEvery Tuesday at 6:00pm\, January 6th – February 24th at the Bristlecone Convention Center. \n6:00pm-8:30pm \nRegistration Fee: $60 per team \nTo register or get more information\, contact Jaime at (775) 934-1658
URL:https://elynevada.net/event/ely-cornhole-league/2026-02-10/
LOCATION:Bristlecone Convention Center\, 150 Sixth Street\, Ely\, NV\, 89301\, United States
CATEGORIES:Community,Sports
ATTACH;FMTTYPE=image/jpeg:https://elynevada.net/wp-content/uploads/2026/01/Cornhole-League-2026.jpg
END:VEVENT
BEGIN:VEVENT
DTSTART;TZID=America/Los_Angeles:20260211T063000
DTEND;TZID=America/Los_Angeles:20260211T070000
DTSTAMP:20260422T205018
CREATED:20260127T210739Z
LAST-MODIFIED:20260325T005141Z
UID:10004325-1770791400-1770793200@elynevada.net
SUMMARY:BeFitEly TBT
DESCRIPTION:BeFitEly Total Body Tone\nFull body strength training with progressive weight loading \nBuild strength from head to toe with our comprehensive full-body workout. You control the weight load\, starting light and progressing as you grow stronger. Perfect for building confidence and muscle definition. \n  \n\nFull body strength training\nProgressive weight loading\nBeginner to advanced options\nBuild at your own pace\n\n  \nPre Register at BeFitEly.com!
URL:https://elynevada.net/event/befitely-tbt/2026-02-11/
LOCATION:740 Autlman Street\, 740 Aultman Street\, Ely\, NV\, 89301\, United States
CATEGORIES:Community,Sports
ATTACH;FMTTYPE=image/jpeg:https://elynevada.net/wp-content/uploads/2026/01/BeFitEly-TBT.jpg
ORGANIZER;CN="BeFitEly":MAILTO:info@allaboardely.com
END:VEVENT
BEGIN:VEVENT
DTSTART;TZID=America/Los_Angeles:20260217T170000
DTEND;TZID=America/Los_Angeles:20260217T180000
DTSTAMP:20260422T205018
CREATED:20260127T211512Z
LAST-MODIFIED:20260127T211513Z
UID:10004427-1771347600-1771351200@elynevada.net
SUMMARY:BeFitEly Step & Sculpt
DESCRIPTION:BeFitEly Step & Sculpt\nModern cardio step aerobics meets strength sculpting \nGet your heart pumping with dynamic step aerobics while building lean muscle with targeted sculpting exercises using weights. This high-energy class combines the best of both worlds for a complete workout experience. \n\nCardio step aerobics\nSculpting with weights\nHigh-energy music\nAll fitness levels welcome\n\n  \nNo Sign Up – Just Come to Class. Learn more at BeFitEly.com
URL:https://elynevada.net/event/befitely-step-sculpt/2026-02-17/
LOCATION:740 Autlman Street\, 740 Aultman Street\, Ely\, NV\, 89301\, United States
CATEGORIES:Community,Sports
ATTACH;FMTTYPE=image/jpeg:https://elynevada.net/wp-content/uploads/2026/01/BeFitEly-Step-Sculpt.jpg
ORGANIZER;CN="BeFitEly":MAILTO:info@allaboardely.com
END:VEVENT
BEGIN:VEVENT
DTSTART;TZID=America/Los_Angeles:20260217T180000
DTEND;TZID=America/Los_Angeles:20260217T203000
DTSTAMP:20260422T205018
CREATED:20260107T190349Z
LAST-MODIFIED:20260107T190350Z
UID:10004083-1771351200-1771360200@elynevada.net
SUMMARY:Ely Cornhole League
DESCRIPTION:2026 Ely Cornhole League\nJoin the 2026 Ely Cornhole League! All proceeds benefit the WPHS Girls Basketball Teams. \nGrab a partner or come solo. All skill levels welcome. Family-friendly event. \nPrizes\, cash bar\, music & fun! \nEvery Tuesday at 6:00pm\, January 6th – February 24th at the Bristlecone Convention Center. \n6:00pm-8:30pm \nRegistration Fee: $60 per team \nTo register or get more information\, contact Jaime at (775) 934-1658
URL:https://elynevada.net/event/ely-cornhole-league/2026-02-17/
LOCATION:Bristlecone Convention Center\, 150 Sixth Street\, Ely\, NV\, 89301\, United States
CATEGORIES:Community,Sports
ATTACH;FMTTYPE=image/jpeg:https://elynevada.net/wp-content/uploads/2026/01/Cornhole-League-2026.jpg
END:VEVENT
BEGIN:VEVENT
DTSTART;TZID=America/Los_Angeles:20260218T063000
DTEND;TZID=America/Los_Angeles:20260218T070000
DTSTAMP:20260422T205018
CREATED:20260127T210739Z
LAST-MODIFIED:20260325T005141Z
UID:10004326-1771396200-1771398000@elynevada.net
SUMMARY:BeFitEly TBT
DESCRIPTION:BeFitEly Total Body Tone\nFull body strength training with progressive weight loading \nBuild strength from head to toe with our comprehensive full-body workout. You control the weight load\, starting light and progressing as you grow stronger. Perfect for building confidence and muscle definition. \n  \n\nFull body strength training\nProgressive weight loading\nBeginner to advanced options\nBuild at your own pace\n\n  \nPre Register at BeFitEly.com!
URL:https://elynevada.net/event/befitely-tbt/2026-02-18/
LOCATION:740 Autlman Street\, 740 Aultman Street\, Ely\, NV\, 89301\, United States
CATEGORIES:Community,Sports
ATTACH;FMTTYPE=image/jpeg:https://elynevada.net/wp-content/uploads/2026/01/BeFitEly-TBT.jpg
ORGANIZER;CN="BeFitEly":MAILTO:info@allaboardely.com
END:VEVENT
BEGIN:VEVENT
DTSTART;TZID=America/Los_Angeles:20260219T170000
DTEND;TZID=America/Los_Angeles:20260219T180000
DTSTAMP:20260422T205018
CREATED:20260127T211512Z
LAST-MODIFIED:20260127T211513Z
UID:10004428-1771520400-1771524000@elynevada.net
SUMMARY:BeFitEly Step & Sculpt
DESCRIPTION:BeFitEly Step & Sculpt\nModern cardio step aerobics meets strength sculpting \nGet your heart pumping with dynamic step aerobics while building lean muscle with targeted sculpting exercises using weights. This high-energy class combines the best of both worlds for a complete workout experience. \n\nCardio step aerobics\nSculpting with weights\nHigh-energy music\nAll fitness levels welcome\n\n  \nNo Sign Up – Just Come to Class. Learn more at BeFitEly.com
URL:https://elynevada.net/event/befitely-step-sculpt/2026-02-19/
LOCATION:740 Autlman Street\, 740 Aultman Street\, Ely\, NV\, 89301\, United States
CATEGORIES:Community,Sports
ATTACH;FMTTYPE=image/jpeg:https://elynevada.net/wp-content/uploads/2026/01/BeFitEly-Step-Sculpt.jpg
ORGANIZER;CN="BeFitEly":MAILTO:info@allaboardely.com
END:VEVENT
BEGIN:VEVENT
DTSTART;TZID=America/Los_Angeles:20260220T063000
DTEND;TZID=America/Los_Angeles:20260220T070000
DTSTAMP:20260422T205018
CREATED:20260127T210739Z
LAST-MODIFIED:20260325T005141Z
UID:10004129-1771569000-1771570800@elynevada.net
SUMMARY:BeFitEly TBT
DESCRIPTION:BeFitEly Total Body Tone\nFull body strength training with progressive weight loading \nBuild strength from head to toe with our comprehensive full-body workout. You control the weight load\, starting light and progressing as you grow stronger. Perfect for building confidence and muscle definition. \n  \n\nFull body strength training\nProgressive weight loading\nBeginner to advanced options\nBuild at your own pace\n\n  \nPre Register at BeFitEly.com!
URL:https://elynevada.net/event/befitely-tbt/2026-02-20/
LOCATION:740 Autlman Street\, 740 Aultman Street\, Ely\, NV\, 89301\, United States
CATEGORIES:Community,Sports
ATTACH;FMTTYPE=image/jpeg:https://elynevada.net/wp-content/uploads/2026/01/BeFitEly-TBT.jpg
ORGANIZER;CN="BeFitEly":MAILTO:info@allaboardely.com
END:VEVENT
BEGIN:VEVENT
DTSTART;TZID=America/Los_Angeles:20260223T063000
DTEND;TZID=America/Los_Angeles:20260223T070000
DTSTAMP:20260422T205018
CREATED:20260127T210739Z
LAST-MODIFIED:20260325T005141Z
UID:10004130-1771828200-1771830000@elynevada.net
SUMMARY:BeFitEly TBT
DESCRIPTION:BeFitEly Total Body Tone\nFull body strength training with progressive weight loading \nBuild strength from head to toe with our comprehensive full-body workout. You control the weight load\, starting light and progressing as you grow stronger. Perfect for building confidence and muscle definition. \n  \n\nFull body strength training\nProgressive weight loading\nBeginner to advanced options\nBuild at your own pace\n\n  \nPre Register at BeFitEly.com!
URL:https://elynevada.net/event/befitely-tbt/2026-02-23/
LOCATION:740 Autlman Street\, 740 Aultman Street\, Ely\, NV\, 89301\, United States
CATEGORIES:Community,Sports
ATTACH;FMTTYPE=image/jpeg:https://elynevada.net/wp-content/uploads/2026/01/BeFitEly-TBT.jpg
ORGANIZER;CN="BeFitEly":MAILTO:info@allaboardely.com
END:VEVENT
BEGIN:VEVENT
DTSTART;TZID=America/Los_Angeles:20260224T170000
DTEND;TZID=America/Los_Angeles:20260224T180000
DTSTAMP:20260422T205018
CREATED:20260127T211512Z
LAST-MODIFIED:20260127T211513Z
UID:10004429-1771952400-1771956000@elynevada.net
SUMMARY:BeFitEly Step & Sculpt
DESCRIPTION:BeFitEly Step & Sculpt\nModern cardio step aerobics meets strength sculpting \nGet your heart pumping with dynamic step aerobics while building lean muscle with targeted sculpting exercises using weights. This high-energy class combines the best of both worlds for a complete workout experience. \n\nCardio step aerobics\nSculpting with weights\nHigh-energy music\nAll fitness levels welcome\n\n  \nNo Sign Up – Just Come to Class. Learn more at BeFitEly.com
URL:https://elynevada.net/event/befitely-step-sculpt/2026-02-24/
LOCATION:740 Autlman Street\, 740 Aultman Street\, Ely\, NV\, 89301\, United States
CATEGORIES:Community,Sports
ATTACH;FMTTYPE=image/jpeg:https://elynevada.net/wp-content/uploads/2026/01/BeFitEly-Step-Sculpt.jpg
ORGANIZER;CN="BeFitEly":MAILTO:info@allaboardely.com
END:VEVENT
BEGIN:VEVENT
DTSTART;TZID=America/Los_Angeles:20260224T180000
DTEND;TZID=America/Los_Angeles:20260224T203000
DTSTAMP:20260422T205018
CREATED:20260107T190349Z
LAST-MODIFIED:20260107T190350Z
UID:10004084-1771956000-1771965000@elynevada.net
SUMMARY:Ely Cornhole League
DESCRIPTION:2026 Ely Cornhole League\nJoin the 2026 Ely Cornhole League! All proceeds benefit the WPHS Girls Basketball Teams. \nGrab a partner or come solo. All skill levels welcome. Family-friendly event. \nPrizes\, cash bar\, music & fun! \nEvery Tuesday at 6:00pm\, January 6th – February 24th at the Bristlecone Convention Center. \n6:00pm-8:30pm \nRegistration Fee: $60 per team \nTo register or get more information\, contact Jaime at (775) 934-1658
URL:https://elynevada.net/event/ely-cornhole-league/2026-02-24/
LOCATION:Bristlecone Convention Center\, 150 Sixth Street\, Ely\, NV\, 89301\, United States
CATEGORIES:Community,Sports
ATTACH;FMTTYPE=image/jpeg:https://elynevada.net/wp-content/uploads/2026/01/Cornhole-League-2026.jpg
END:VEVENT
BEGIN:VEVENT
DTSTART;TZID=America/Los_Angeles:20260225T063000
DTEND;TZID=America/Los_Angeles:20260225T070000
DTSTAMP:20260422T205018
CREATED:20260127T210739Z
LAST-MODIFIED:20260325T005141Z
UID:10004327-1772001000-1772002800@elynevada.net
SUMMARY:BeFitEly TBT
DESCRIPTION:BeFitEly Total Body Tone\nFull body strength training with progressive weight loading \nBuild strength from head to toe with our comprehensive full-body workout. You control the weight load\, starting light and progressing as you grow stronger. Perfect for building confidence and muscle definition. \n  \n\nFull body strength training\nProgressive weight loading\nBeginner to advanced options\nBuild at your own pace\n\n  \nPre Register at BeFitEly.com!
URL:https://elynevada.net/event/befitely-tbt/2026-02-25/
LOCATION:740 Autlman Street\, 740 Aultman Street\, Ely\, NV\, 89301\, United States
CATEGORIES:Community,Sports
ATTACH;FMTTYPE=image/jpeg:https://elynevada.net/wp-content/uploads/2026/01/BeFitEly-TBT.jpg
ORGANIZER;CN="BeFitEly":MAILTO:info@allaboardely.com
END:VEVENT
BEGIN:VEVENT
DTSTART;TZID=America/Los_Angeles:20260226T170000
DTEND;TZID=America/Los_Angeles:20260226T180000
DTSTAMP:20260422T205018
CREATED:20260127T211512Z
LAST-MODIFIED:20260127T211513Z
UID:10004430-1772125200-1772128800@elynevada.net
SUMMARY:BeFitEly Step & Sculpt
DESCRIPTION:BeFitEly Step & Sculpt\nModern cardio step aerobics meets strength sculpting \nGet your heart pumping with dynamic step aerobics while building lean muscle with targeted sculpting exercises using weights. This high-energy class combines the best of both worlds for a complete workout experience. \n\nCardio step aerobics\nSculpting with weights\nHigh-energy music\nAll fitness levels welcome\n\n  \nNo Sign Up – Just Come to Class. Learn more at BeFitEly.com
URL:https://elynevada.net/event/befitely-step-sculpt/2026-02-26/
LOCATION:740 Autlman Street\, 740 Aultman Street\, Ely\, NV\, 89301\, United States
CATEGORIES:Community,Sports
ATTACH;FMTTYPE=image/jpeg:https://elynevada.net/wp-content/uploads/2026/01/BeFitEly-Step-Sculpt.jpg
ORGANIZER;CN="BeFitEly":MAILTO:info@allaboardely.com
END:VEVENT
BEGIN:VEVENT
DTSTART;TZID=America/Los_Angeles:20260227T063000
DTEND;TZID=America/Los_Angeles:20260227T070000
DTSTAMP:20260422T205018
CREATED:20260127T210739Z
LAST-MODIFIED:20260325T005141Z
UID:10004131-1772173800-1772175600@elynevada.net
SUMMARY:BeFitEly TBT
DESCRIPTION:BeFitEly Total Body Tone\nFull body strength training with progressive weight loading \nBuild strength from head to toe with our comprehensive full-body workout. You control the weight load\, starting light and progressing as you grow stronger. Perfect for building confidence and muscle definition. \n  \n\nFull body strength training\nProgressive weight loading\nBeginner to advanced options\nBuild at your own pace\n\n  \nPre Register at BeFitEly.com!
URL:https://elynevada.net/event/befitely-tbt/2026-02-27/
LOCATION:740 Autlman Street\, 740 Aultman Street\, Ely\, NV\, 89301\, United States
CATEGORIES:Community,Sports
ATTACH;FMTTYPE=image/jpeg:https://elynevada.net/wp-content/uploads/2026/01/BeFitEly-TBT.jpg
ORGANIZER;CN="BeFitEly":MAILTO:info@allaboardely.com
END:VEVENT
BEGIN:VEVENT
DTSTART;TZID=America/Los_Angeles:20260228T080000
DTEND;TZID=America/Los_Angeles:20260228T170000
DTSTAMP:20260422T205018
CREATED:20260127T211922Z
LAST-MODIFIED:20260127T211922Z
UID:10004944-1772265600-1772298000@elynevada.net
SUMMARY:BeFitEly 50/50
DESCRIPTION:BeFitEly 50/50\nStart your Saturday strong with 50/50\, a fun and effective class that gives you the best of both worlds. \nThe first half of class features a gentle warm-up and easy-to-follow step patterns. The second half transitions into Total Body Tone. This class is beginner-friendly. \n\nHalf Step/Half Strength\nBeginner-friendly\nPre-registration required\nIncluded with the Step Blast Pass\n\nPre Register at BeFitEly.com
URL:https://elynevada.net/event/befitely-50-50/2026-02-28/
LOCATION:740 Autlman Street\, 740 Aultman Street\, Ely\, NV\, 89301\, United States
CATEGORIES:Community,Sports
ATTACH;FMTTYPE=image/jpeg:https://elynevada.net/wp-content/uploads/2026/01/BeFitEly-50_50.jpg
ORGANIZER;CN="BeFitEly":MAILTO:info@allaboardely.com
END:VEVENT
END:VCALENDAR