BEGIN:VCALENDAR
VERSION:2.0
PRODID:-//Welcome To Ely - ECPv6.15.20//NONSGML v1.0//EN
CALSCALE:GREGORIAN
METHOD:PUBLISH
X-ORIGINAL-URL:https://elynevada.net
X-WR-CALDESC:Events for Welcome To Ely
REFRESH-INTERVAL;VALUE=DURATION:PT1H
X-Robots-Tag:noindex
X-PUBLISHED-TTL:PT1H
BEGIN:VTIMEZONE
TZID:UTC
BEGIN:STANDARD
TZOFFSETFROM:+0000
TZOFFSETTO:+0000
TZNAME:UTC
DTSTART:20220101T000000
END:STANDARD
END:VTIMEZONE
BEGIN:VEVENT
DTSTART;TZID=UTC:20230703T080000
DTEND;TZID=UTC:20230703T170000
DTSTAMP:20260425T033253
CREATED:20220330T055654Z
LAST-MODIFIED:20230427T030225Z
UID:10000455-1688371200-1688403600@elynevada.net
SUMMARY:Fourth of July Red\, White and Blue Tournament (WPGC)
DESCRIPTION:Fourth of July Red\, White and Blue Tournament (White Pine Golf Course)\nFormat: 4 Person Scramble \nOpen to public. Form your own team or sign up to play and you will be placed on a team. Format will be a scramble with drives being hit from the red\, white\, and blue tees on alternating holes. \n8:00 AM \nEntry Fee: 3$30.00 with $15.00 going toward course improvement. Green & Cart Fees not included in Entry Fee. \nFormat: Individual Gross & Net \nSee Randy Long\, PGA\, for details \n 151 North Golf Course Drive \n  Ely\, NV 89301 \n  Phone: 775-289-4095 \n  Fax: 775-289-7813 \nrlong@whitepinecountynv.gov
URL:https://elynevada.net/event/fourth-of-july-red-white-and-blue-tournament-wpgc/
LOCATION:White Pine Golf Course\, 151 N. Golf Course Drive\, Ely\, NV\, 89301\, United States
CATEGORIES:Sports
ATTACH;FMTTYPE=image/png:https://elynevada.net/wp-content/uploads/2022/03/Basic-Golf-1.png
ORGANIZER;CN="White Pine Golf Course":MAILTO:rlong@whitepinecountynv.gov
END:VEVENT
END:VCALENDAR