BEGIN:VCALENDAR
VERSION:2.0
PRODID:-//Welcome To Ely - ECPv6.15.20//NONSGML v1.0//EN
CALSCALE:GREGORIAN
METHOD:PUBLISH
X-ORIGINAL-URL:https://elynevada.net
X-WR-CALDESC:Events for Welcome To Ely
REFRESH-INTERVAL;VALUE=DURATION:PT1H
X-Robots-Tag:noindex
X-PUBLISHED-TTL:PT1H
BEGIN:VTIMEZONE
TZID:America/Los_Angeles
BEGIN:DAYLIGHT
TZOFFSETFROM:-0800
TZOFFSETTO:-0700
TZNAME:PDT
DTSTART:20230312T100000
END:DAYLIGHT
BEGIN:STANDARD
TZOFFSETFROM:-0700
TZOFFSETTO:-0800
TZNAME:PST
DTSTART:20231105T090000
END:STANDARD
BEGIN:DAYLIGHT
TZOFFSETFROM:-0800
TZOFFSETTO:-0700
TZNAME:PDT
DTSTART:20240310T100000
END:DAYLIGHT
BEGIN:STANDARD
TZOFFSETFROM:-0700
TZOFFSETTO:-0800
TZNAME:PST
DTSTART:20241103T090000
END:STANDARD
BEGIN:DAYLIGHT
TZOFFSETFROM:-0800
TZOFFSETTO:-0700
TZNAME:PDT
DTSTART:20250309T100000
END:DAYLIGHT
BEGIN:STANDARD
TZOFFSETFROM:-0700
TZOFFSETTO:-0800
TZNAME:PST
DTSTART:20251102T090000
END:STANDARD
END:VTIMEZONE
BEGIN:VEVENT
DTSTART;TZID=America/Los_Angeles:20240427T070000
DTEND;TZID=America/Los_Angeles:20240427T130000
DTSTAMP:20260424T100521
CREATED:20240321T181155Z
LAST-MODIFIED:20240321T181156Z
UID:10000678-1714201200-1714222800@elynevada.net
SUMMARY:SVTST Long Range Shoot
DESCRIPTION:Open Long Range Shoots Every Last Saturday\nSteptoe Valley Trap\, Skeet and Target will be holding Long Rance and Critter Shoots the last Saturday and Sunday of each month. \nLong Range Rifle Shoot – Saturdays \nCritter Shoots – Sundays \nSign in and set up will begin 7:00am \nSafety Briefing at 7:50am \nShooting Begins at 8:00am \nFees: Members $10\, Non-Members $15 \n(Membership forms will be available at the shoots) \nIf you have any questions\, please contact: \nBryant Barnson (775) 293-3054 \nBill Ricci (775) 296-0919 \nCody Bliss (775) 296-0077
URL:https://elynevada.net/event/svtst-long-range-shoot-2/2024-04-27/
LOCATION:SVTST Range\, Cross Timbers\, Ely\, NV\, 89301\, United States
CATEGORIES:Sports
ATTACH;FMTTYPE=image/jpeg:https://elynevada.net/wp-content/uploads/2022/03/svtst-long-range.jpg
ORGANIZER;CN="Steptoe Valley Trap%2C Skeet & Target Club":MAILTO:https://m.me/SVTST?fbclid=IwAR14ZsKDRy8acHhy_NvkKeQEybWoERP2h8Wpep1U5PUpQlmv1B4-FVvptSo
END:VEVENT
BEGIN:VEVENT
DTSTART;TZID=America/Los_Angeles:20240427T100000
DTEND;TZID=America/Los_Angeles:20240427T133000
DTSTAMP:20260424T100521
CREATED:20210310T061511Z
LAST-MODIFIED:20240321T184650Z
UID:10000384-1714212000-1714224600@elynevada.net
SUMMARY:Cornhole Championship Weekend
DESCRIPTION:Cornhole Championship Weekend\nEarn your claim to fame on April 27th in Ely\, Nevada! \nSaturday\, 1 PM at the Bristlecone Convention Center \n$50 Per Team\, $40 a team if you took part in the league. \n1st\, 2nd\, & 3rd Prizes \nMore Info: \nTony Enriquez\, tenriquez@dbgctm.org\, (775) 289-4841 Ext. 3110 \nJaime Wood\, High Fitness\, (775) 934-1658 \n– \nLeading up to this year’s Cornhole Championships\, we are also hosting an Indoor Cornhole League through the whole month of April! You do not have to participate in the league to play in the Championships. More deatils coming soon! \nFollow Updates About This Event On Our Facebook HERE!\nDiscover More To Do In White Pine County HERE!
URL:https://elynevada.net/event/eastern-nevada-cornhole-championships/
LOCATION:Bristlecone Convention Center\, 150 Sixth Street\, Ely\, NV\, 89301\, United States
CATEGORIES:Community,Sports
ATTACH;FMTTYPE=image/jpeg:https://elynevada.net/wp-content/uploads/2021/03/Boys-and-Girls-Club-Cornhole-Championship-Weekend.jpg
END:VEVENT
END:VCALENDAR