BEGIN:VCALENDAR
VERSION:2.0
PRODID:-//Welcome To Ely - ECPv6.15.20//NONSGML v1.0//EN
CALSCALE:GREGORIAN
METHOD:PUBLISH
X-WR-CALNAME:Welcome To Ely
X-ORIGINAL-URL:https://elynevada.net
X-WR-CALDESC:Events for Welcome To Ely
REFRESH-INTERVAL;VALUE=DURATION:PT1H
X-Robots-Tag:noindex
X-PUBLISHED-TTL:PT1H
BEGIN:VTIMEZONE
TZID:America/Los_Angeles
BEGIN:DAYLIGHT
TZOFFSETFROM:-0800
TZOFFSETTO:-0700
TZNAME:PDT
DTSTART:20230312T100000
END:DAYLIGHT
BEGIN:STANDARD
TZOFFSETFROM:-0700
TZOFFSETTO:-0800
TZNAME:PST
DTSTART:20231105T090000
END:STANDARD
BEGIN:DAYLIGHT
TZOFFSETFROM:-0800
TZOFFSETTO:-0700
TZNAME:PDT
DTSTART:20240310T100000
END:DAYLIGHT
BEGIN:STANDARD
TZOFFSETFROM:-0700
TZOFFSETTO:-0800
TZNAME:PST
DTSTART:20241103T090000
END:STANDARD
BEGIN:DAYLIGHT
TZOFFSETFROM:-0800
TZOFFSETTO:-0700
TZNAME:PDT
DTSTART:20250309T100000
END:DAYLIGHT
BEGIN:STANDARD
TZOFFSETFROM:-0700
TZOFFSETTO:-0800
TZNAME:PST
DTSTART:20251102T090000
END:STANDARD
END:VTIMEZONE
BEGIN:VEVENT
DTSTART;TZID=America/Los_Angeles:20240921T100000
DTEND;TZID=America/Los_Angeles:20240922T100000
DTSTAMP:20260424T010214
CREATED:20240812T194514Z
LAST-MODIFIED:20240812T194627Z
UID:10002832-1726912800-1726999200@elynevada.net
SUMMARY:Let's Glow Softball Tournament
DESCRIPTION:Let’s Glow Softball Tournament\nThe Elyte Allstars present their Let’s Glow Softball Tournament located in Ely\, NV! \n24 Hour Co-Ed! \nSeptember 21-22\, 2024 \nStarting at 10:00 am on the 21s and going all thew ay till 10:00am on the 22nd. \nSign Ups: \nUntil August 1st \n$400 Team Entry Fee \nComes with Shirt and Glow Sticks \n$450 for Late Team Entry and NOT guaranteed a shirt \n14 per Team Max \nContact: (775) 296-2834
URL:https://elynevada.net/event/lets-glow-softball-tournament/
LOCATION:Ely\, NV\, 89301\, United States
CATEGORIES:Sports
ATTACH;FMTTYPE=image/jpeg:https://elynevada.net/wp-content/uploads/2024/08/Elyte-Cheer-Thing-scaled.jpg
END:VEVENT
BEGIN:VEVENT
DTSTART;TZID=America/Los_Angeles:20240922T070000
DTEND;TZID=America/Los_Angeles:20240922T130000
DTSTAMP:20260424T010214
CREATED:20240321T181230Z
LAST-MODIFIED:20240321T181231Z
UID:10001857-1726988400-1727010000@elynevada.net
SUMMARY:SVTST Critter Shoots
DESCRIPTION:Open Critter Shoots Every Last Sunday\nSteptoe Valley Trap\, Skeet and Target will be holding Long Rance and Critter Shoots the last Saturday and Sunday of each month. \nLong Range Rifle Shoot – Saturdays \nCritter Shoots – Sundays \nSign in and set up will begin 7:00am \nSafety Briefing at 7:50am \nShooting Begins at 8:00am \nFees: Members $10\, Non-Members $15 \n(Membership forms will be available at the shoots) \nIf you have any questions\, please contact: \nBryant Barnson (775) 293-3054 \nBill Ricci (775) 296-0919 \nCody Bliss (775) 296-0077
URL:https://elynevada.net/event/svtst-trap-shoots-2/2024-09-22/
LOCATION:SVTST Range\, Cross Timbers\, Ely\, NV\, 89301\, United States
CATEGORIES:Community,Sports
ATTACH;FMTTYPE=image/jpeg:https://elynevada.net/wp-content/uploads/2022/03/svtst.jpg
ORGANIZER;CN="Steptoe Valley Trap%2C Skeet & Target Club":MAILTO:https://m.me/SVTST?fbclid=IwAR14ZsKDRy8acHhy_NvkKeQEybWoERP2h8Wpep1U5PUpQlmv1B4-FVvptSo
END:VEVENT
END:VCALENDAR