BEGIN:VCALENDAR
VERSION:2.0
PRODID:-//Welcome To Ely - ECPv6.15.20//NONSGML v1.0//EN
CALSCALE:GREGORIAN
METHOD:PUBLISH
X-ORIGINAL-URL:https://elynevada.net
X-WR-CALDESC:Events for Welcome To Ely
REFRESH-INTERVAL;VALUE=DURATION:PT1H
X-Robots-Tag:noindex
X-PUBLISHED-TTL:PT1H
BEGIN:VTIMEZONE
TZID:America/Los_Angeles
BEGIN:DAYLIGHT
TZOFFSETFROM:-0800
TZOFFSETTO:-0700
TZNAME:PDT
DTSTART:20240310T100000
END:DAYLIGHT
BEGIN:STANDARD
TZOFFSETFROM:-0700
TZOFFSETTO:-0800
TZNAME:PST
DTSTART:20241103T090000
END:STANDARD
BEGIN:DAYLIGHT
TZOFFSETFROM:-0800
TZOFFSETTO:-0700
TZNAME:PDT
DTSTART:20250309T100000
END:DAYLIGHT
BEGIN:STANDARD
TZOFFSETFROM:-0700
TZOFFSETTO:-0800
TZNAME:PST
DTSTART:20251102T090000
END:STANDARD
BEGIN:DAYLIGHT
TZOFFSETFROM:-0800
TZOFFSETTO:-0700
TZNAME:PDT
DTSTART:20260308T100000
END:DAYLIGHT
BEGIN:STANDARD
TZOFFSETFROM:-0700
TZOFFSETTO:-0800
TZNAME:PST
DTSTART:20261101T090000
END:STANDARD
END:VTIMEZONE
BEGIN:VEVENT
DTSTART;TZID=America/Los_Angeles:20250712T163000
DTEND;TZID=America/Los_Angeles:20250712T180000
DTSTAMP:20260423T101345
CREATED:20240201T082226Z
LAST-MODIFIED:20250303T202510Z
UID:10003883-1752337800-1752343200@elynevada.net
SUMMARY:NNRY Bingo Bash Express
DESCRIPTION:Bingo Bash Express\nBingo Was His Namo… on the Train!!!!!!!!!!!!!! \nJoin us for a game of bingo while riding behind a vintage steam locomotive! When the train leaves you will receive two bingo cards\, with the option to purchase more. As you travel along the tracks\, the caller will announce bingo numbers over the sound system. Winners who hit a bingo\, will receive prizes! \nTickets and More Info at www.NNRY.com
URL:https://elynevada.net/event/bingo-bash-express/2025-07-12/
LOCATION:Nevada Northern Railway\, 1100 Avenue A\, Ely\, NV\, 89301\, United States
CATEGORIES:Arts & Culture,Community,History,Sports
ATTACH;FMTTYPE=image/jpeg:https://elynevada.net/wp-content/uploads/2024/02/Bingo.-On-the-Train.jpg
END:VEVENT
END:VCALENDAR