BEGIN:VCALENDAR
VERSION:2.0
PRODID:-//Welcome To Ely - ECPv6.15.20//NONSGML v1.0//EN
CALSCALE:GREGORIAN
METHOD:PUBLISH
X-ORIGINAL-URL:https://elynevada.net
X-WR-CALDESC:Events for Welcome To Ely
REFRESH-INTERVAL;VALUE=DURATION:PT1H
X-Robots-Tag:noindex
X-PUBLISHED-TTL:PT1H
BEGIN:VTIMEZONE
TZID:UTC
BEGIN:STANDARD
TZOFFSETFROM:+0000
TZOFFSETTO:+0000
TZNAME:UTC
DTSTART:20240101T000000
END:STANDARD
END:VTIMEZONE
BEGIN:VEVENT
DTSTART;TZID=UTC:20250726T090000
DTEND;TZID=UTC:20250726T160000
DTSTAMP:20260423T100940
CREATED:20220608T051259Z
LAST-MODIFIED:20250718T211726Z
UID:10000217-1753520400-1753545600@elynevada.net
SUMMARY:2025 Annual Rotary Golf Tournament
DESCRIPTION:2025 Annual Rotary Golf Tournament\nThe Ely Rotary Club is hosting their Rotary Annual Golf Tournament – 2025 on July 26th to raise money for scholarships and community projects. Registration is $150/ person and includes BBQ lunch and entry into an exclusive raffle. There is a chance to win $15K for the first Hole in One on holes #4 & #13. \n2025 Rotary Golf Tournament \nRegistration Form Found by Clicking HERE! \nRegister by Mail (make checks payable to Ely Rotary Club): Ely Rotary Club\, P.O. Box 151827\, Ely\, Nevada 89315 \nFormat: Individual Gross & Net \nSee Randy Long\, PGA\, for details \n 151 North Golf Course Drive \n  Ely\, NV 89301 \n  Phone: 775-289-4095 \n  Fax: 775-289-7813 \nrlong@whitepinecountynv.gov \nGoing to be here for this annual event? Check out our lodging options HERE!
URL:https://elynevada.net/event/2022-annual-rotary-golf-tournament/
LOCATION:White Pine Golf Course\, 151 N. Golf Course Drive\, Ely\, NV\, 89301\, United States
CATEGORIES:Sports
ATTACH;FMTTYPE=image/jpeg:https://elynevada.net/wp-content/uploads/2022/06/492367676_999919495597555_5791997357451318099_n.jpg
ORGANIZER;CN="Ely Rotary Club":MAILTO:elyrotary@gmail.com
END:VEVENT
END:VCALENDAR