BEGIN:VCALENDAR
VERSION:2.0
PRODID:-//Welcome To Ely - ECPv6.15.20//NONSGML v1.0//EN
CALSCALE:GREGORIAN
METHOD:PUBLISH
X-ORIGINAL-URL:https://elynevada.net
X-WR-CALDESC:Events for Welcome To Ely
REFRESH-INTERVAL;VALUE=DURATION:PT1H
X-Robots-Tag:noindex
X-PUBLISHED-TTL:PT1H
BEGIN:VTIMEZONE
TZID:America/Los_Angeles
BEGIN:DAYLIGHT
TZOFFSETFROM:-0800
TZOFFSETTO:-0700
TZNAME:PDT
DTSTART:20250309T100000
END:DAYLIGHT
BEGIN:STANDARD
TZOFFSETFROM:-0700
TZOFFSETTO:-0800
TZNAME:PST
DTSTART:20251102T090000
END:STANDARD
BEGIN:DAYLIGHT
TZOFFSETFROM:-0800
TZOFFSETTO:-0700
TZNAME:PDT
DTSTART:20260308T100000
END:DAYLIGHT
BEGIN:STANDARD
TZOFFSETFROM:-0700
TZOFFSETTO:-0800
TZNAME:PST
DTSTART:20261101T090000
END:STANDARD
BEGIN:DAYLIGHT
TZOFFSETFROM:-0800
TZOFFSETTO:-0700
TZNAME:PDT
DTSTART:20270314T100000
END:DAYLIGHT
BEGIN:STANDARD
TZOFFSETFROM:-0700
TZOFFSETTO:-0800
TZNAME:PST
DTSTART:20271107T090000
END:STANDARD
END:VTIMEZONE
BEGIN:VEVENT
DTSTART;TZID=America/Los_Angeles:20260203T170000
DTEND;TZID=America/Los_Angeles:20260203T180000
DTSTAMP:20260422T222225
CREATED:20260127T211512Z
LAST-MODIFIED:20260127T211513Z
UID:10004424-1770138000-1770141600@elynevada.net
SUMMARY:BeFitEly Step & Sculpt
DESCRIPTION:BeFitEly Step & Sculpt\nModern cardio step aerobics meets strength sculpting \nGet your heart pumping with dynamic step aerobics while building lean muscle with targeted sculpting exercises using weights. This high-energy class combines the best of both worlds for a complete workout experience. \n\nCardio step aerobics\nSculpting with weights\nHigh-energy music\nAll fitness levels welcome\n\n  \nNo Sign Up – Just Come to Class. Learn more at BeFitEly.com
URL:https://elynevada.net/event/befitely-step-sculpt/2026-02-03/
LOCATION:740 Autlman Street\, 740 Aultman Street\, Ely\, NV\, 89301\, United States
CATEGORIES:Community,Sports
ATTACH;FMTTYPE=image/jpeg:https://elynevada.net/wp-content/uploads/2026/01/BeFitEly-Step-Sculpt.jpg
ORGANIZER;CN="BeFitEly":MAILTO:info@allaboardely.com
END:VEVENT
BEGIN:VEVENT
DTSTART;TZID=America/Los_Angeles:20260203T180000
DTEND;TZID=America/Los_Angeles:20260203T203000
DTSTAMP:20260422T222225
CREATED:20260107T190349Z
LAST-MODIFIED:20260107T190350Z
UID:10004081-1770141600-1770150600@elynevada.net
SUMMARY:Ely Cornhole League
DESCRIPTION:2026 Ely Cornhole League\nJoin the 2026 Ely Cornhole League! All proceeds benefit the WPHS Girls Basketball Teams. \nGrab a partner or come solo. All skill levels welcome. Family-friendly event. \nPrizes\, cash bar\, music & fun! \nEvery Tuesday at 6:00pm\, January 6th – February 24th at the Bristlecone Convention Center. \n6:00pm-8:30pm \nRegistration Fee: $60 per team \nTo register or get more information\, contact Jaime at (775) 934-1658
URL:https://elynevada.net/event/ely-cornhole-league/2026-02-03/
LOCATION:Bristlecone Convention Center\, 150 Sixth Street\, Ely\, NV\, 89301\, United States
CATEGORIES:Community,Sports
ATTACH;FMTTYPE=image/jpeg:https://elynevada.net/wp-content/uploads/2026/01/Cornhole-League-2026.jpg
END:VEVENT
END:VCALENDAR