BEGIN:VCALENDAR
VERSION:2.0
PRODID:-//Welcome To Ely - ECPv6.15.20//NONSGML v1.0//EN
CALSCALE:GREGORIAN
METHOD:PUBLISH
X-ORIGINAL-URL:https://elynevada.net
X-WR-CALDESC:Events for Welcome To Ely
REFRESH-INTERVAL;VALUE=DURATION:PT1H
X-Robots-Tag:noindex
X-PUBLISHED-TTL:PT1H
BEGIN:VTIMEZONE
TZID:America/Los_Angeles
BEGIN:DAYLIGHT
TZOFFSETFROM:-0800
TZOFFSETTO:-0700
TZNAME:PDT
DTSTART:20250309T100000
END:DAYLIGHT
BEGIN:STANDARD
TZOFFSETFROM:-0700
TZOFFSETTO:-0800
TZNAME:PST
DTSTART:20251102T090000
END:STANDARD
BEGIN:DAYLIGHT
TZOFFSETFROM:-0800
TZOFFSETTO:-0700
TZNAME:PDT
DTSTART:20260308T100000
END:DAYLIGHT
BEGIN:STANDARD
TZOFFSETFROM:-0700
TZOFFSETTO:-0800
TZNAME:PST
DTSTART:20261101T090000
END:STANDARD
BEGIN:DAYLIGHT
TZOFFSETFROM:-0800
TZOFFSETTO:-0700
TZNAME:PDT
DTSTART:20270314T100000
END:DAYLIGHT
BEGIN:STANDARD
TZOFFSETFROM:-0700
TZOFFSETTO:-0800
TZNAME:PST
DTSTART:20271107T090000
END:STANDARD
END:VTIMEZONE
BEGIN:VEVENT
DTSTART;TZID=America/Los_Angeles:20260422T063000
DTEND;TZID=America/Los_Angeles:20260422T070000
DTSTAMP:20260422T191647
CREATED:20260127T210739Z
LAST-MODIFIED:20260325T005141Z
UID:10004335-1776839400-1776841200@elynevada.net
SUMMARY:BeFitEly TBT
DESCRIPTION:BeFitEly Total Body Tone\nFull body strength training with progressive weight loading \nBuild strength from head to toe with our comprehensive full-body workout. You control the weight load\, starting light and progressing as you grow stronger. Perfect for building confidence and muscle definition. \n  \n\nFull body strength training\nProgressive weight loading\nBeginner to advanced options\nBuild at your own pace\n\n  \nPre Register at BeFitEly.com!
URL:https://elynevada.net/event/befitely-tbt/2026-04-22/
LOCATION:740 Autlman Street\, 740 Aultman Street\, Ely\, NV\, 89301\, United States
CATEGORIES:Community,Sports
ATTACH;FMTTYPE=image/jpeg:https://elynevada.net/wp-content/uploads/2026/01/BeFitEly-TBT.jpg
ORGANIZER;CN="BeFitEly":MAILTO:info@allaboardely.com
END:VEVENT
BEGIN:VEVENT
DTSTART;TZID=America/Los_Angeles:20260423T170000
DTEND;TZID=America/Los_Angeles:20260423T180000
DTSTAMP:20260422T191647
CREATED:20260127T211512Z
LAST-MODIFIED:20260127T211513Z
UID:10004446-1776963600-1776967200@elynevada.net
SUMMARY:BeFitEly Step & Sculpt
DESCRIPTION:BeFitEly Step & Sculpt\nModern cardio step aerobics meets strength sculpting \nGet your heart pumping with dynamic step aerobics while building lean muscle with targeted sculpting exercises using weights. This high-energy class combines the best of both worlds for a complete workout experience. \n\nCardio step aerobics\nSculpting with weights\nHigh-energy music\nAll fitness levels welcome\n\n  \nNo Sign Up – Just Come to Class. Learn more at BeFitEly.com
URL:https://elynevada.net/event/befitely-step-sculpt/2026-04-23/
LOCATION:740 Autlman Street\, 740 Aultman Street\, Ely\, NV\, 89301\, United States
CATEGORIES:Community,Sports
ATTACH;FMTTYPE=image/jpeg:https://elynevada.net/wp-content/uploads/2026/01/BeFitEly-Step-Sculpt.jpg
ORGANIZER;CN="BeFitEly":MAILTO:info@allaboardely.com
END:VEVENT
BEGIN:VEVENT
DTSTART;TZID=America/Los_Angeles:20260424T063000
DTEND;TZID=America/Los_Angeles:20260424T070000
DTSTAMP:20260422T191647
CREATED:20260127T210739Z
LAST-MODIFIED:20260325T005141Z
UID:10004147-1777012200-1777014000@elynevada.net
SUMMARY:BeFitEly TBT
DESCRIPTION:BeFitEly Total Body Tone\nFull body strength training with progressive weight loading \nBuild strength from head to toe with our comprehensive full-body workout. You control the weight load\, starting light and progressing as you grow stronger. Perfect for building confidence and muscle definition. \n  \n\nFull body strength training\nProgressive weight loading\nBeginner to advanced options\nBuild at your own pace\n\n  \nPre Register at BeFitEly.com!
URL:https://elynevada.net/event/befitely-tbt/2026-04-24/
LOCATION:740 Autlman Street\, 740 Aultman Street\, Ely\, NV\, 89301\, United States
CATEGORIES:Community,Sports
ATTACH;FMTTYPE=image/jpeg:https://elynevada.net/wp-content/uploads/2026/01/BeFitEly-TBT.jpg
ORGANIZER;CN="BeFitEly":MAILTO:info@allaboardely.com
END:VEVENT
BEGIN:VEVENT
DTSTART;TZID=America/Los_Angeles:20260427T063000
DTEND;TZID=America/Los_Angeles:20260427T070000
DTSTAMP:20260422T191647
CREATED:20260127T210739Z
LAST-MODIFIED:20260325T005141Z
UID:10004148-1777271400-1777273200@elynevada.net
SUMMARY:BeFitEly TBT
DESCRIPTION:BeFitEly Total Body Tone\nFull body strength training with progressive weight loading \nBuild strength from head to toe with our comprehensive full-body workout. You control the weight load\, starting light and progressing as you grow stronger. Perfect for building confidence and muscle definition. \n  \n\nFull body strength training\nProgressive weight loading\nBeginner to advanced options\nBuild at your own pace\n\n  \nPre Register at BeFitEly.com!
URL:https://elynevada.net/event/befitely-tbt/2026-04-27/
LOCATION:740 Autlman Street\, 740 Aultman Street\, Ely\, NV\, 89301\, United States
CATEGORIES:Community,Sports
ATTACH;FMTTYPE=image/jpeg:https://elynevada.net/wp-content/uploads/2026/01/BeFitEly-TBT.jpg
ORGANIZER;CN="BeFitEly":MAILTO:info@allaboardely.com
END:VEVENT
BEGIN:VEVENT
DTSTART;TZID=America/Los_Angeles:20260428T170000
DTEND;TZID=America/Los_Angeles:20260428T180000
DTSTAMP:20260422T191647
CREATED:20260127T211512Z
LAST-MODIFIED:20260127T211513Z
UID:10004447-1777395600-1777399200@elynevada.net
SUMMARY:BeFitEly Step & Sculpt
DESCRIPTION:BeFitEly Step & Sculpt\nModern cardio step aerobics meets strength sculpting \nGet your heart pumping with dynamic step aerobics while building lean muscle with targeted sculpting exercises using weights. This high-energy class combines the best of both worlds for a complete workout experience. \n\nCardio step aerobics\nSculpting with weights\nHigh-energy music\nAll fitness levels welcome\n\n  \nNo Sign Up – Just Come to Class. Learn more at BeFitEly.com
URL:https://elynevada.net/event/befitely-step-sculpt/2026-04-28/
LOCATION:740 Autlman Street\, 740 Aultman Street\, Ely\, NV\, 89301\, United States
CATEGORIES:Community,Sports
ATTACH;FMTTYPE=image/jpeg:https://elynevada.net/wp-content/uploads/2026/01/BeFitEly-Step-Sculpt.jpg
ORGANIZER;CN="BeFitEly":MAILTO:info@allaboardely.com
END:VEVENT
BEGIN:VEVENT
DTSTART;TZID=America/Los_Angeles:20260430T170000
DTEND;TZID=America/Los_Angeles:20260430T180000
DTSTAMP:20260422T191647
CREATED:20260127T211512Z
LAST-MODIFIED:20260127T211513Z
UID:10004448-1777568400-1777572000@elynevada.net
SUMMARY:BeFitEly Step & Sculpt
DESCRIPTION:BeFitEly Step & Sculpt\nModern cardio step aerobics meets strength sculpting \nGet your heart pumping with dynamic step aerobics while building lean muscle with targeted sculpting exercises using weights. This high-energy class combines the best of both worlds for a complete workout experience. \n\nCardio step aerobics\nSculpting with weights\nHigh-energy music\nAll fitness levels welcome\n\n  \nNo Sign Up – Just Come to Class. Learn more at BeFitEly.com
URL:https://elynevada.net/event/befitely-step-sculpt/2026-04-30/
LOCATION:740 Autlman Street\, 740 Aultman Street\, Ely\, NV\, 89301\, United States
CATEGORIES:Community,Sports
ATTACH;FMTTYPE=image/jpeg:https://elynevada.net/wp-content/uploads/2026/01/BeFitEly-Step-Sculpt.jpg
ORGANIZER;CN="BeFitEly":MAILTO:info@allaboardely.com
END:VEVENT
END:VCALENDAR