BEGIN:VCALENDAR
VERSION:2.0
PRODID:-//Welcome To Ely - ECPv6.15.20//NONSGML v1.0//EN
CALSCALE:GREGORIAN
METHOD:PUBLISH
X-WR-CALNAME:Welcome To Ely
X-ORIGINAL-URL:https://elynevada.net
X-WR-CALDESC:Events for Welcome To Ely
REFRESH-INTERVAL;VALUE=DURATION:PT1H
X-Robots-Tag:noindex
X-PUBLISHED-TTL:PT1H
BEGIN:VTIMEZONE
TZID:UTC
BEGIN:STANDARD
TZOFFSETFROM:+0000
TZOFFSETTO:+0000
TZNAME:UTC
DTSTART:20210101T000000
END:STANDARD
END:VTIMEZONE
BEGIN:VTIMEZONE
TZID:America/Los_Angeles
BEGIN:DAYLIGHT
TZOFFSETFROM:-0800
TZOFFSETTO:-0700
TZNAME:PDT
DTSTART:20220313T100000
END:DAYLIGHT
BEGIN:STANDARD
TZOFFSETFROM:-0700
TZOFFSETTO:-0800
TZNAME:PST
DTSTART:20221106T090000
END:STANDARD
BEGIN:DAYLIGHT
TZOFFSETFROM:-0800
TZOFFSETTO:-0700
TZNAME:PDT
DTSTART:20230312T100000
END:DAYLIGHT
BEGIN:STANDARD
TZOFFSETFROM:-0700
TZOFFSETTO:-0800
TZNAME:PST
DTSTART:20231105T090000
END:STANDARD
BEGIN:DAYLIGHT
TZOFFSETFROM:-0800
TZOFFSETTO:-0700
TZNAME:PDT
DTSTART:20240310T100000
END:DAYLIGHT
BEGIN:STANDARD
TZOFFSETFROM:-0700
TZOFFSETTO:-0800
TZNAME:PST
DTSTART:20241103T090000
END:STANDARD
END:VTIMEZONE
BEGIN:VEVENT
DTSTART;TZID=UTC:20230114T080000
DTEND;TZID=UTC:20230114T120000
DTSTAMP:20260423T111914
CREATED:20201219T043728Z
LAST-MODIFIED:20221214T052105Z
UID:10000377-1673683200-1673697600@elynevada.net
SUMMARY:Bristlecone Birkebeiner Winterfest Race
DESCRIPTION:Bristlecone Birkebeiner Winterfest Race\nThe Bristlecone Birkebeiner Winterfest Race is a multi-sport winter event at the Ward Mountain Recreation Area\, North Trailhead held on January 14th. Event options are cross-country ski\, snowshoe\, or fat tire bike!\nWeather is unpredictable in Ely. Sometimes there is enough snow\, sometimes there is barely enough snow\, or sometimes there is none! If there isn’t enough snow\, their will be a Long and Short Course Trail Run\, and a Kids Trail Run that follows the same trails as the cross-country ski events. And there will be a fat tire/mountain bike event that will follow the same route as the fat tire route.\n\nThe Cross-country Ski Long Course will traverse the Birkebeiner Loop (D Loop). The Cross-country Ski Short Course and Snowshoe Course will follow the Connector Trail to the Birkebeiner Loop. The Kids Ski course is an out-and-back on the Shelter Connector Trail. And the Fat Tire Bike course is a loop using the Birkebeiner Loop\, Atta Boy Loop\, and Revenue Loop Trails.\n**It is our priority to keep our participants\, volunteers and community safe and we will be following current COVID-19 guidelines at the time of the event**\n\nSchedule of Events:\n8:00 am – Long Course Cross-country Ski – $40\n8:10 am – Short Course Cross-country Ski – $30\n8:30 am – Fat Tire Bike – $40\n8:35 am – Snowshoe – $30\n9:30 am – Kids Cross Country Ski – $15\nWeather is unpredictable in Ely. Sometiems there is enough snow\, sometimes there is barely enough snow\, or sometimes there is none! If there isn’t enough snow\, there will be a long and short course trail run and kids trail run that follows the same trails as the cross-country ski events. And there will be a fat tire/mountain event that will follow the same route as the fat tire route. \nNot-enough-snow Schedule of Events:\n8:00 am – Mountain bike/Fat Tire – $40\n8:10 am – Long Course Trail Run – $40\n8:30 am – Short Course Trail Run – $30\n9:30 am – Kids Trail Run – $15\nMedals will be awarded as following:\nLong Course Ski/Trail Run – top three male & top three female\nShort Course Ski/Trail Run – top three male & top three female\nKids Course Ski/Trail Run – top three kids\nSnowshoe Course- top three\nFat Tire Bike/Mountain Bike Course – top three\n\nIf you register for a snow or a no-snow event and weather doesn’t cooperate in your favor\, we will provide transfer your registration (minus Active.com transaction fee) towards another EOE event.\n\nEly Outdoor Enthusiasts work closely with the Bureau of Land Management for trail grooming before the event. However\, sometimes weather conditions do not allow for optimal grooming conditions.\n\nThis event is committed to taking any and all necessary steps to maintain the health and safety of both Attendees and Organizers. Masks and social distancing will be required.\n\nLEARN MORE ABOUT THE EVENT AND ELY OUTDOOR ENTUHUSIASTS HERE!\nDISCOVER MORE FEATURED EVENTS HERE!
URL:https://elynevada.net/event/bristlecone-birkebeiner-winterfest-race/
LOCATION:Ward Mountain North\, Murry Summit Rt. 6\, Ely\, NV\, 89301\, United States
CATEGORIES:Community,Races,Sports
ATTACH;FMTTYPE=image/jpeg:https://elynevada.net/wp-content/uploads/2020/12/128215110_3523595137754717_8752084664319238835_n.jpg
END:VEVENT
BEGIN:VEVENT
DTSTART;TZID=America/Los_Angeles:20230106T180000
DTEND;TZID=America/Los_Angeles:20230106T203000
DTSTAMP:20260423T111914
CREATED:20230104T033012Z
LAST-MODIFIED:20240405T001343Z
UID:10002532-1673028000-1673037000@elynevada.net
SUMMARY:Ely Elks Lodge Bingo
DESCRIPTION:Ely Elks Lodge Bingo\nBingo every first Thursday at the Ely Elks Lodge. Hot dogs and Chili are sold. Great time\, great people\, and BINGO!!!
URL:https://elynevada.net/event/ely-elks-lodge-bingo/2023-01-06/
LOCATION:Ely Elks Lodge\, 694 Campton St.\, Ely\, NV\, 89301\, United States
CATEGORIES:Community,Sports
ATTACH;FMTTYPE=image/png:https://elynevada.net/wp-content/uploads/2023/01/Ely-Elks-Lodge-Bingo.png
ORGANIZER;CN="Ely Elks Lodge":MAILTO:elyelks1469@att.net
END:VEVENT
BEGIN:VEVENT
DTSTART;VALUE=DATE:20221218
DTEND;VALUE=DATE:20221219
DTSTAMP:20260423T111914
CREATED:20221027T064737Z
LAST-MODIFIED:20221027T064741Z
UID:10000492-1671321600-1671407999@elynevada.net
SUMMARY:1st Annual Christmas Light Contest
DESCRIPTION:HLC Tire & Oil First Annual Christmas Light Contest\n\n\nRegister Nov 1st – December 15th\n$20 and all processed will be donated to local angel tress\nJudging will be December 17th and 18th\nA map of all locations registered will be created so we can all enjoy the lights\nCash prizes and a lawn sign will be awarded for 1st\, 2nd & 3rd
URL:https://elynevada.net/event/1st-annual-christmas-light-contest/2022-12-18/
LOCATION:NV
CATEGORIES:Community
END:VEVENT
BEGIN:VEVENT
DTSTART;VALUE=DATE:20221217
DTEND;VALUE=DATE:20221218
DTSTAMP:20260423T111915
CREATED:20221027T064737Z
LAST-MODIFIED:20221027T064741Z
UID:10000491-1671235200-1671321599@elynevada.net
SUMMARY:1st Annual Christmas Light Contest
DESCRIPTION:HLC Tire & Oil First Annual Christmas Light Contest\n\n\nRegister Nov 1st – December 15th\n$20 and all processed will be donated to local angel tress\nJudging will be December 17th and 18th\nA map of all locations registered will be created so we can all enjoy the lights\nCash prizes and a lawn sign will be awarded for 1st\, 2nd & 3rd
URL:https://elynevada.net/event/1st-annual-christmas-light-contest/2022-12-17/
LOCATION:NV
CATEGORIES:Community
END:VEVENT
BEGIN:VEVENT
DTSTART;TZID=UTC:20221216T200000
DTEND;TZID=UTC:20221216T235900
DTSTAMP:20260423T111915
CREATED:20221118T065123Z
LAST-MODIFIED:20221118T065125Z
UID:10000532-1671220800-1671235140@elynevada.net
SUMMARY:Tom Bennett Live at The Space
DESCRIPTION:Tom Bennett Live at The Space\nCome see One Man Band Tom Bennett Live at The Space! 8 P.M on Dec. 16th!
URL:https://elynevada.net/event/tom-bennett-live-at-the-space/
LOCATION:The Space\, 311 East Aultman\, Ely\, NV\, 89301\, United States
CATEGORIES:Arts & Culture
ATTACH;FMTTYPE=image/jpeg:https://elynevada.net/wp-content/uploads/2022/11/315944899_115853701337857_3614480262330366807_n.jpg
ORGANIZER;CN="Ely Taproot":MAILTO:elytaproot@gmail.com
END:VEVENT
BEGIN:VEVENT
DTSTART;TZID=UTC:20221201T190000
DTEND;TZID=UTC:20221201T194500
DTSTAMP:20260423T111915
CREATED:20221108T064953Z
LAST-MODIFIED:20221108T064955Z
UID:10000531-1669921200-1669923900@elynevada.net
SUMMARY:Yoga at The Space
DESCRIPTION:Salty Yoga\, an all-level yoga flow class offered in historic downtown Ely
URL:https://elynevada.net/event/yoga-at-the-space/2022-12-01/
LOCATION:The Space\, 311 East Aultman\, Ely\, NV\, 89301\, United States
CATEGORIES:Arts & Culture,Community,Sports
ORGANIZER;CN="Ely Taproot":MAILTO:elytaproot@gmail.com
END:VEVENT
BEGIN:VEVENT
DTSTART;TZID=UTC:20221130T190000
DTEND;TZID=UTC:20221130T194500
DTSTAMP:20260423T111915
CREATED:20221108T064953Z
LAST-MODIFIED:20221108T064955Z
UID:10000530-1669834800-1669837500@elynevada.net
SUMMARY:Yoga at The Space
DESCRIPTION:Salty Yoga\, an all-level yoga flow class offered in historic downtown Ely
URL:https://elynevada.net/event/yoga-at-the-space/2022-11-30/
LOCATION:The Space\, 311 East Aultman\, Ely\, NV\, 89301\, United States
CATEGORIES:Arts & Culture,Community,Sports
ORGANIZER;CN="Ely Taproot":MAILTO:elytaproot@gmail.com
END:VEVENT
BEGIN:VEVENT
DTSTART;TZID=UTC:20221130T160000
DTEND;TZID=UTC:20221130T210000
DTSTAMP:20260423T111915
CREATED:20221118T065725Z
LAST-MODIFIED:20221118T065727Z
UID:10000533-1669824000-1669842000@elynevada.net
SUMMARY:Cookies With Santa
DESCRIPTION:Cookies With Santa\n\nCome have Cookies With Santa! Eastern Nevada SME will be bringing Santa to the Bristlecone Convention Center to share refreshments and for photo ops. Come tour the beautifully decorated convention center and enjoy the Festival of Trees. We will not have a professional photographer on hand\, so bring your cameras or phones to capture your photos.\n\n\n\nAlthough not required\, we will be accepting donations for the White Pine High School community pantry. The high school has a pantry to share food and toiletries with students in need. They are asking for simple and easy foods such as peanut butter\, jelly\, soups\, raviolis\, etc. They also need hygiene products such as toothbrushes\, toothpaste\, deodorants\, etc.\n\n\n\nWe hope to see you all there! This event is for all community children and families to enjoy.
URL:https://elynevada.net/event/cookies-with-santa/
LOCATION:Bristlecone Convention Center\, 150 Sixth Street\, Ely\, NV\, 89301\, United States
CATEGORIES:Community
ATTACH;FMTTYPE=image/jpeg:https://elynevada.net/wp-content/uploads/2022/11/315998015_171457738897166_3560324746998492847_n.jpg
ORGANIZER;CN="SME - Eastern Nevada Section":MAILTO:sme.easternnevada@gmail.com
END:VEVENT
BEGIN:VEVENT
DTSTART;TZID=UTC:20221129T190000
DTEND;TZID=UTC:20221129T194500
DTSTAMP:20260423T111915
CREATED:20221108T064953Z
LAST-MODIFIED:20221108T064955Z
UID:10000529-1669748400-1669751100@elynevada.net
SUMMARY:Yoga at The Space
DESCRIPTION:Salty Yoga\, an all-level yoga flow class offered in historic downtown Ely
URL:https://elynevada.net/event/yoga-at-the-space/2022-11-29/
LOCATION:The Space\, 311 East Aultman\, Ely\, NV\, 89301\, United States
CATEGORIES:Arts & Culture,Community,Sports
ORGANIZER;CN="Ely Taproot":MAILTO:elytaproot@gmail.com
END:VEVENT
BEGIN:VEVENT
DTSTART;TZID=UTC:20221124T190000
DTEND;TZID=UTC:20221124T194500
DTSTAMP:20260423T111915
CREATED:20221108T064953Z
LAST-MODIFIED:20221108T064955Z
UID:10000528-1669316400-1669319100@elynevada.net
SUMMARY:Yoga at The Space
DESCRIPTION:Salty Yoga\, an all-level yoga flow class offered in historic downtown Ely
URL:https://elynevada.net/event/yoga-at-the-space/2022-11-24/
LOCATION:The Space\, 311 East Aultman\, Ely\, NV\, 89301\, United States
CATEGORIES:Arts & Culture,Community,Sports
ORGANIZER;CN="Ely Taproot":MAILTO:elytaproot@gmail.com
END:VEVENT
BEGIN:VEVENT
DTSTART;TZID=UTC:20221123T190000
DTEND;TZID=UTC:20221123T194500
DTSTAMP:20260423T111915
CREATED:20221108T064953Z
LAST-MODIFIED:20221108T064955Z
UID:10000527-1669230000-1669232700@elynevada.net
SUMMARY:Yoga at The Space
DESCRIPTION:Salty Yoga\, an all-level yoga flow class offered in historic downtown Ely
URL:https://elynevada.net/event/yoga-at-the-space/2022-11-23/
LOCATION:The Space\, 311 East Aultman\, Ely\, NV\, 89301\, United States
CATEGORIES:Arts & Culture,Community,Sports
ORGANIZER;CN="Ely Taproot":MAILTO:elytaproot@gmail.com
END:VEVENT
BEGIN:VEVENT
DTSTART;TZID=UTC:20221122T190000
DTEND;TZID=UTC:20221122T194500
DTSTAMP:20260423T111915
CREATED:20221108T064953Z
LAST-MODIFIED:20221108T064955Z
UID:10000526-1669143600-1669146300@elynevada.net
SUMMARY:Yoga at The Space
DESCRIPTION:Salty Yoga\, an all-level yoga flow class offered in historic downtown Ely
URL:https://elynevada.net/event/yoga-at-the-space/2022-11-22/
LOCATION:The Space\, 311 East Aultman\, Ely\, NV\, 89301\, United States
CATEGORIES:Arts & Culture,Community,Sports
ORGANIZER;CN="Ely Taproot":MAILTO:elytaproot@gmail.com
END:VEVENT
BEGIN:VEVENT
DTSTART;TZID=UTC:20221119T100000
DTEND;TZID=UTC:20221119T180000
DTSTAMP:20260423T111915
CREATED:20221102T010613Z
LAST-MODIFIED:20221102T010617Z
UID:10000493-1668852000-1668880800@elynevada.net
SUMMARY:Chili Cookoff by White Pine Productions
DESCRIPTION:Chili Cook-Off by White Pine Productions\nChili Cook-Off by White Pine Productions! Save the Date for November 19th\, 2022 at the Whtie Pine County Fairgrounds in the blue building! \n$25 Entry Fee to Enter Your Chili and Find Out if You’ve Have the Winning Recipe! \nThere will be an open bar with beer\, whisky\, tea\, vodka\, and soda. \nDorrs open at 10am\, Cooking at 12pm along with the bar becoming open\, and then tasting at 4pm. \nCornhole will also be available to be played from 2pm – 3pm. \nSo many more details to come\, but this is already shaping up to be the major event of November!
URL:https://elynevada.net/event/chili-cookoff-by-white-pine-productions/
LOCATION:White Pine County Fairgrounds\, 78 n mcgill hwy\, Ely\, NV\, United States
CATEGORIES:Arts & Culture,Community,Sports
ATTACH;FMTTYPE=image/png:https://elynevada.net/wp-content/uploads/2022/11/White-Pine-Productions-Presents-1.png
ORGANIZER;CN="White Pine Productions":MAILTO:wpprosnv@gmail.com
END:VEVENT
BEGIN:VEVENT
DTSTART;TZID=UTC:20221117T190000
DTEND;TZID=UTC:20221117T194500
DTSTAMP:20260423T111915
CREATED:20221108T064953Z
LAST-MODIFIED:20221108T064955Z
UID:10000525-1668711600-1668714300@elynevada.net
SUMMARY:Yoga at The Space
DESCRIPTION:Salty Yoga\, an all-level yoga flow class offered in historic downtown Ely
URL:https://elynevada.net/event/yoga-at-the-space/2022-11-17/
LOCATION:The Space\, 311 East Aultman\, Ely\, NV\, 89301\, United States
CATEGORIES:Arts & Culture,Community,Sports
ORGANIZER;CN="Ely Taproot":MAILTO:elytaproot@gmail.com
END:VEVENT
BEGIN:VEVENT
DTSTART;TZID=UTC:20221116T190000
DTEND;TZID=UTC:20221116T194500
DTSTAMP:20260423T111915
CREATED:20221108T064953Z
LAST-MODIFIED:20221108T064955Z
UID:10000524-1668625200-1668627900@elynevada.net
SUMMARY:Yoga at The Space
DESCRIPTION:Salty Yoga\, an all-level yoga flow class offered in historic downtown Ely
URL:https://elynevada.net/event/yoga-at-the-space/2022-11-16/
LOCATION:The Space\, 311 East Aultman\, Ely\, NV\, 89301\, United States
CATEGORIES:Arts & Culture,Community,Sports
ORGANIZER;CN="Ely Taproot":MAILTO:elytaproot@gmail.com
END:VEVENT
BEGIN:VEVENT
DTSTART;TZID=UTC:20221115T190000
DTEND;TZID=UTC:20221115T194500
DTSTAMP:20260423T111915
CREATED:20221108T064953Z
LAST-MODIFIED:20221108T064955Z
UID:10000523-1668538800-1668541500@elynevada.net
SUMMARY:Yoga at The Space
DESCRIPTION:Salty Yoga\, an all-level yoga flow class offered in historic downtown Ely
URL:https://elynevada.net/event/yoga-at-the-space/2022-11-15/
LOCATION:The Space\, 311 East Aultman\, Ely\, NV\, 89301\, United States
CATEGORIES:Arts & Culture,Community,Sports
ORGANIZER;CN="Ely Taproot":MAILTO:elytaproot@gmail.com
END:VEVENT
BEGIN:VEVENT
DTSTART;TZID=UTC:20221113T140000
DTEND;TZID=UTC:20221113T160000
DTSTAMP:20260423T111915
CREATED:20221108T063314Z
LAST-MODIFIED:20221108T063317Z
UID:10000495-1668348000-1668355200@elynevada.net
SUMMARY:GET KNIT
DESCRIPTION:Get Knit: Knitting & Craft Circle. Make a holiday craft to bring home (and drink wine!)
URL:https://elynevada.net/event/get-knit/
LOCATION:Stargazer Inn\, 115 S. Baker Ave.\, Baker\, NV\, 89311\, United States
CATEGORIES:Arts & Culture,Community
ORGANIZER;CN="Bristlecone General Store":MAILTO:stay@stargazernevada.com
END:VEVENT
BEGIN:VEVENT
DTSTART;TZID=UTC:20221110T190000
DTEND;TZID=UTC:20221110T194500
DTSTAMP:20260423T111915
CREATED:20221108T064953Z
LAST-MODIFIED:20221108T064955Z
UID:10000522-1668106800-1668109500@elynevada.net
SUMMARY:Yoga at The Space
DESCRIPTION:Salty Yoga\, an all-level yoga flow class offered in historic downtown Ely
URL:https://elynevada.net/event/yoga-at-the-space/2022-11-10/
LOCATION:The Space\, 311 East Aultman\, Ely\, NV\, 89301\, United States
CATEGORIES:Arts & Culture,Community,Sports
ORGANIZER;CN="Ely Taproot":MAILTO:elytaproot@gmail.com
END:VEVENT
BEGIN:VEVENT
DTSTART;TZID=UTC:20221109T190000
DTEND;TZID=UTC:20221109T194500
DTSTAMP:20260423T111915
CREATED:20221108T064953Z
LAST-MODIFIED:20221108T064955Z
UID:10000521-1668020400-1668023100@elynevada.net
SUMMARY:Yoga at The Space
DESCRIPTION:Salty Yoga\, an all-level yoga flow class offered in historic downtown Ely
URL:https://elynevada.net/event/yoga-at-the-space/2022-11-09/
LOCATION:The Space\, 311 East Aultman\, Ely\, NV\, 89301\, United States
CATEGORIES:Arts & Culture,Community,Sports
ORGANIZER;CN="Ely Taproot":MAILTO:elytaproot@gmail.com
END:VEVENT
BEGIN:VEVENT
DTSTART;TZID=UTC:20221108T190000
DTEND;TZID=UTC:20221108T194500
DTSTAMP:20260423T111915
CREATED:20221108T064953Z
LAST-MODIFIED:20221108T064955Z
UID:10000520-1667934000-1667936700@elynevada.net
SUMMARY:Yoga at The Space
DESCRIPTION:Salty Yoga\, an all-level yoga flow class offered in historic downtown Ely
URL:https://elynevada.net/event/yoga-at-the-space/2022-11-08/
LOCATION:The Space\, 311 East Aultman\, Ely\, NV\, 89301\, United States
CATEGORIES:Arts & Culture,Community,Sports
ORGANIZER;CN="Ely Taproot":MAILTO:elytaproot@gmail.com
END:VEVENT
BEGIN:VEVENT
DTSTART;TZID=UTC:20221029T190000
DTEND;TZID=UTC:20221029T235900
DTSTAMP:20260423T111915
CREATED:20221005T054906Z
LAST-MODIFIED:20221005T054909Z
UID:10000480-1667070000-1667087940@elynevada.net
SUMMARY:The Space Grand Opening & Halloween Party
DESCRIPTION:The Space Grand Opening & Halloween Party\nOctober 29th is The Space Grand Opening & Halloween Party. This is also where the mural is being revealed after so much hard work. \nThere will be a cash prize for the Costume Contest! Live Band\, Live DJ\, and Specialty Menu \nFood by Fired Up Creations & Indo Bowl
URL:https://elynevada.net/event/the-space-grand-opening-halloween-party/
LOCATION:The Space\, 311 East Aultman\, Ely\, NV\, 89301\, United States
CATEGORIES:Arts & Culture,Community
ATTACH;FMTTYPE=image/jpeg:https://elynevada.net/wp-content/uploads/2022/10/The-Space-Grand-Opening-Poster-smaller.jpg
ORGANIZER;CN="Ely Taproot":MAILTO:elytaproot@gmail.com
END:VEVENT
BEGIN:VEVENT
DTSTART;TZID=UTC:20221029T170000
DTEND;TZID=UTC:20221029T210000
DTSTAMP:20260423T111915
CREATED:20221005T064039Z
LAST-MODIFIED:20221005T064041Z
UID:10000481-1667062800-1667077200@elynevada.net
SUMMARY:Halloween Carnival in Lund
DESCRIPTION:Halloween Carnival in Lund\nHalloween Carnival in Lund! October 29th\, 2022 \n5:00 P.M. – 9:00 P.M. \nBlue Gym in Lund \n3 and Under Free \n$5.00 Per Person $25 For Family \nConcessions/Bingo/Games/Fun\nCostume Contest!!!
URL:https://elynevada.net/event/halloween-carnival-in-lund/
LOCATION:NV
CATEGORIES:Arts & Culture,Community
ATTACH;FMTTYPE=image/jpeg:https://elynevada.net/wp-content/uploads/2022/10/Halloween-Carnival-in-Lund-smaller.jpg
END:VEVENT
BEGIN:VEVENT
DTSTART;TZID=UTC:20221028T130000
DTEND;TZID=UTC:20221028T170000
DTSTAMP:20260423T111915
CREATED:20190924T065935Z
LAST-MODIFIED:20221005T055152Z
UID:10000142-1666962000-1666976400@elynevada.net
SUMMARY:Trick or Treat the Street
DESCRIPTION:Local Businesses who want to participate in Trick Or Treat the street call Wayne at the Chamber at 289-8877.
URL:https://elynevada.net/event/trick-or-treat-the-streets/
LOCATION:NV
CATEGORIES:Community
ORGANIZER;CN="White Pine Chamber of Commerce":MAILTO:wpcc@whitepinechamber.com
END:VEVENT
BEGIN:VEVENT
DTSTART;TZID=UTC:20221022T170000
DTEND;TZID=UTC:20221022T200000
DTSTAMP:20260423T111915
CREATED:20221005T053410Z
LAST-MODIFIED:20221005T053412Z
UID:10000479-1666458000-1666468800@elynevada.net
SUMMARY:McGill Elementary Halloween Carnival
DESCRIPTION:McGill Elementary Halloween Carnival\nThe tradition continues! The McGill Elementary will be having their Halloween Carnival on October 22nd from 5:00 P.M. – 8:00 P.M. Haunted House\, hay maze\, games\, food and prizes! Fun for the family\, ghouls and ghosts welecome!
URL:https://elynevada.net/event/mcgill-elementary-halloween-carnival/
LOCATION:McGill Elementary School\, 25 Avenue F\, McGill\, McGill\, NV\, 89318\, United States
CATEGORIES:Community
END:VEVENT
BEGIN:VEVENT
DTSTART;TZID=UTC:20221015T080000
DTEND;TZID=UTC:20221015T170000
DTSTAMP:20260423T111915
CREATED:20221005T064937Z
LAST-MODIFIED:20221019T044715Z
UID:10000484-1665820800-1665853200@elynevada.net
SUMMARY:McGill Theatre Fall Movie Series
DESCRIPTION:McGill Theatre Fall Movie Series\nFridays & Saturdays in Oct. 7 & 9 PM \nOutdoors\, BRING A BLANKET
URL:https://elynevada.net/event/mcgill-theatre-fall-movie-series/2022-10-15/
LOCATION:McGill Theatre\, Main Street (Hwy 50)\, McGill\, NV\, United States
CATEGORIES:Arts & Culture,Community
ATTACH;FMTTYPE=image/jpeg:https://elynevada.net/wp-content/uploads/2022/10/McGill-Theater-Fall-Movie-Series.jpg
END:VEVENT
BEGIN:VEVENT
DTSTART;TZID=UTC:20221014T080000
DTEND;TZID=UTC:20221014T170000
DTSTAMP:20260423T111915
CREATED:20221005T064937Z
LAST-MODIFIED:20221019T044715Z
UID:10000483-1665734400-1665766800@elynevada.net
SUMMARY:McGill Theatre Fall Movie Series
DESCRIPTION:McGill Theatre Fall Movie Series\nFridays & Saturdays in Oct. 7 & 9 PM \nOutdoors\, BRING A BLANKET
URL:https://elynevada.net/event/mcgill-theatre-fall-movie-series/2022-10-14/
LOCATION:McGill Theatre\, Main Street (Hwy 50)\, McGill\, NV\, United States
CATEGORIES:Arts & Culture,Community
ATTACH;FMTTYPE=image/jpeg:https://elynevada.net/wp-content/uploads/2022/10/McGill-Theater-Fall-Movie-Series.jpg
END:VEVENT
BEGIN:VEVENT
DTSTART;TZID=UTC:20221008T080000
DTEND;TZID=UTC:20221008T170000
DTSTAMP:20260423T111915
CREATED:20221005T064937Z
LAST-MODIFIED:20221019T044715Z
UID:10000482-1665216000-1665248400@elynevada.net
SUMMARY:McGill Theatre Fall Movie Series
DESCRIPTION:McGill Theatre Fall Movie Series\nFridays & Saturdays in Oct. 7 & 9 PM \nOutdoors\, BRING A BLANKET
URL:https://elynevada.net/event/mcgill-theatre-fall-movie-series/2022-10-08/
LOCATION:McGill Theatre\, Main Street (Hwy 50)\, McGill\, NV\, United States
CATEGORIES:Arts & Culture,Community
ATTACH;FMTTYPE=image/jpeg:https://elynevada.net/wp-content/uploads/2022/10/McGill-Theater-Fall-Movie-Series.jpg
END:VEVENT
BEGIN:VEVENT
DTSTART;TZID=UTC:20221006T170000
DTEND;TZID=UTC:20221006T200000
DTSTAMP:20260423T111915
CREATED:20221005T051619Z
LAST-MODIFIED:20221005T051621Z
UID:10000477-1665075600-1665086400@elynevada.net
SUMMARY:Elks Lodge Bingo
DESCRIPTION:Elks Lodge Bingo\nFun night of bingo! October 6\, 2022 \nDoors Open – 5:00 P.M. \nBingo starting at 6:00 P.M. \n$1.00 per card \nMinimum Winnings of $5.00 per game \nPrize drawings to be held at the end of each evening. Grand prize drawing at the end of the quarter (December). Must be present to win drawings. Tickets for drawings are free to each person who attends and each week of attendance. \n694 Campton St.\, Please use the front door only. If you are in need of assistance call (775) 293-0107 or (775) 293-0721 \nFor Information call: (775) 293-0721\, (775) 293-0107\, (775) 237-9997\, (775) 293-0719\, (716) 523-0579 \nBar will be open\, Snacks will be available for sale for a small fee. (Popcorn\, candy bars\, etc. To be determined.)
URL:https://elynevada.net/event/elks-lodge-bingo/
LOCATION:Ely Elks Lodge\, 694 Campton St.\, Ely\, NV\, 89301\, United States
CATEGORIES:Community
ORGANIZER;CN="Ely Elks Lodge":MAILTO:elyelks1469@att.net
END:VEVENT
BEGIN:VEVENT
DTSTART;TZID=UTC:20221001T150000
DTEND;TZID=UTC:20221001T190000
DTSTAMP:20260423T111915
CREATED:20220830T050044Z
LAST-MODIFIED:20220830T050046Z
UID:10000476-1664636400-1664650800@elynevada.net
SUMMARY:Oktobeerfest Crawl
DESCRIPTION:Oktobeerfest Crawl\nNotice from White Pine Chamber of Commerce As Follows:\n\n\nWe are currently seeking sponsorship and participation for our Oktoberfest Beer Crawl event\, scheduled to take place on October 1st\, 2022 from 3pm-7pm. The Chamber is excited for this event to promote local business and bring life into our downtown area! \nThis event will have an admission price of $20 per person\, and the event goers will begin at the Ely Elks Lodge where they collect an event cup and map showing all the businesses who participate. Each location on the map will have a drink special or offer some sort of free alcoholic beverage and/or hors d’oeuvre. If the participant visits each location on the map and obtains signatures\, they will be put in for a raffle prize of $100 in Chamber Bucks. Depending on the level of sponsorship received\, we are considering additional raffle prizes that will be purchased from local businesses. \nHow you can participate: \n\nWe are accepting all donations to be put towards this event and all contributors will be recognized through our Facebook page and having their logo placed on the event map and flyer.\n\nThere are two top sponsor spots available at $500 each – and the business would be recognized through our Facebook page as well as having their logo placed on the event cup\, map and flyer.\n\n\n\n  \n\nWe are looking for businesses to be featured locations during the event. We are asking for the business to have a signature drink or two and provide this to patrons who come in with their cup. These do not have to be full-size drinks\, but minimum 4-6 ounces. This will be at your cost. They will then have their map signed to verify they received from your establishment\n\n\nThe White Pine Chamber of Commerce appreciates your support\, and we look forward to hearing from you about this opportunity. We are excited for this event to kick off our Shop Local Hometown Holiday event season. It is our hope\, this will get them in your door now and then they will want to come back and shop/eat/drink local.
URL:https://elynevada.net/event/oktobeerfest-crawl/
LOCATION:Ely\, NV\, 89301\, United States
CATEGORIES:Community
ATTACH;FMTTYPE=image/png:https://elynevada.net/wp-content/uploads/2022/08/Oktoberfest-Chamber-FINAL.png
ORGANIZER;CN="White Pine Chamber of Commerce":MAILTO:wpcc@whitepinechamber.com
END:VEVENT
BEGIN:VEVENT
DTSTART;TZID=UTC:20220924T090000
DTEND;TZID=UTC:20220924T180000
DTSTAMP:20260423T111915
CREATED:20220825T051910Z
LAST-MODIFIED:20220825T051914Z
UID:10000475-1664010000-1664042400@elynevada.net
SUMMARY:GBNP & BLM Public Lands Day
DESCRIPTION:GBNP & BLM Public Lands Day\nHelp Great Basin National Park and the BLM clean up a historic mining road for Public Lands Day on September 24th at 9:00 AM!\nAnyone who has a can-do spirit and loves the outdoors.\n\nSNACKS AND WATER PROVIDED!\n\nHelp move fallen trees and fix washouts on an historic mining road that leads to the Lexington Arch.\n\nMeet at the Great Basin Visitor Center in Baker\, Nevada.\nVisitor Center: (775) 234-7331\nPark Ranger: (319) 329-6573\n\nWhat Should You Bring?\n-Hand tools (shovels\, rakes\, hand saws\, gloves\, etc.)\n-Protective clothing and sunscreen\n-A high clearance four-wheel drive vehicle (low range transfer case recommended)\n\nMore Projects To Do\, No 4×4 Required\n– We still need you! We will also be painting a historic road sign\n\nLook for More White Pine County Events and Volunteer Opportunities HERE!
URL:https://elynevada.net/event/gbnp-blm-public-lands-day/
LOCATION:Great Basin National Park\, National Park\, 100 Great Basin\, Baker\, NV\, 89311\, United States
CATEGORIES:Community
ATTACH;FMTTYPE=image/png:https://elynevada.net/wp-content/uploads/2022/08/Public-Lands-Day-at-GBNP.png
END:VEVENT
END:VCALENDAR