BEGIN:VCALENDAR
VERSION:2.0
PRODID:-//Welcome To Ely - ECPv6.15.20//NONSGML v1.0//EN
CALSCALE:GREGORIAN
METHOD:PUBLISH
X-ORIGINAL-URL:https://elynevada.net
X-WR-CALDESC:Events for Welcome To Ely
REFRESH-INTERVAL;VALUE=DURATION:PT1H
X-Robots-Tag:noindex
X-PUBLISHED-TTL:PT1H
BEGIN:VTIMEZONE
TZID:America/Los_Angeles
BEGIN:DAYLIGHT
TZOFFSETFROM:-0800
TZOFFSETTO:-0700
TZNAME:PDT
DTSTART:20230312T100000
END:DAYLIGHT
BEGIN:STANDARD
TZOFFSETFROM:-0700
TZOFFSETTO:-0800
TZNAME:PST
DTSTART:20231105T090000
END:STANDARD
BEGIN:DAYLIGHT
TZOFFSETFROM:-0800
TZOFFSETTO:-0700
TZNAME:PDT
DTSTART:20240310T100000
END:DAYLIGHT
BEGIN:STANDARD
TZOFFSETFROM:-0700
TZOFFSETTO:-0800
TZNAME:PST
DTSTART:20241103T090000
END:STANDARD
BEGIN:DAYLIGHT
TZOFFSETFROM:-0800
TZOFFSETTO:-0700
TZNAME:PDT
DTSTART:20250309T100000
END:DAYLIGHT
BEGIN:STANDARD
TZOFFSETFROM:-0700
TZOFFSETTO:-0800
TZNAME:PST
DTSTART:20251102T090000
END:STANDARD
END:VTIMEZONE
BEGIN:VEVENT
DTSTART;TZID=America/Los_Angeles:20240421T113000
DTEND;TZID=America/Los_Angeles:20240421T130000
DTSTAMP:20260425T034618
CREATED:20240201T064344Z
LAST-MODIFIED:20240820T204722Z
UID:10002949-1713699000-1713704400@elynevada.net
SUMMARY:NNRY Sunday Mornin' Excursion Train
DESCRIPTION:NNRY Excursion Train\nThe NNRY’s Regular Excursion Train through Robinson Canyon or Valley Vista. \nBook Your Ticket\, Discover Which Train is Running\, and More at www.NNRY.com!
URL:https://elynevada.net/event/nnry-sunday-mornin-excursion-train/2024-04-21/
LOCATION:Nevada Northern Railway\, 1100 Avenue A\, Ely\, NV\, 89301\, United States
CATEGORIES:History
ATTACH;FMTTYPE=image/jpeg:https://elynevada.net/wp-content/uploads/2020/11/Test-7.jpg
END:VEVENT
BEGIN:VEVENT
DTSTART;TZID=America/Los_Angeles:20240421T210000
DTEND;TZID=America/Los_Angeles:20240421T230000
DTSTAMP:20260425T034618
CREATED:20240305T030418Z
LAST-MODIFIED:20240321T184410Z
UID:10002296-1713733200-1713740400@elynevada.net
SUMMARY:Get LIT
DESCRIPTION:GET LIT in Baker\nBristlecone General Store Book Club
URL:https://elynevada.net/event/get-lit-2/2024-04-21/
LOCATION:Bristlecone General Store\, 115 S. Baker Ave.\, Baker\, NV\, 89311\, United States
CATEGORIES:Arts & Culture,Community
ATTACH;FMTTYPE=image/jpeg:https://elynevada.net/wp-content/uploads/2024/03/GET-LIT-2024.jpg
ORGANIZER;CN="Bristlecone General Store":MAILTO:stay@stargazernevada.com
END:VEVENT
BEGIN:VEVENT
DTSTART;TZID=America/Los_Angeles:20240422T153000
DTEND;TZID=America/Los_Angeles:20240422T170000
DTSTAMP:20260425T034618
CREATED:20240321T181441Z
LAST-MODIFIED:20240321T181442Z
UID:10001971-1713799800-1713805200@elynevada.net
SUMMARY:11&Up Club
DESCRIPTION:11&Up Club\n3:45 – 5 PM
URL:https://elynevada.net/event/11up-club-2/2024-04-22/
LOCATION:White Pine County Library\, 950 Campton St\, Ely\, NV\, 89301\, United States
CATEGORIES:Community
ATTACH;FMTTYPE=image/jpeg:https://elynevada.net/wp-content/uploads/2024/02/liiiiiiiiiiiiiiiiibbbbbbbbbbbbbbbrrrrrrraaaaaaarrrrrrrrryyyyyyyyyyy.jpg
END:VEVENT
BEGIN:VEVENT
DTSTART;TZID=America/Los_Angeles:20240422T153000
DTEND;TZID=America/Los_Angeles:20240422T180000
DTSTAMP:20260425T034618
CREATED:20240321T181428Z
LAST-MODIFIED:20240321T181428Z
UID:10001922-1713799800-1713808800@elynevada.net
SUMMARY:Roaring Readers
DESCRIPTION:Roaring Readers\nAges 5-7: 3:35-4:45 PM
URL:https://elynevada.net/event/roaring-readers-2/2024-04-22/
LOCATION:White Pine County Library\, 950 Campton St\, Ely\, NV\, 89301\, United States
CATEGORIES:Community
ATTACH;FMTTYPE=image/jpeg:https://elynevada.net/wp-content/uploads/2024/02/liiiiiiiiiiiiiiiiibbbbbbbbbbbbbbbrrrrrrraaaaaaarrrrrrrrryyyyyyyyyyy.jpg
END:VEVENT
BEGIN:VEVENT
DTSTART;TZID=America/Los_Angeles:20240422T154500
DTEND;TZID=America/Los_Angeles:20240422T164500
DTSTAMP:20260425T034618
CREATED:20240321T181611Z
LAST-MODIFIED:20240321T181612Z
UID:10002078-1713800700-1713804300@elynevada.net
SUMMARY:Atlas Club
DESCRIPTION:Atlas Club\nAges 8-10
URL:https://elynevada.net/event/atlas-club-2/2024-04-22/
LOCATION:White Pine County Library\, 950 Campton St\, Ely\, NV\, 89301\, United States
CATEGORIES:Community
ATTACH;FMTTYPE=image/jpeg:https://elynevada.net/wp-content/uploads/2024/02/liiiiiiiiiiiiiiiiibbbbbbbbbbbbbbbrrrrrrraaaaaaarrrrrrrrryyyyyyyyyyy.jpg
END:VEVENT
BEGIN:VEVENT
DTSTART;TZID=America/Los_Angeles:20240424T200000
DTEND;TZID=America/Los_Angeles:20240424T210000
DTSTAMP:20260425T034618
CREATED:20240321T181318Z
LAST-MODIFIED:20240321T181318Z
UID:10001869-1713988800-1713992400@elynevada.net
SUMMARY:GET MOONED in Baker!
DESCRIPTION:GET MOONED in BAKER\, NV!\nBaker is adding MORE to our “GET” series with Full Moon Hikes each month!! Meet at the Bristlecone General Store and we’ll venture on a 2-3 mile hike in the area with the light of the moon as our guide. \nHere’s what we have scheduled so far:\nThurs\, January 25: 6:30pm\nSat\, February 24: 7:00pm\nSun\, March 24: 7:30pm\nWed\, April 24: 8:30pm \n“Full moons offer us a chance to reflect\, refresh and renew our senses.”
URL:https://elynevada.net/event/get-mooned-in-baker-2/2024-04-24/
LOCATION:Bristlecone General Store\, 115 S. Baker Ave.\, Baker\, NV\, 89311\, United States
CATEGORIES:Arts & Culture,Community,Sports
ATTACH;FMTTYPE=image/jpeg:https://elynevada.net/wp-content/uploads/2024/01/Get-Mooned-in-Baker_2024.jpg
ORGANIZER;CN="Bristlecone General Store":MAILTO:stay@stargazernevada.com
END:VEVENT
BEGIN:VEVENT
DTSTART;TZID=America/Los_Angeles:20240425T154500
DTEND;TZID=America/Los_Angeles:20240425T164500
DTSTAMP:20260425T034618
CREATED:20240321T181611Z
LAST-MODIFIED:20240321T181612Z
UID:10002079-1714059900-1714063500@elynevada.net
SUMMARY:Atlas Club
DESCRIPTION:Atlas Club\nAges 8-10
URL:https://elynevada.net/event/atlas-club-2/2024-04-25/
LOCATION:White Pine County Library\, 950 Campton St\, Ely\, NV\, 89301\, United States
CATEGORIES:Community
ATTACH;FMTTYPE=image/jpeg:https://elynevada.net/wp-content/uploads/2024/02/liiiiiiiiiiiiiiiiibbbbbbbbbbbbbbbrrrrrrraaaaaaarrrrrrrrryyyyyyyyyyy.jpg
END:VEVENT
BEGIN:VEVENT
DTSTART;TZID=America/Los_Angeles:20240426T180000
DTEND;TZID=America/Los_Angeles:20240426T210000
DTSTAMP:20260425T034618
CREATED:20240419T173741Z
LAST-MODIFIED:20240419T173742Z
UID:10002662-1714154400-1714165200@elynevada.net
SUMMARY:Downtown Aultman Street Past\, Present\, Future
DESCRIPTION:Downtown Aultman Street Past\, Present\, Future\nPlease join Mary Harrison\, Tom Bath\, and Anthony Ithurralde for their photo archive and art show “Downtown Aultman Street Past\, Present\, Future” \nFriday April 26th: 6:00 p.m. – 9:00 p.m. \nSaturday April 27th: 11:00 a.m. – 3:00 p.m. \nAt the Ely Art Bank
URL:https://elynevada.net/event/downtown-aultman-street-past-present-future/2024-04-26/
LOCATION:Ely Art Bank\, 399 E Aultman St\, Ely\, NV\, 89301\, United States
CATEGORIES:Arts & Culture,Community
ATTACH;FMTTYPE=image/jpeg:https://elynevada.net/wp-content/uploads/2024/04/PXL_20240419_171245224.jpg
END:VEVENT
BEGIN:VEVENT
DTSTART;TZID=America/Los_Angeles:20240427T070000
DTEND;TZID=America/Los_Angeles:20240427T130000
DTSTAMP:20260425T034618
CREATED:20240321T181155Z
LAST-MODIFIED:20240321T181156Z
UID:10000678-1714201200-1714222800@elynevada.net
SUMMARY:SVTST Long Range Shoot
DESCRIPTION:Open Long Range Shoots Every Last Saturday\nSteptoe Valley Trap\, Skeet and Target will be holding Long Rance and Critter Shoots the last Saturday and Sunday of each month. \nLong Range Rifle Shoot – Saturdays \nCritter Shoots – Sundays \nSign in and set up will begin 7:00am \nSafety Briefing at 7:50am \nShooting Begins at 8:00am \nFees: Members $10\, Non-Members $15 \n(Membership forms will be available at the shoots) \nIf you have any questions\, please contact: \nBryant Barnson (775) 293-3054 \nBill Ricci (775) 296-0919 \nCody Bliss (775) 296-0077
URL:https://elynevada.net/event/svtst-long-range-shoot-2/2024-04-27/
LOCATION:SVTST Range\, Cross Timbers\, Ely\, NV\, 89301\, United States
CATEGORIES:Sports
ATTACH;FMTTYPE=image/jpeg:https://elynevada.net/wp-content/uploads/2022/03/svtst-long-range.jpg
ORGANIZER;CN="Steptoe Valley Trap%2C Skeet & Target Club":MAILTO:https://m.me/SVTST?fbclid=IwAR14ZsKDRy8acHhy_NvkKeQEybWoERP2h8Wpep1U5PUpQlmv1B4-FVvptSo
END:VEVENT
BEGIN:VEVENT
DTSTART;TZID=America/Los_Angeles:20240427T100000
DTEND;TZID=America/Los_Angeles:20240427T133000
DTSTAMP:20260425T034618
CREATED:20210310T061511Z
LAST-MODIFIED:20240321T184650Z
UID:10000384-1714212000-1714224600@elynevada.net
SUMMARY:Cornhole Championship Weekend
DESCRIPTION:Cornhole Championship Weekend\nEarn your claim to fame on April 27th in Ely\, Nevada! \nSaturday\, 1 PM at the Bristlecone Convention Center \n$50 Per Team\, $40 a team if you took part in the league. \n1st\, 2nd\, & 3rd Prizes \nMore Info: \nTony Enriquez\, tenriquez@dbgctm.org\, (775) 289-4841 Ext. 3110 \nJaime Wood\, High Fitness\, (775) 934-1658 \n– \nLeading up to this year’s Cornhole Championships\, we are also hosting an Indoor Cornhole League through the whole month of April! You do not have to participate in the league to play in the Championships. More deatils coming soon! \nFollow Updates About This Event On Our Facebook HERE!\nDiscover More To Do In White Pine County HERE!
URL:https://elynevada.net/event/eastern-nevada-cornhole-championships/
LOCATION:Bristlecone Convention Center\, 150 Sixth Street\, Ely\, NV\, 89301\, United States
CATEGORIES:Community,Sports
ATTACH;FMTTYPE=image/jpeg:https://elynevada.net/wp-content/uploads/2021/03/Boys-and-Girls-Club-Cornhole-Championship-Weekend.jpg
END:VEVENT
BEGIN:VEVENT
DTSTART;TZID=America/Los_Angeles:20240427T110000
DTEND;TZID=America/Los_Angeles:20240427T150000
DTSTAMP:20260425T034618
CREATED:20240419T173741Z
LAST-MODIFIED:20240419T173742Z
UID:10002663-1714215600-1714230000@elynevada.net
SUMMARY:Downtown Aultman Street Past\, Present\, Future
DESCRIPTION:Downtown Aultman Street Past\, Present\, Future\nPlease join Mary Harrison\, Tom Bath\, and Anthony Ithurralde for their photo archive and art show “Downtown Aultman Street Past\, Present\, Future” \nFriday April 26th: 6:00 p.m. – 9:00 p.m. \nSaturday April 27th: 11:00 a.m. – 3:00 p.m. \nAt the Ely Art Bank
URL:https://elynevada.net/event/downtown-aultman-street-past-present-future/2024-04-27/
LOCATION:Ely Art Bank\, 399 E Aultman St\, Ely\, NV\, 89301\, United States
CATEGORIES:Arts & Culture,Community
ATTACH;FMTTYPE=image/jpeg:https://elynevada.net/wp-content/uploads/2024/04/PXL_20240419_171245224.jpg
END:VEVENT
BEGIN:VEVENT
DTSTART;TZID=America/Los_Angeles:20240427T190000
DTEND;TZID=America/Los_Angeles:20240427T210000
DTSTAMP:20260425T034618
CREATED:20240402T194000Z
LAST-MODIFIED:20240402T194001Z
UID:10002531-1714244400-1714251600@elynevada.net
SUMMARY:Schellraiser Pre-Party with Spike McGuire in Baker
DESCRIPTION:Schellraiser Pre-Party with Spike McGuire in Baker\nCome get hyped up for Schellraiser Music Festival at our Preparty event in Baker\, Nevada Saturday\, April 27th! \nMusic at 7pm – All Ages Welcome – Free Event!\n@ Bristlecone General Store – 115 S. Baker Ave\, Baker\, NV \nFeaturing live music by Spike McGuire; coming all the way from western Nevada to entertain us with his folk music magic!\nFood and drinks available at The Bristlecone General Store. \nMake it a full weekend of fun and explore what Great Basin National Park (only a 5 minute drive from Baker) has to offer! Stay at one of the inn’s or camp out at one of the many camp grounds! \nFor camping and lodging information please go\nhttps://www.greatbasinpark.com/where-to-stay \nAbout Spike\nSpike McGuire is an internationally touring musician that has performed in 16 states and 5 countries as well as a GraphTech Guitar Labs endorsed. He is known for his work as founder of Loud As Folk. On the rich spectrum of folk music McGuire resides decidedly closer to Pete Seger than Peter\, Paul\, and Mary and has spent the last decade and a half drawing parallels between the ethos of punk rock and the spirit of folk music by building community and engaging listeners with his message. The lessons McGuire learned on the road now serve him well in his position of Executive Director at Brewery Arts Center in Carson City\, NV.
URL:https://elynevada.net/event/schellraiser-pre-party-with-spike-mcguire-in-baker/
LOCATION:Bristlecone General Store\, 115 S. Baker Ave.\, Baker\, NV\, 89311\, United States
CATEGORIES:Arts & Culture,Concert
ATTACH;FMTTYPE=image/png:https://elynevada.net/wp-content/uploads/2024/04/Pre-Party-Spike_IGflyer.png
ORGANIZER;CN="Middle of Everywhere":MAILTO:https://m.me/104506860953168?fbclid=IwAR2-YiQ62aa-wzko87QDaqqW1yfecknDwMUelIbYrBvWzrSSPHMpKrExlrE
END:VEVENT
BEGIN:VEVENT
DTSTART;TZID=America/Los_Angeles:20240428T070000
DTEND;TZID=America/Los_Angeles:20240428T130000
DTSTAMP:20260425T034618
CREATED:20240321T181230Z
LAST-MODIFIED:20240321T181231Z
UID:10000683-1714287600-1714309200@elynevada.net
SUMMARY:SVTST Critter Shoots
DESCRIPTION:Open Critter Shoots Every Last Sunday\nSteptoe Valley Trap\, Skeet and Target will be holding Long Rance and Critter Shoots the last Saturday and Sunday of each month. \nLong Range Rifle Shoot – Saturdays \nCritter Shoots – Sundays \nSign in and set up will begin 7:00am \nSafety Briefing at 7:50am \nShooting Begins at 8:00am \nFees: Members $10\, Non-Members $15 \n(Membership forms will be available at the shoots) \nIf you have any questions\, please contact: \nBryant Barnson (775) 293-3054 \nBill Ricci (775) 296-0919 \nCody Bliss (775) 296-0077
URL:https://elynevada.net/event/svtst-trap-shoots-2/2024-04-28/
LOCATION:SVTST Range\, Cross Timbers\, Ely\, NV\, 89301\, United States
CATEGORIES:Community,Sports
ATTACH;FMTTYPE=image/jpeg:https://elynevada.net/wp-content/uploads/2022/03/svtst.jpg
ORGANIZER;CN="Steptoe Valley Trap%2C Skeet & Target Club":MAILTO:https://m.me/SVTST?fbclid=IwAR14ZsKDRy8acHhy_NvkKeQEybWoERP2h8Wpep1U5PUpQlmv1B4-FVvptSo
END:VEVENT
BEGIN:VEVENT
DTSTART;TZID=America/Los_Angeles:20240428T113000
DTEND;TZID=America/Los_Angeles:20240428T130000
DTSTAMP:20260425T034618
CREATED:20240201T064344Z
LAST-MODIFIED:20240820T204722Z
UID:10002950-1714303800-1714309200@elynevada.net
SUMMARY:NNRY Sunday Mornin' Excursion Train
DESCRIPTION:NNRY Excursion Train\nThe NNRY’s Regular Excursion Train through Robinson Canyon or Valley Vista. \nBook Your Ticket\, Discover Which Train is Running\, and More at www.NNRY.com!
URL:https://elynevada.net/event/nnry-sunday-mornin-excursion-train/2024-04-28/
LOCATION:Nevada Northern Railway\, 1100 Avenue A\, Ely\, NV\, 89301\, United States
CATEGORIES:History
ATTACH;FMTTYPE=image/jpeg:https://elynevada.net/wp-content/uploads/2020/11/Test-7.jpg
END:VEVENT
BEGIN:VEVENT
DTSTART;TZID=America/Los_Angeles:20240428T210000
DTEND;TZID=America/Los_Angeles:20240428T230000
DTSTAMP:20260425T034618
CREATED:20240305T031236Z
LAST-MODIFIED:20240321T181252Z
UID:10001860-1714338000-1714345200@elynevada.net
SUMMARY:GET KNIT
DESCRIPTION:GET KNIT in Baker\nWork on a project. Learn how to knit. Exchange ideas & yarn. Chat. Drink Tea.
URL:https://elynevada.net/event/get-knit-2/2024-04-28/
LOCATION:Bristlecone General Store\, 115 S. Baker Ave.\, Baker\, NV\, 89311\, United States
CATEGORIES:Arts & Culture,Community
ATTACH;FMTTYPE=image/jpeg:https://elynevada.net/wp-content/uploads/2024/03/Get-Knit-2024.jpg
ORGANIZER;CN="Bristlecone General Store":MAILTO:stay@stargazernevada.com
END:VEVENT
BEGIN:VEVENT
DTSTART;TZID=America/Los_Angeles:20240429T153000
DTEND;TZID=America/Los_Angeles:20240429T170000
DTSTAMP:20260425T034618
CREATED:20240321T181441Z
LAST-MODIFIED:20240321T181442Z
UID:10001972-1714404600-1714410000@elynevada.net
SUMMARY:11&Up Club
DESCRIPTION:11&Up Club\n3:45 – 5 PM
URL:https://elynevada.net/event/11up-club-2/2024-04-29/
LOCATION:White Pine County Library\, 950 Campton St\, Ely\, NV\, 89301\, United States
CATEGORIES:Community
ATTACH;FMTTYPE=image/jpeg:https://elynevada.net/wp-content/uploads/2024/02/liiiiiiiiiiiiiiiiibbbbbbbbbbbbbbbrrrrrrraaaaaaarrrrrrrrryyyyyyyyyyy.jpg
END:VEVENT
BEGIN:VEVENT
DTSTART;TZID=America/Los_Angeles:20240429T153000
DTEND;TZID=America/Los_Angeles:20240429T180000
DTSTAMP:20260425T034618
CREATED:20240321T181428Z
LAST-MODIFIED:20240321T181428Z
UID:10001923-1714404600-1714413600@elynevada.net
SUMMARY:Roaring Readers
DESCRIPTION:Roaring Readers\nAges 5-7: 3:35-4:45 PM
URL:https://elynevada.net/event/roaring-readers-2/2024-04-29/
LOCATION:White Pine County Library\, 950 Campton St\, Ely\, NV\, 89301\, United States
CATEGORIES:Community
ATTACH;FMTTYPE=image/jpeg:https://elynevada.net/wp-content/uploads/2024/02/liiiiiiiiiiiiiiiiibbbbbbbbbbbbbbbrrrrrrraaaaaaarrrrrrrrryyyyyyyyyyy.jpg
END:VEVENT
BEGIN:VEVENT
DTSTART;TZID=America/Los_Angeles:20240429T154500
DTEND;TZID=America/Los_Angeles:20240429T164500
DTSTAMP:20260425T034618
CREATED:20240321T181611Z
LAST-MODIFIED:20240321T181612Z
UID:10002080-1714405500-1714409100@elynevada.net
SUMMARY:Atlas Club
DESCRIPTION:Atlas Club\nAges 8-10
URL:https://elynevada.net/event/atlas-club-2/2024-04-29/
LOCATION:White Pine County Library\, 950 Campton St\, Ely\, NV\, 89301\, United States
CATEGORIES:Community
ATTACH;FMTTYPE=image/jpeg:https://elynevada.net/wp-content/uploads/2024/02/liiiiiiiiiiiiiiiiibbbbbbbbbbbbbbbrrrrrrraaaaaaarrrrrrrrryyyyyyyyyyy.jpg
END:VEVENT
BEGIN:VEVENT
DTSTART;TZID=America/Los_Angeles:20240502T154500
DTEND;TZID=America/Los_Angeles:20240502T164500
DTSTAMP:20260425T034618
CREATED:20240321T181611Z
LAST-MODIFIED:20240321T181612Z
UID:10002081-1714664700-1714668300@elynevada.net
SUMMARY:Atlas Club
DESCRIPTION:Atlas Club\nAges 8-10
URL:https://elynevada.net/event/atlas-club-2/2024-05-02/
LOCATION:White Pine County Library\, 950 Campton St\, Ely\, NV\, 89301\, United States
CATEGORIES:Community
ATTACH;FMTTYPE=image/jpeg:https://elynevada.net/wp-content/uploads/2024/02/liiiiiiiiiiiiiiiiibbbbbbbbbbbbbbbrrrrrrraaaaaaarrrrrrrrryyyyyyyyyyy.jpg
END:VEVENT
BEGIN:VEVENT
DTSTART;TZID=America/Los_Angeles:20240502T180000
DTEND;TZID=America/Los_Angeles:20240502T203000
DTSTAMP:20260425T034618
CREATED:20240405T001511Z
LAST-MODIFIED:20240405T001511Z
UID:10002607-1714672800-1714681800@elynevada.net
SUMMARY:Ely Elks Lodge Bingo
DESCRIPTION:Ely Elks Lodge Bingo\nBingo every first Thursday at the Ely Elks Lodge. Hot dogs and Chili are sold. Great time\, great people\, and BINGO!!!
URL:https://elynevada.net/event/ely-elks-lodge-bingo-2/2024-05-02/
LOCATION:Ely Elks Lodge\, 694 Campton St.\, Ely\, NV\, 89301\, United States
CATEGORIES:Community,Sports
ATTACH;FMTTYPE=image/png:https://elynevada.net/wp-content/uploads/2023/01/Ely-Elks-Lodge-Bingo.png
ORGANIZER;CN="Ely Elks Lodge":MAILTO:elyelks1469@att.net
END:VEVENT
BEGIN:VEVENT
DTSTART;TZID=America/Los_Angeles:20240504T120100
DTEND;TZID=America/Los_Angeles:20240504T120100
DTSTAMP:20260425T034618
CREATED:20220125T092523Z
LAST-MODIFIED:20240321T225031Z
UID:10000149-1714824060-1714824060@elynevada.net
SUMMARY:Eta Aquarids Meteor Shower
DESCRIPTION:Eta Aquarids Meteor Shower
URL:https://elynevada.net/event/eta-aquarids-meteor-shower/
LOCATION:NV
CATEGORIES:Arts & Culture
ATTACH;FMTTYPE=image/png:https://elynevada.net/wp-content/uploads/2022/01/Meteor-Shower-Bitches.png
END:VEVENT
BEGIN:VEVENT
DTSTART;TZID=America/Los_Angeles:20240505T113000
DTEND;TZID=America/Los_Angeles:20240505T130000
DTSTAMP:20260425T034618
CREATED:20240201T064344Z
LAST-MODIFIED:20240820T204722Z
UID:10002951-1714908600-1714914000@elynevada.net
SUMMARY:NNRY Sunday Mornin' Excursion Train
DESCRIPTION:NNRY Excursion Train\nThe NNRY’s Regular Excursion Train through Robinson Canyon or Valley Vista. \nBook Your Ticket\, Discover Which Train is Running\, and More at www.NNRY.com!
URL:https://elynevada.net/event/nnry-sunday-mornin-excursion-train/2024-05-05/
LOCATION:Nevada Northern Railway\, 1100 Avenue A\, Ely\, NV\, 89301\, United States
CATEGORIES:History
ATTACH;FMTTYPE=image/jpeg:https://elynevada.net/wp-content/uploads/2020/11/Test-7.jpg
END:VEVENT
BEGIN:VEVENT
DTSTART;TZID=America/Los_Angeles:20240506T153000
DTEND;TZID=America/Los_Angeles:20240506T170000
DTSTAMP:20260425T034618
CREATED:20240321T181441Z
LAST-MODIFIED:20240321T181442Z
UID:10001973-1715009400-1715014800@elynevada.net
SUMMARY:11&Up Club
DESCRIPTION:11&Up Club\n3:45 – 5 PM
URL:https://elynevada.net/event/11up-club-2/2024-05-06/
LOCATION:White Pine County Library\, 950 Campton St\, Ely\, NV\, 89301\, United States
CATEGORIES:Community
ATTACH;FMTTYPE=image/jpeg:https://elynevada.net/wp-content/uploads/2024/02/liiiiiiiiiiiiiiiiibbbbbbbbbbbbbbbrrrrrrraaaaaaarrrrrrrrryyyyyyyyyyy.jpg
END:VEVENT
BEGIN:VEVENT
DTSTART;TZID=America/Los_Angeles:20240506T153000
DTEND;TZID=America/Los_Angeles:20240506T180000
DTSTAMP:20260425T034618
CREATED:20240321T181428Z
LAST-MODIFIED:20240321T181428Z
UID:10001924-1715009400-1715018400@elynevada.net
SUMMARY:Roaring Readers
DESCRIPTION:Roaring Readers\nAges 5-7: 3:35-4:45 PM
URL:https://elynevada.net/event/roaring-readers-2/2024-05-06/
LOCATION:White Pine County Library\, 950 Campton St\, Ely\, NV\, 89301\, United States
CATEGORIES:Community
ATTACH;FMTTYPE=image/jpeg:https://elynevada.net/wp-content/uploads/2024/02/liiiiiiiiiiiiiiiiibbbbbbbbbbbbbbbrrrrrrraaaaaaarrrrrrrrryyyyyyyyyyy.jpg
END:VEVENT
BEGIN:VEVENT
DTSTART;TZID=America/Los_Angeles:20240506T154500
DTEND;TZID=America/Los_Angeles:20240506T164500
DTSTAMP:20260425T034619
CREATED:20240321T181611Z
LAST-MODIFIED:20240321T181612Z
UID:10002082-1715010300-1715013900@elynevada.net
SUMMARY:Atlas Club
DESCRIPTION:Atlas Club\nAges 8-10
URL:https://elynevada.net/event/atlas-club-2/2024-05-06/
LOCATION:White Pine County Library\, 950 Campton St\, Ely\, NV\, 89301\, United States
CATEGORIES:Community
ATTACH;FMTTYPE=image/jpeg:https://elynevada.net/wp-content/uploads/2024/02/liiiiiiiiiiiiiiiiibbbbbbbbbbbbbbbrrrrrrraaaaaaarrrrrrrrryyyyyyyyyyy.jpg
END:VEVENT
BEGIN:VEVENT
DTSTART;TZID=America/Los_Angeles:20240509T154500
DTEND;TZID=America/Los_Angeles:20240509T164500
DTSTAMP:20260425T034619
CREATED:20240321T181611Z
LAST-MODIFIED:20240321T181612Z
UID:10002083-1715269500-1715273100@elynevada.net
SUMMARY:Atlas Club
DESCRIPTION:Atlas Club\nAges 8-10
URL:https://elynevada.net/event/atlas-club-2/2024-05-09/
LOCATION:White Pine County Library\, 950 Campton St\, Ely\, NV\, 89301\, United States
CATEGORIES:Community
ATTACH;FMTTYPE=image/jpeg:https://elynevada.net/wp-content/uploads/2024/02/liiiiiiiiiiiiiiiiibbbbbbbbbbbbbbbrrrrrrraaaaaaarrrrrrrrryyyyyyyyyyy.jpg
END:VEVENT
BEGIN:VEVENT
DTSTART;TZID=America/Los_Angeles:20240512T113000
DTEND;TZID=America/Los_Angeles:20240512T130000
DTSTAMP:20260425T034619
CREATED:20240201T064344Z
LAST-MODIFIED:20240820T204722Z
UID:10002952-1715513400-1715518800@elynevada.net
SUMMARY:NNRY Sunday Mornin' Excursion Train
DESCRIPTION:NNRY Excursion Train\nThe NNRY’s Regular Excursion Train through Robinson Canyon or Valley Vista. \nBook Your Ticket\, Discover Which Train is Running\, and More at www.NNRY.com!
URL:https://elynevada.net/event/nnry-sunday-mornin-excursion-train/2024-05-12/
LOCATION:Nevada Northern Railway\, 1100 Avenue A\, Ely\, NV\, 89301\, United States
CATEGORIES:History
ATTACH;FMTTYPE=image/jpeg:https://elynevada.net/wp-content/uploads/2020/11/Test-7.jpg
END:VEVENT
BEGIN:VEVENT
DTSTART;TZID=America/Los_Angeles:20240513T153000
DTEND;TZID=America/Los_Angeles:20240513T170000
DTSTAMP:20260425T034619
CREATED:20240321T181441Z
LAST-MODIFIED:20240321T181442Z
UID:10001974-1715614200-1715619600@elynevada.net
SUMMARY:11&Up Club
DESCRIPTION:11&Up Club\n3:45 – 5 PM
URL:https://elynevada.net/event/11up-club-2/2024-05-13/
LOCATION:White Pine County Library\, 950 Campton St\, Ely\, NV\, 89301\, United States
CATEGORIES:Community
ATTACH;FMTTYPE=image/jpeg:https://elynevada.net/wp-content/uploads/2024/02/liiiiiiiiiiiiiiiiibbbbbbbbbbbbbbbrrrrrrraaaaaaarrrrrrrrryyyyyyyyyyy.jpg
END:VEVENT
BEGIN:VEVENT
DTSTART;TZID=America/Los_Angeles:20240513T153000
DTEND;TZID=America/Los_Angeles:20240513T180000
DTSTAMP:20260425T034619
CREATED:20240321T181428Z
LAST-MODIFIED:20240321T181428Z
UID:10001925-1715614200-1715623200@elynevada.net
SUMMARY:Roaring Readers
DESCRIPTION:Roaring Readers\nAges 5-7: 3:35-4:45 PM
URL:https://elynevada.net/event/roaring-readers-2/2024-05-13/
LOCATION:White Pine County Library\, 950 Campton St\, Ely\, NV\, 89301\, United States
CATEGORIES:Community
ATTACH;FMTTYPE=image/jpeg:https://elynevada.net/wp-content/uploads/2024/02/liiiiiiiiiiiiiiiiibbbbbbbbbbbbbbbrrrrrrraaaaaaarrrrrrrrryyyyyyyyyyy.jpg
END:VEVENT
BEGIN:VEVENT
DTSTART;TZID=America/Los_Angeles:20240513T154500
DTEND;TZID=America/Los_Angeles:20240513T164500
DTSTAMP:20260425T034619
CREATED:20240321T181611Z
LAST-MODIFIED:20240321T181612Z
UID:10002084-1715615100-1715618700@elynevada.net
SUMMARY:Atlas Club
DESCRIPTION:Atlas Club\nAges 8-10
URL:https://elynevada.net/event/atlas-club-2/2024-05-13/
LOCATION:White Pine County Library\, 950 Campton St\, Ely\, NV\, 89301\, United States
CATEGORIES:Community
ATTACH;FMTTYPE=image/jpeg:https://elynevada.net/wp-content/uploads/2024/02/liiiiiiiiiiiiiiiiibbbbbbbbbbbbbbbrrrrrrraaaaaaarrrrrrrrryyyyyyyyyyy.jpg
END:VEVENT
END:VCALENDAR