BEGIN:VCALENDAR
VERSION:2.0
PRODID:-//Welcome To Ely - ECPv6.15.20//NONSGML v1.0//EN
CALSCALE:GREGORIAN
METHOD:PUBLISH
X-ORIGINAL-URL:https://elynevada.net
X-WR-CALDESC:Events for Welcome To Ely
REFRESH-INTERVAL;VALUE=DURATION:PT1H
X-Robots-Tag:noindex
X-PUBLISHED-TTL:PT1H
BEGIN:VTIMEZONE
TZID:UTC
BEGIN:STANDARD
TZOFFSETFROM:+0000
TZOFFSETTO:+0000
TZNAME:UTC
DTSTART:20230101T000000
END:STANDARD
END:VTIMEZONE
BEGIN:VTIMEZONE
TZID:America/Los_Angeles
BEGIN:DAYLIGHT
TZOFFSETFROM:-0800
TZOFFSETTO:-0700
TZNAME:PDT
DTSTART:20230312T100000
END:DAYLIGHT
BEGIN:STANDARD
TZOFFSETFROM:-0700
TZOFFSETTO:-0800
TZNAME:PST
DTSTART:20231105T090000
END:STANDARD
BEGIN:DAYLIGHT
TZOFFSETFROM:-0800
TZOFFSETTO:-0700
TZNAME:PDT
DTSTART:20240310T100000
END:DAYLIGHT
BEGIN:STANDARD
TZOFFSETFROM:-0700
TZOFFSETTO:-0800
TZNAME:PST
DTSTART:20241103T090000
END:STANDARD
BEGIN:DAYLIGHT
TZOFFSETFROM:-0800
TZOFFSETTO:-0700
TZNAME:PDT
DTSTART:20250309T100000
END:DAYLIGHT
BEGIN:STANDARD
TZOFFSETFROM:-0700
TZOFFSETTO:-0800
TZNAME:PST
DTSTART:20251102T090000
END:STANDARD
END:VTIMEZONE
BEGIN:VEVENT
DTSTART;TZID=UTC:20240315T130000
DTEND;TZID=UTC:20240315T150000
DTSTAMP:20260425T035104
CREATED:20240201T063211Z
LAST-MODIFIED:20240201T071148Z
UID:10001850-1710507600-1710514800@elynevada.net
SUMMARY:NNRY Excursion Train
DESCRIPTION:NNRY Excursion Train\nThe NNRY’s Regular Excursion Train through Robinson Canyon or Valley Vista. \nBook Your Ticket\, Discover Which Train is Running\, and More at www.NNRY.com!
URL:https://elynevada.net/event/nnry-excursion-train/2024-03-15/
LOCATION:Nevada Northern Railway\, 1100 Avenue A\, Ely\, NV\, 89301\, United States
CATEGORIES:History
ATTACH;FMTTYPE=image/jpeg:https://elynevada.net/wp-content/uploads/2020/11/Test-7.jpg
END:VEVENT
BEGIN:VEVENT
DTSTART;TZID=UTC:20240316T090000
DTEND;TZID=UTC:20240316T140000
DTSTAMP:20260425T035104
CREATED:20240229T060758Z
LAST-MODIFIED:20240229T060759Z
UID:10001442-1710579600-1710597600@elynevada.net
SUMMARY:Book Sale at the Library
DESCRIPTION:Book Sale at the Library
URL:https://elynevada.net/event/book-sale-at-the-library/2024-03-16/
LOCATION:White Pine County Library\, 950 Campton St\, Ely\, NV\, 89301\, United States
CATEGORIES:Community
ATTACH;FMTTYPE=image/jpeg:https://elynevada.net/wp-content/uploads/2024/02/scan0246-scaled.jpg
END:VEVENT
BEGIN:VEVENT
DTSTART;TZID=UTC:20240316T100000
DTEND;TZID=UTC:20240316T120000
DTSTAMP:20260425T035104
CREATED:20200212T052545Z
LAST-MODIFIED:20240119T053112Z
UID:10000235-1710583200-1710590400@elynevada.net
SUMMARY:Turkey Vulture Stretch 5K
DESCRIPTION:Join us for the annual end-of-winter\, welcome-spring\, get-off-the-couch\, Turkey Vulture Stretch 5K! Event is held at Veterans Park Near the duck pond and takes a lap around town. \nOn March 16th\, welcome spring and the turkey vultures return to Ely\, with a 5K run/walk! The event is held at Veterans Park near the duck pond and takes a lap around town.\n\nMedals will be awarded to the top 3 female\, top 3 male\, top 3 kids (10 yrs and younger)\, and top 3 seniors (55+).\n\nTo be eligible for awards you must be chipped timed.\n\nEmail us to get details on group discounts: elyoutdoorenthusiasts@gmail.com\n\nFor event details visit their website at:\nwww.elyoutdoorenthusiasts.org\nAfter the Turkey Vulture Stretch 5K\, look forward to enjoying some of the best dining Ely has to offer!
URL:https://elynevada.net/event/turkey-vulture-stretch-5k-3/
LOCATION:Ely\, NV\, 89301\, United States
CATEGORIES:Community,Races,Sports
ATTACH;FMTTYPE=image/jpeg:https://elynevada.net/wp-content/uploads/2021/02/Turkey-Vultrue-Stretch-5K-2023.jpg
END:VEVENT
BEGIN:VEVENT
DTSTART;TZID=UTC:20240316T100000
DTEND;TZID=UTC:20240316T140000
DTSTAMP:20260425T035104
CREATED:20240229T061911Z
LAST-MODIFIED:20240229T061912Z
UID:10001444-1710583200-1710597600@elynevada.net
SUMMARY:Library Open
DESCRIPTION:Library Open
URL:https://elynevada.net/event/library-open/2024-03-16/
LOCATION:White Pine County Library\, 950 Campton St\, Ely\, NV\, 89301\, United States
CATEGORIES:Community
ATTACH;FMTTYPE=image/jpeg:https://elynevada.net/wp-content/uploads/2024/02/liiiiiiiiiiiiiiiiibbbbbbbbbbbbbbbrrrrrrraaaaaaarrrrrrrrryyyyyyyyyyy.jpg
END:VEVENT
BEGIN:VEVENT
DTSTART;TZID=UTC:20240316T110000
DTEND;TZID=UTC:20240316T130000
DTSTAMP:20260425T035104
CREATED:20240229T055605Z
LAST-MODIFIED:20240229T055606Z
UID:10001440-1710586800-1710594000@elynevada.net
SUMMARY:Easter Bunny at the Library
DESCRIPTION:
URL:https://elynevada.net/event/easter-bunny-at-the-library/
LOCATION:White Pine County Library\, 950 Campton St\, Ely\, NV\, 89301\, United States
ATTACH;FMTTYPE=image/jpeg:https://elynevada.net/wp-content/uploads/2024/02/come-visit-the.jpg
END:VEVENT
BEGIN:VEVENT
DTSTART;TZID=UTC:20240316T130000
DTEND;TZID=UTC:20240316T150000
DTSTAMP:20260425T035104
CREATED:20240201T063211Z
LAST-MODIFIED:20240201T071148Z
UID:10000737-1710594000-1710601200@elynevada.net
SUMMARY:NNRY Excursion Train
DESCRIPTION:NNRY Excursion Train\nThe NNRY’s Regular Excursion Train through Robinson Canyon or Valley Vista. \nBook Your Ticket\, Discover Which Train is Running\, and More at www.NNRY.com!
URL:https://elynevada.net/event/nnry-excursion-train/2024-03-16/
LOCATION:Nevada Northern Railway\, 1100 Avenue A\, Ely\, NV\, 89301\, United States
CATEGORIES:History
ATTACH;FMTTYPE=image/jpeg:https://elynevada.net/wp-content/uploads/2020/11/Test-7.jpg
END:VEVENT
BEGIN:VEVENT
DTSTART;TZID=America/Los_Angeles:20240317T210000
DTEND;TZID=America/Los_Angeles:20240317T230000
DTSTAMP:20260425T035104
CREATED:20240305T030418Z
LAST-MODIFIED:20240321T184410Z
UID:10002295-1710709200-1710716400@elynevada.net
SUMMARY:Get LIT
DESCRIPTION:GET LIT in Baker\nBristlecone General Store Book Club
URL:https://elynevada.net/event/get-lit-2/2024-03-17/
LOCATION:Bristlecone General Store\, 115 S. Baker Ave.\, Baker\, NV\, 89311\, United States
CATEGORIES:Arts & Culture,Community
ATTACH;FMTTYPE=image/jpeg:https://elynevada.net/wp-content/uploads/2024/03/GET-LIT-2024.jpg
ORGANIZER;CN="Bristlecone General Store":MAILTO:stay@stargazernevada.com
END:VEVENT
BEGIN:VEVENT
DTSTART;TZID=UTC:20240318T100000
DTEND;TZID=UTC:20240318T110000
DTSTAMP:20260425T035104
CREATED:20240229T070533Z
LAST-MODIFIED:20240229T070533Z
UID:10001699-1710756000-1710759600@elynevada.net
SUMMARY:Baby Bounce
DESCRIPTION:Baby Bounce\nAges 0-2: 10 – 11 AM
URL:https://elynevada.net/event/baby-bounce/2024-03-18/
LOCATION:White Pine County Library\, 950 Campton St\, Ely\, NV\, 89301\, United States
CATEGORIES:Community
ATTACH;FMTTYPE=image/jpeg:https://elynevada.net/wp-content/uploads/2024/02/liiiiiiiiiiiiiiiiibbbbbbbbbbbbbbbrrrrrrraaaaaaarrrrrrrrryyyyyyyyyyy.jpg
END:VEVENT
BEGIN:VEVENT
DTSTART;TZID=UTC:20240318T153000
DTEND;TZID=UTC:20240318T170000
DTSTAMP:20260425T035104
CREATED:20240229T070923Z
LAST-MODIFIED:20240229T070923Z
UID:10001752-1710775800-1710781200@elynevada.net
SUMMARY:11&Up Club
DESCRIPTION:11&Up Club\n3:45 – 5 PM
URL:https://elynevada.net/event/11up-club/2024-03-18/
LOCATION:White Pine County Library\, 950 Campton St\, Ely\, NV\, 89301\, United States
CATEGORIES:Community
ATTACH;FMTTYPE=image/jpeg:https://elynevada.net/wp-content/uploads/2024/02/liiiiiiiiiiiiiiiiibbbbbbbbbbbbbbbrrrrrrraaaaaaarrrrrrrrryyyyyyyyyyy.jpg
END:VEVENT
BEGIN:VEVENT
DTSTART;TZID=UTC:20240318T153000
DTEND;TZID=UTC:20240318T180000
DTSTAMP:20260425T035104
CREATED:20240229T065736Z
LAST-MODIFIED:20240229T065736Z
UID:10001590-1710775800-1710784800@elynevada.net
SUMMARY:Roaring Readers
DESCRIPTION:Roaring Readers\nAges 5-7: 3:35-4:45 PM
URL:https://elynevada.net/event/roaring-readers/2024-03-18/
LOCATION:White Pine County Library\, 950 Campton St\, Ely\, NV\, 89301\, United States
CATEGORIES:Community
ATTACH;FMTTYPE=image/jpeg:https://elynevada.net/wp-content/uploads/2024/02/liiiiiiiiiiiiiiiiibbbbbbbbbbbbbbbrrrrrrraaaaaaarrrrrrrrryyyyyyyyyyy.jpg
END:VEVENT
BEGIN:VEVENT
DTSTART;TZID=America/Los_Angeles:20240318T234500
DTEND;TZID=America/Los_Angeles:20240319T004500
DTSTAMP:20260425T035104
CREATED:20240229T062315Z
LAST-MODIFIED:20240321T181939Z
UID:10002185-1710805500-1710809100@elynevada.net
SUMMARY:Atlas Club
DESCRIPTION:Atlas Club\nAges 8-10
URL:https://elynevada.net/event/atlas-club/2024-03-18/
LOCATION:White Pine County Library\, 950 Campton St\, Ely\, NV\, 89301\, United States
CATEGORIES:Community
ATTACH;FMTTYPE=image/jpeg:https://elynevada.net/wp-content/uploads/2024/02/liiiiiiiiiiiiiiiiibbbbbbbbbbbbbbbrrrrrrraaaaaaarrrrrrrrryyyyyyyyyyy.jpg
END:VEVENT
BEGIN:VEVENT
DTSTART;TZID=America/Los_Angeles:20240319T020000
DTEND;TZID=America/Los_Angeles:20240319T040000
DTSTAMP:20260425T035104
CREATED:20240124T064654Z
LAST-MODIFIED:20240321T182247Z
UID:10002178-1710813600-1710820800@elynevada.net
SUMMARY:Indoor Cornhole League
DESCRIPTION:Boys and Girls Club Indoor Cornhole League\nBoys and Girls Club is hosting an Indoor Cornhole League! Every Tuesday night until April 16th. \n6:00 p.m. \nHosted inside the Bristlecone Convention Center. \nBar Game Nights: Beer\, seltzers & wine. Cash only. \n1st\, 2nd\, & 3rd Prizes \nMore Info: \nTony Enriquez\, tenriquez@dbgctm.org\, (775) 289-4841 Ext. 3110 \nJaime Wood\, High Fitness\, (775) 934-1658 \n  \nStay Up to Date on This Event by Following Us on Facebook!\nInfo on the Eastern Nevada Cornhole Championships HERE!
URL:https://elynevada.net/event/indoor-cornhole-league/2024-03-19/
LOCATION:Bristlecone Convention Center\, 150 Sixth Street\, Ely\, NV\, 89301\, United States
CATEGORIES:Community,Sports
ATTACH;FMTTYPE=image/jpeg:https://elynevada.net/wp-content/uploads/2024/01/Boys-and-Girl-Club-Indoor-Cornhole-League.jpg
ORGANIZER;CN="White PIne County Tourism and Recreation":MAILTO:nicole.collard@elynevada.net
END:VEVENT
BEGIN:VEVENT
DTSTART;TZID=UTC:20240319T100000
DTEND;TZID=UTC:20240319T110000
DTSTAMP:20260425T035104
CREATED:20240229T065455Z
LAST-MODIFIED:20240229T065456Z
UID:10001586-1710842400-1710846000@elynevada.net
SUMMARY:Leaping Learners
DESCRIPTION:Leaping Learners\nAges 3-4: 10 – 11 AM
URL:https://elynevada.net/event/leaping-learners/2024-03-19/
LOCATION:White Pine County Library\, 950 Campton St\, Ely\, NV\, 89301\, United States
CATEGORIES:Community
ATTACH;FMTTYPE=image/jpeg:https://elynevada.net/wp-content/uploads/2024/02/liiiiiiiiiiiiiiiiibbbbbbbbbbbbbbbrrrrrrraaaaaaarrrrrrrrryyyyyyyyyyy.jpg
END:VEVENT
BEGIN:VEVENT
DTSTART;TZID=America/Los_Angeles:20240320T233000
DTEND;TZID=America/Los_Angeles:20240321T020000
DTSTAMP:20260425T035104
CREATED:20240229T064737Z
LAST-MODIFIED:20240321T181918Z
UID:10002181-1710977400-1710986400@elynevada.net
SUMMARY:Tech Club
DESCRIPTION:Tech Club\nAges 7-10: 3:45 – 4:45 PM \nAges 11+: 4:45 – 5:45 PM \n 
URL:https://elynevada.net/event/tech-club/2024-03-20/
LOCATION:White Pine County Library\, 950 Campton St\, Ely\, NV\, 89301\, United States
CATEGORIES:Community
ATTACH;FMTTYPE=image/jpeg:https://elynevada.net/wp-content/uploads/2024/02/liiiiiiiiiiiiiiiiibbbbbbbbbbbbbbbrrrrrrraaaaaaarrrrrrrrryyyyyyyyyyy.jpg
END:VEVENT
BEGIN:VEVENT
DTSTART;TZID=America/Los_Angeles:20240321T234500
DTEND;TZID=America/Los_Angeles:20240322T004500
DTSTAMP:20260425T035104
CREATED:20240229T062315Z
LAST-MODIFIED:20240321T181939Z
UID:10002186-1711064700-1711068300@elynevada.net
SUMMARY:Atlas Club
DESCRIPTION:Atlas Club\nAges 8-10
URL:https://elynevada.net/event/atlas-club/2024-03-21/
LOCATION:White Pine County Library\, 950 Campton St\, Ely\, NV\, 89301\, United States
CATEGORIES:Community
ATTACH;FMTTYPE=image/jpeg:https://elynevada.net/wp-content/uploads/2024/02/liiiiiiiiiiiiiiiiibbbbbbbbbbbbbbbrrrrrrraaaaaaarrrrrrrrryyyyyyyyyyy.jpg
END:VEVENT
BEGIN:VEVENT
DTSTART;TZID=America/Los_Angeles:20240322T170000
DTEND;TZID=America/Los_Angeles:20240322T190000
DTSTAMP:20260425T035104
CREATED:20240305T031709Z
LAST-MODIFIED:20240321T181108Z
UID:10001816-1711126800-1711134000@elynevada.net
SUMMARY:World Water Day Happy Hour
DESCRIPTION:World Water Day Happy Hour\nFundraiser for the Great Basin Water Network
URL:https://elynevada.net/event/world-water-day-happy-hour/
LOCATION:Bristlecone General Store\, 115 S. Baker Ave.\, Baker\, NV\, 89311\, United States
CATEGORIES:Community
ATTACH;FMTTYPE=image/jpeg:https://elynevada.net/wp-content/uploads/2024/03/World-Water-Day-Happy-Hour-Baker.jpg
ORGANIZER;CN="Bristlecone General Store":MAILTO:stay@stargazernevada.com
END:VEVENT
BEGIN:VEVENT
DTSTART;TZID=America/Los_Angeles:20240322T190000
DTEND;TZID=America/Los_Angeles:20240322T210000
DTSTAMP:20260425T035104
CREATED:20240305T035854Z
LAST-MODIFIED:20240321T181124Z
UID:10001818-1711134000-1711141200@elynevada.net
SUMMARY:Annual Music Night
DESCRIPTION:Annual Music Night\nAnnual Music Night at the Kinnear Library/Cultural Center
URL:https://elynevada.net/event/annual-music-night/
LOCATION:Kinnear Library/Cultural Center\, 4 North Fourth Street\, Mcgill\, NV\, 89318\, United States
CATEGORIES:Arts & Culture
ATTACH;FMTTYPE=image/jpeg:https://elynevada.net/wp-content/uploads/2024/03/Rough-Kinear-Library-poster-2024.jpg
END:VEVENT
BEGIN:VEVENT
DTSTART;TZID=America/Los_Angeles:20240323T070000
DTEND;TZID=America/Los_Angeles:20240323T130000
DTSTAMP:20260425T035104
CREATED:20240321T181155Z
LAST-MODIFIED:20240321T181156Z
UID:10001851-1711177200-1711198800@elynevada.net
SUMMARY:SVTST Long Range Shoot
DESCRIPTION:Open Long Range Shoots Every Last Saturday\nSteptoe Valley Trap\, Skeet and Target will be holding Long Rance and Critter Shoots the last Saturday and Sunday of each month. \nLong Range Rifle Shoot – Saturdays \nCritter Shoots – Sundays \nSign in and set up will begin 7:00am \nSafety Briefing at 7:50am \nShooting Begins at 8:00am \nFees: Members $10\, Non-Members $15 \n(Membership forms will be available at the shoots) \nIf you have any questions\, please contact: \nBryant Barnson (775) 293-3054 \nBill Ricci (775) 296-0919 \nCody Bliss (775) 296-0077
URL:https://elynevada.net/event/svtst-long-range-shoot-2/2024-03-23/
LOCATION:SVTST Range\, Cross Timbers\, Ely\, NV\, 89301\, United States
CATEGORIES:Sports
ATTACH;FMTTYPE=image/jpeg:https://elynevada.net/wp-content/uploads/2022/03/svtst-long-range.jpg
ORGANIZER;CN="Steptoe Valley Trap%2C Skeet & Target Club":MAILTO:https://m.me/SVTST?fbclid=IwAR14ZsKDRy8acHhy_NvkKeQEybWoERP2h8Wpep1U5PUpQlmv1B4-FVvptSo
END:VEVENT
BEGIN:VEVENT
DTSTART;TZID=America/Los_Angeles:20240324T070000
DTEND;TZID=America/Los_Angeles:20240324T130000
DTSTAMP:20260425T035104
CREATED:20240321T181230Z
LAST-MODIFIED:20240321T181231Z
UID:10001853-1711263600-1711285200@elynevada.net
SUMMARY:SVTST Critter Shoots
DESCRIPTION:Open Critter Shoots Every Last Sunday\nSteptoe Valley Trap\, Skeet and Target will be holding Long Rance and Critter Shoots the last Saturday and Sunday of each month. \nLong Range Rifle Shoot – Saturdays \nCritter Shoots – Sundays \nSign in and set up will begin 7:00am \nSafety Briefing at 7:50am \nShooting Begins at 8:00am \nFees: Members $10\, Non-Members $15 \n(Membership forms will be available at the shoots) \nIf you have any questions\, please contact: \nBryant Barnson (775) 293-3054 \nBill Ricci (775) 296-0919 \nCody Bliss (775) 296-0077
URL:https://elynevada.net/event/svtst-trap-shoots-2/2024-03-24/
LOCATION:SVTST Range\, Cross Timbers\, Ely\, NV\, 89301\, United States
CATEGORIES:Community,Sports
ATTACH;FMTTYPE=image/jpeg:https://elynevada.net/wp-content/uploads/2022/03/svtst.jpg
ORGANIZER;CN="Steptoe Valley Trap%2C Skeet & Target Club":MAILTO:https://m.me/SVTST?fbclid=IwAR14ZsKDRy8acHhy_NvkKeQEybWoERP2h8Wpep1U5PUpQlmv1B4-FVvptSo
END:VEVENT
BEGIN:VEVENT
DTSTART;TZID=America/Los_Angeles:20240324T193000
DTEND;TZID=America/Los_Angeles:20240324T203000
DTSTAMP:20260425T035104
CREATED:20240321T181318Z
LAST-MODIFIED:20240321T181318Z
UID:10001868-1711308600-1711312200@elynevada.net
SUMMARY:GET MOONED in Baker!
DESCRIPTION:GET MOONED in BAKER\, NV!\nBaker is adding MORE to our “GET” series with Full Moon Hikes each month!! Meet at the Bristlecone General Store and we’ll venture on a 2-3 mile hike in the area with the light of the moon as our guide. \nHere’s what we have scheduled so far:\nThurs\, January 25: 6:30pm\nSat\, February 24: 7:00pm\nSun\, March 24: 7:30pm\nWed\, April 24: 8:30pm \n“Full moons offer us a chance to reflect\, refresh and renew our senses.”
URL:https://elynevada.net/event/get-mooned-in-baker-2/2024-03-24/
LOCATION:Bristlecone General Store\, 115 S. Baker Ave.\, Baker\, NV\, 89311\, United States
CATEGORIES:Arts & Culture,Community,Sports
ATTACH;FMTTYPE=image/jpeg:https://elynevada.net/wp-content/uploads/2024/01/Get-Mooned-in-Baker_2024.jpg
ORGANIZER;CN="Bristlecone General Store":MAILTO:stay@stargazernevada.com
END:VEVENT
BEGIN:VEVENT
DTSTART;TZID=America/Los_Angeles:20240324T210000
DTEND;TZID=America/Los_Angeles:20240324T230000
DTSTAMP:20260425T035104
CREATED:20240305T031236Z
LAST-MODIFIED:20240321T181252Z
UID:10001859-1711314000-1711321200@elynevada.net
SUMMARY:GET KNIT
DESCRIPTION:GET KNIT in Baker\nWork on a project. Learn how to knit. Exchange ideas & yarn. Chat. Drink Tea.
URL:https://elynevada.net/event/get-knit-2/2024-03-24/
LOCATION:Bristlecone General Store\, 115 S. Baker Ave.\, Baker\, NV\, 89311\, United States
CATEGORIES:Arts & Culture,Community
ATTACH;FMTTYPE=image/jpeg:https://elynevada.net/wp-content/uploads/2024/03/Get-Knit-2024.jpg
ORGANIZER;CN="Bristlecone General Store":MAILTO:stay@stargazernevada.com
END:VEVENT
BEGIN:VEVENT
DTSTART;TZID=America/Los_Angeles:20240325T153000
DTEND;TZID=America/Los_Angeles:20240325T170000
DTSTAMP:20260425T035104
CREATED:20240321T181441Z
LAST-MODIFIED:20240321T181442Z
UID:10001753-1711380600-1711386000@elynevada.net
SUMMARY:11&Up Club
DESCRIPTION:11&Up Club\n3:45 – 5 PM
URL:https://elynevada.net/event/11up-club-2/2024-03-25/
LOCATION:White Pine County Library\, 950 Campton St\, Ely\, NV\, 89301\, United States
CATEGORIES:Community
ATTACH;FMTTYPE=image/jpeg:https://elynevada.net/wp-content/uploads/2024/02/liiiiiiiiiiiiiiiiibbbbbbbbbbbbbbbrrrrrrraaaaaaarrrrrrrrryyyyyyyyyyy.jpg
END:VEVENT
BEGIN:VEVENT
DTSTART;TZID=America/Los_Angeles:20240325T153000
DTEND;TZID=America/Los_Angeles:20240325T180000
DTSTAMP:20260425T035104
CREATED:20240321T181428Z
LAST-MODIFIED:20240321T181428Z
UID:10001591-1711380600-1711389600@elynevada.net
SUMMARY:Roaring Readers
DESCRIPTION:Roaring Readers\nAges 5-7: 3:35-4:45 PM
URL:https://elynevada.net/event/roaring-readers-2/2024-03-25/
LOCATION:White Pine County Library\, 950 Campton St\, Ely\, NV\, 89301\, United States
CATEGORIES:Community
ATTACH;FMTTYPE=image/jpeg:https://elynevada.net/wp-content/uploads/2024/02/liiiiiiiiiiiiiiiiibbbbbbbbbbbbbbbrrrrrrraaaaaaarrrrrrrrryyyyyyyyyyy.jpg
END:VEVENT
BEGIN:VEVENT
DTSTART;TZID=America/Los_Angeles:20240325T234500
DTEND;TZID=America/Los_Angeles:20240326T004500
DTSTAMP:20260425T035105
CREATED:20240229T062315Z
LAST-MODIFIED:20240321T181939Z
UID:10002187-1711410300-1711413900@elynevada.net
SUMMARY:Atlas Club
DESCRIPTION:Atlas Club\nAges 8-10
URL:https://elynevada.net/event/atlas-club/2024-03-25/
LOCATION:White Pine County Library\, 950 Campton St\, Ely\, NV\, 89301\, United States
CATEGORIES:Community
ATTACH;FMTTYPE=image/jpeg:https://elynevada.net/wp-content/uploads/2024/02/liiiiiiiiiiiiiiiiibbbbbbbbbbbbbbbrrrrrrraaaaaaarrrrrrrrryyyyyyyyyyy.jpg
END:VEVENT
BEGIN:VEVENT
DTSTART;TZID=America/Los_Angeles:20240326T100000
DTEND;TZID=America/Los_Angeles:20240326T110000
DTSTAMP:20260425T035105
CREATED:20240321T181449Z
LAST-MODIFIED:20240321T181450Z
UID:10001587-1711447200-1711450800@elynevada.net
SUMMARY:Leaping Learners
DESCRIPTION:Leaping Learners\nAges 3-4: 10 – 11 AM
URL:https://elynevada.net/event/leaping-learners-2/
LOCATION:White Pine County Library\, 950 Campton St\, Ely\, NV\, 89301\, United States
CATEGORIES:Community
ATTACH;FMTTYPE=image/jpeg:https://elynevada.net/wp-content/uploads/2024/02/liiiiiiiiiiiiiiiiibbbbbbbbbbbbbbbrrrrrrraaaaaaarrrrrrrrryyyyyyyyyyy.jpg
END:VEVENT
BEGIN:VEVENT
DTSTART;TZID=America/Los_Angeles:20240326T180000
DTEND;TZID=America/Los_Angeles:20240326T200000
DTSTAMP:20260425T035105
CREATED:20240321T181459Z
LAST-MODIFIED:20240321T181500Z
UID:10000707-1711476000-1711483200@elynevada.net
SUMMARY:Indoor Cornhole League
DESCRIPTION:Boys and Girls Club Indoor Cornhole League\nBoys and Girls Club is hosting an Indoor Cornhole League! Every Tuesday night until April 16th. \n6:00 p.m. \nHosted inside the Bristlecone Convention Center. \nBar Game Nights: Beer\, seltzers & wine. Cash only. \n1st\, 2nd\, & 3rd Prizes \nMore Info: \nTony Enriquez\, tenriquez@dbgctm.org\, (775) 289-4841 Ext. 3110 \nJaime Wood\, High Fitness\, (775) 934-1658 \n  \nStay Up to Date on This Event by Following Us on Facebook!\nInfo on the Eastern Nevada Cornhole Championships HERE!
URL:https://elynevada.net/event/indoor-cornhole-league-2/2024-03-26/
LOCATION:Bristlecone Convention Center\, 150 Sixth Street\, Ely\, NV\, 89301\, United States
CATEGORIES:Community,Sports
ATTACH;FMTTYPE=image/jpeg:https://elynevada.net/wp-content/uploads/2024/01/Boys-and-Girl-Club-Indoor-Cornhole-League.jpg
ORGANIZER;CN="White PIne County Tourism and Recreation":MAILTO:nicole.collard@elynevada.net
END:VEVENT
BEGIN:VEVENT
DTSTART;TZID=America/Los_Angeles:20240328T154500
DTEND;TZID=America/Los_Angeles:20240328T164500
DTSTAMP:20260425T035105
CREATED:20240321T181611Z
LAST-MODIFIED:20240321T181612Z
UID:10001644-1711640700-1711644300@elynevada.net
SUMMARY:Atlas Club
DESCRIPTION:Atlas Club\nAges 8-10
URL:https://elynevada.net/event/atlas-club-2/2024-03-28/
LOCATION:White Pine County Library\, 950 Campton St\, Ely\, NV\, 89301\, United States
CATEGORIES:Community
ATTACH;FMTTYPE=image/jpeg:https://elynevada.net/wp-content/uploads/2024/02/liiiiiiiiiiiiiiiiibbbbbbbbbbbbbbbrrrrrrraaaaaaarrrrrrrrryyyyyyyyyyy.jpg
END:VEVENT
BEGIN:VEVENT
DTSTART;TZID=America/Los_Angeles:20240401T153000
DTEND;TZID=America/Los_Angeles:20240401T170000
DTSTAMP:20260425T035105
CREATED:20240321T181441Z
LAST-MODIFIED:20240321T181442Z
UID:10001968-1711985400-1711990800@elynevada.net
SUMMARY:11&Up Club
DESCRIPTION:11&Up Club\n3:45 – 5 PM
URL:https://elynevada.net/event/11up-club-2/2024-04-01/
LOCATION:White Pine County Library\, 950 Campton St\, Ely\, NV\, 89301\, United States
CATEGORIES:Community
ATTACH;FMTTYPE=image/jpeg:https://elynevada.net/wp-content/uploads/2024/02/liiiiiiiiiiiiiiiiibbbbbbbbbbbbbbbrrrrrrraaaaaaarrrrrrrrryyyyyyyyyyy.jpg
END:VEVENT
BEGIN:VEVENT
DTSTART;TZID=America/Los_Angeles:20240401T153000
DTEND;TZID=America/Los_Angeles:20240401T180000
DTSTAMP:20260425T035105
CREATED:20240321T181428Z
LAST-MODIFIED:20240321T181428Z
UID:10001919-1711985400-1711994400@elynevada.net
SUMMARY:Roaring Readers
DESCRIPTION:Roaring Readers\nAges 5-7: 3:35-4:45 PM
URL:https://elynevada.net/event/roaring-readers-2/2024-04-01/
LOCATION:White Pine County Library\, 950 Campton St\, Ely\, NV\, 89301\, United States
CATEGORIES:Community
ATTACH;FMTTYPE=image/jpeg:https://elynevada.net/wp-content/uploads/2024/02/liiiiiiiiiiiiiiiiibbbbbbbbbbbbbbbrrrrrrraaaaaaarrrrrrrrryyyyyyyyyyy.jpg
END:VEVENT
BEGIN:VEVENT
DTSTART;TZID=America/Los_Angeles:20240401T154500
DTEND;TZID=America/Los_Angeles:20240401T164500
DTSTAMP:20260425T035105
CREATED:20240321T181611Z
LAST-MODIFIED:20240321T181612Z
UID:10002072-1711986300-1711989900@elynevada.net
SUMMARY:Atlas Club
DESCRIPTION:Atlas Club\nAges 8-10
URL:https://elynevada.net/event/atlas-club-2/2024-04-01/
LOCATION:White Pine County Library\, 950 Campton St\, Ely\, NV\, 89301\, United States
CATEGORIES:Community
ATTACH;FMTTYPE=image/jpeg:https://elynevada.net/wp-content/uploads/2024/02/liiiiiiiiiiiiiiiiibbbbbbbbbbbbbbbrrrrrrraaaaaaarrrrrrrrryyyyyyyyyyy.jpg
END:VEVENT
END:VCALENDAR