BEGIN:VCALENDAR
VERSION:2.0
PRODID:-//Welcome To Ely - ECPv6.15.20//NONSGML v1.0//EN
CALSCALE:GREGORIAN
METHOD:PUBLISH
X-WR-CALNAME:Welcome To Ely
X-ORIGINAL-URL:https://elynevada.net
X-WR-CALDESC:Events for Welcome To Ely
REFRESH-INTERVAL;VALUE=DURATION:PT1H
X-Robots-Tag:noindex
X-PUBLISHED-TTL:PT1H
BEGIN:VTIMEZONE
TZID:America/Los_Angeles
BEGIN:DAYLIGHT
TZOFFSETFROM:-0800
TZOFFSETTO:-0700
TZNAME:PDT
DTSTART:20240310T100000
END:DAYLIGHT
BEGIN:STANDARD
TZOFFSETFROM:-0700
TZOFFSETTO:-0800
TZNAME:PST
DTSTART:20241103T090000
END:STANDARD
BEGIN:DAYLIGHT
TZOFFSETFROM:-0800
TZOFFSETTO:-0700
TZNAME:PDT
DTSTART:20250309T100000
END:DAYLIGHT
BEGIN:STANDARD
TZOFFSETFROM:-0700
TZOFFSETTO:-0800
TZNAME:PST
DTSTART:20251102T090000
END:STANDARD
BEGIN:DAYLIGHT
TZOFFSETFROM:-0800
TZOFFSETTO:-0700
TZNAME:PDT
DTSTART:20260308T100000
END:DAYLIGHT
BEGIN:STANDARD
TZOFFSETFROM:-0700
TZOFFSETTO:-0800
TZNAME:PST
DTSTART:20261101T090000
END:STANDARD
BEGIN:DAYLIGHT
TZOFFSETFROM:-0800
TZOFFSETTO:-0700
TZNAME:PDT
DTSTART:20270314T100000
END:DAYLIGHT
BEGIN:STANDARD
TZOFFSETFROM:-0700
TZOFFSETTO:-0800
TZNAME:PST
DTSTART:20271107T090000
END:STANDARD
END:VTIMEZONE
BEGIN:VEVENT
DTSTART;TZID=America/Los_Angeles:20251216T100000
DTEND;TZID=America/Los_Angeles:20251216T110000
DTSTAMP:20260423T045026
CREATED:20250227T234924Z
LAST-MODIFIED:20250227T234925Z
UID:10003799-1765879200-1765882800@elynevada.net
SUMMARY:Leaping Learners
DESCRIPTION:Leaping Learners\nAges 3 – 4 \nA Traditional Preschool Story Hour \n10am – 11am
URL:https://elynevada.net/event/leaping-learners-3/2025-12-16/
LOCATION:White Pine County Library\, 950 Campton St\, Ely\, NV\, 89301\, United States
CATEGORIES:Community
ATTACH;FMTTYPE=image/jpeg:https://elynevada.net/wp-content/uploads/2024/02/liiiiiiiiiiiiiiiiibbbbbbbbbbbbbbbrrrrrrraaaaaaarrrrrrrrryyyyyyyyyyy.jpg
END:VEVENT
BEGIN:VEVENT
DTSTART;TZID=America/Los_Angeles:20251218T183000
DTEND;TZID=America/Los_Angeles:20251218T200000
DTSTAMP:20260423T045026
CREATED:20200530T015021Z
LAST-MODIFIED:20250303T214854Z
UID:10003917-1766082600-1766088000@elynevada.net
SUMMARY:NNRY Santa's Reindeer Flyer
DESCRIPTION:The Nevada Northern Railway celebrates the holiday season with an adventure to the North Pole on Santa’s Reindeer Flyer Christmas Train! \nHead to NNRY.Com For Full Schedule and Times
URL:https://elynevada.net/event/nevada-northern-railway-santas-reindeer-flyer/2025-12-18/
LOCATION:Nevada Northern Railway\, 1100 Avenue A\, Ely\, NV\, 89301\, United States
CATEGORIES:Arts & Culture,Community
ATTACH;FMTTYPE=image/jpeg:https://elynevada.net/wp-content/uploads/2020/05/NNR_RndrFlyr_800x600_Ad-r.jpg
END:VEVENT
BEGIN:VEVENT
DTSTART;TZID=America/Los_Angeles:20251219T163000
DTEND;TZID=America/Los_Angeles:20251219T180000
DTSTAMP:20260423T045026
CREATED:20200530T015021Z
LAST-MODIFIED:20250303T214854Z
UID:10003918-1766161800-1766167200@elynevada.net
SUMMARY:NNRY Santa's Reindeer Flyer
DESCRIPTION:The Nevada Northern Railway celebrates the holiday season with an adventure to the North Pole on Santa’s Reindeer Flyer Christmas Train! \nHead to NNRY.Com For Full Schedule and Times
URL:https://elynevada.net/event/nevada-northern-railway-santas-reindeer-flyer/2025-12-19/1/
LOCATION:Nevada Northern Railway\, 1100 Avenue A\, Ely\, NV\, 89301\, United States
CATEGORIES:Arts & Culture,Community
ATTACH;FMTTYPE=image/jpeg:https://elynevada.net/wp-content/uploads/2020/05/NNR_RndrFlyr_800x600_Ad-r.jpg
END:VEVENT
BEGIN:VEVENT
DTSTART;TZID=America/Los_Angeles:20251219T190000
DTEND;TZID=America/Los_Angeles:20251219T203000
DTSTAMP:20260423T045026
CREATED:20200530T015021Z
LAST-MODIFIED:20250303T214854Z
UID:10003919-1766170800-1766176200@elynevada.net
SUMMARY:NNRY Santa's Reindeer Flyer
DESCRIPTION:The Nevada Northern Railway celebrates the holiday season with an adventure to the North Pole on Santa’s Reindeer Flyer Christmas Train! \nHead to NNRY.Com For Full Schedule and Times
URL:https://elynevada.net/event/nevada-northern-railway-santas-reindeer-flyer/2025-12-19/2/
LOCATION:Nevada Northern Railway\, 1100 Avenue A\, Ely\, NV\, 89301\, United States
CATEGORIES:Arts & Culture,Community
ATTACH;FMTTYPE=image/jpeg:https://elynevada.net/wp-content/uploads/2020/05/NNR_RndrFlyr_800x600_Ad-r.jpg
END:VEVENT
BEGIN:VEVENT
DTSTART;TZID=America/Los_Angeles:20251220T130000
DTEND;TZID=America/Los_Angeles:20251220T143000
DTSTAMP:20260423T045026
CREATED:20200530T015021Z
LAST-MODIFIED:20250303T214854Z
UID:10003920-1766235600-1766241000@elynevada.net
SUMMARY:NNRY Santa's Reindeer Flyer
DESCRIPTION:The Nevada Northern Railway celebrates the holiday season with an adventure to the North Pole on Santa’s Reindeer Flyer Christmas Train! \nHead to NNRY.Com For Full Schedule and Times
URL:https://elynevada.net/event/nevada-northern-railway-santas-reindeer-flyer/2025-12-20/1/
LOCATION:Nevada Northern Railway\, 1100 Avenue A\, Ely\, NV\, 89301\, United States
CATEGORIES:Arts & Culture,Community
ATTACH;FMTTYPE=image/jpeg:https://elynevada.net/wp-content/uploads/2020/05/NNR_RndrFlyr_800x600_Ad-r.jpg
END:VEVENT
BEGIN:VEVENT
DTSTART;TZID=America/Los_Angeles:20251220T163000
DTEND;TZID=America/Los_Angeles:20251220T180000
DTSTAMP:20260423T045027
CREATED:20200530T015021Z
LAST-MODIFIED:20250303T214854Z
UID:10003921-1766248200-1766253600@elynevada.net
SUMMARY:NNRY Santa's Reindeer Flyer
DESCRIPTION:The Nevada Northern Railway celebrates the holiday season with an adventure to the North Pole on Santa’s Reindeer Flyer Christmas Train! \nHead to NNRY.Com For Full Schedule and Times
URL:https://elynevada.net/event/nevada-northern-railway-santas-reindeer-flyer/2025-12-20/2/
LOCATION:Nevada Northern Railway\, 1100 Avenue A\, Ely\, NV\, 89301\, United States
CATEGORIES:Arts & Culture,Community
ATTACH;FMTTYPE=image/jpeg:https://elynevada.net/wp-content/uploads/2020/05/NNR_RndrFlyr_800x600_Ad-r.jpg
END:VEVENT
BEGIN:VEVENT
DTSTART;TZID=America/Los_Angeles:20251220T190000
DTEND;TZID=America/Los_Angeles:20251220T203000
DTSTAMP:20260423T045027
CREATED:20200530T015021Z
LAST-MODIFIED:20250303T214854Z
UID:10003922-1766257200-1766262600@elynevada.net
SUMMARY:NNRY Santa's Reindeer Flyer
DESCRIPTION:The Nevada Northern Railway celebrates the holiday season with an adventure to the North Pole on Santa’s Reindeer Flyer Christmas Train! \nHead to NNRY.Com For Full Schedule and Times
URL:https://elynevada.net/event/nevada-northern-railway-santas-reindeer-flyer/2025-12-20/3/
LOCATION:Nevada Northern Railway\, 1100 Avenue A\, Ely\, NV\, 89301\, United States
CATEGORIES:Arts & Culture,Community
ATTACH;FMTTYPE=image/jpeg:https://elynevada.net/wp-content/uploads/2020/05/NNR_RndrFlyr_800x600_Ad-r.jpg
END:VEVENT
BEGIN:VEVENT
DTSTART;TZID=America/Los_Angeles:20251221T130000
DTEND;TZID=America/Los_Angeles:20251221T143000
DTSTAMP:20260423T045027
CREATED:20200530T015021Z
LAST-MODIFIED:20250303T214854Z
UID:10003923-1766322000-1766327400@elynevada.net
SUMMARY:NNRY Santa's Reindeer Flyer
DESCRIPTION:The Nevada Northern Railway celebrates the holiday season with an adventure to the North Pole on Santa’s Reindeer Flyer Christmas Train! \nHead to NNRY.Com For Full Schedule and Times
URL:https://elynevada.net/event/nevada-northern-railway-santas-reindeer-flyer/2025-12-21/1/
LOCATION:Nevada Northern Railway\, 1100 Avenue A\, Ely\, NV\, 89301\, United States
CATEGORIES:Arts & Culture,Community
ATTACH;FMTTYPE=image/jpeg:https://elynevada.net/wp-content/uploads/2020/05/NNR_RndrFlyr_800x600_Ad-r.jpg
END:VEVENT
BEGIN:VEVENT
DTSTART;TZID=America/Los_Angeles:20251221T163000
DTEND;TZID=America/Los_Angeles:20251221T180000
DTSTAMP:20260423T045027
CREATED:20200530T015021Z
LAST-MODIFIED:20250303T214854Z
UID:10003924-1766334600-1766340000@elynevada.net
SUMMARY:NNRY Santa's Reindeer Flyer
DESCRIPTION:The Nevada Northern Railway celebrates the holiday season with an adventure to the North Pole on Santa’s Reindeer Flyer Christmas Train! \nHead to NNRY.Com For Full Schedule and Times
URL:https://elynevada.net/event/nevada-northern-railway-santas-reindeer-flyer/2025-12-21/2/
LOCATION:Nevada Northern Railway\, 1100 Avenue A\, Ely\, NV\, 89301\, United States
CATEGORIES:Arts & Culture,Community
ATTACH;FMTTYPE=image/jpeg:https://elynevada.net/wp-content/uploads/2020/05/NNR_RndrFlyr_800x600_Ad-r.jpg
END:VEVENT
BEGIN:VEVENT
DTSTART;TZID=America/Los_Angeles:20251221T190000
DTEND;TZID=America/Los_Angeles:20251221T203000
DTSTAMP:20260423T045027
CREATED:20200530T015021Z
LAST-MODIFIED:20250303T214854Z
UID:10003925-1766343600-1766349000@elynevada.net
SUMMARY:NNRY Santa's Reindeer Flyer
DESCRIPTION:The Nevada Northern Railway celebrates the holiday season with an adventure to the North Pole on Santa’s Reindeer Flyer Christmas Train! \nHead to NNRY.Com For Full Schedule and Times
URL:https://elynevada.net/event/nevada-northern-railway-santas-reindeer-flyer/2025-12-21/3/
LOCATION:Nevada Northern Railway\, 1100 Avenue A\, Ely\, NV\, 89301\, United States
CATEGORIES:Arts & Culture,Community
ATTACH;FMTTYPE=image/jpeg:https://elynevada.net/wp-content/uploads/2020/05/NNR_RndrFlyr_800x600_Ad-r.jpg
END:VEVENT
BEGIN:VEVENT
DTSTART;TZID=America/Los_Angeles:20251222T130000
DTEND;TZID=America/Los_Angeles:20251222T143000
DTSTAMP:20260423T045027
CREATED:20200530T015021Z
LAST-MODIFIED:20250303T214854Z
UID:10003926-1766408400-1766413800@elynevada.net
SUMMARY:NNRY Santa's Reindeer Flyer
DESCRIPTION:The Nevada Northern Railway celebrates the holiday season with an adventure to the North Pole on Santa’s Reindeer Flyer Christmas Train! \nHead to NNRY.Com For Full Schedule and Times
URL:https://elynevada.net/event/nevada-northern-railway-santas-reindeer-flyer/2025-12-22/1/
LOCATION:Nevada Northern Railway\, 1100 Avenue A\, Ely\, NV\, 89301\, United States
CATEGORIES:Arts & Culture,Community
ATTACH;FMTTYPE=image/jpeg:https://elynevada.net/wp-content/uploads/2020/05/NNR_RndrFlyr_800x600_Ad-r.jpg
END:VEVENT
BEGIN:VEVENT
DTSTART;TZID=America/Los_Angeles:20251222T163000
DTEND;TZID=America/Los_Angeles:20251222T180000
DTSTAMP:20260423T045027
CREATED:20200530T015021Z
LAST-MODIFIED:20250303T214854Z
UID:10003927-1766421000-1766426400@elynevada.net
SUMMARY:NNRY Santa's Reindeer Flyer
DESCRIPTION:The Nevada Northern Railway celebrates the holiday season with an adventure to the North Pole on Santa’s Reindeer Flyer Christmas Train! \nHead to NNRY.Com For Full Schedule and Times
URL:https://elynevada.net/event/nevada-northern-railway-santas-reindeer-flyer/2025-12-22/2/
LOCATION:Nevada Northern Railway\, 1100 Avenue A\, Ely\, NV\, 89301\, United States
CATEGORIES:Arts & Culture,Community
ATTACH;FMTTYPE=image/jpeg:https://elynevada.net/wp-content/uploads/2020/05/NNR_RndrFlyr_800x600_Ad-r.jpg
END:VEVENT
BEGIN:VEVENT
DTSTART;TZID=America/Los_Angeles:20251222T190000
DTEND;TZID=America/Los_Angeles:20251222T203000
DTSTAMP:20260423T045027
CREATED:20200530T015021Z
LAST-MODIFIED:20250303T214854Z
UID:10003928-1766430000-1766435400@elynevada.net
SUMMARY:NNRY Santa's Reindeer Flyer
DESCRIPTION:The Nevada Northern Railway celebrates the holiday season with an adventure to the North Pole on Santa’s Reindeer Flyer Christmas Train! \nHead to NNRY.Com For Full Schedule and Times
URL:https://elynevada.net/event/nevada-northern-railway-santas-reindeer-flyer/2025-12-22/3/
LOCATION:Nevada Northern Railway\, 1100 Avenue A\, Ely\, NV\, 89301\, United States
CATEGORIES:Arts & Culture,Community
ATTACH;FMTTYPE=image/jpeg:https://elynevada.net/wp-content/uploads/2020/05/NNR_RndrFlyr_800x600_Ad-r.jpg
END:VEVENT
BEGIN:VEVENT
DTSTART;TZID=America/Los_Angeles:20251223T100000
DTEND;TZID=America/Los_Angeles:20251223T110000
DTSTAMP:20260423T045027
CREATED:20250227T234924Z
LAST-MODIFIED:20250227T234925Z
UID:10003800-1766484000-1766487600@elynevada.net
SUMMARY:Leaping Learners
DESCRIPTION:Leaping Learners\nAges 3 – 4 \nA Traditional Preschool Story Hour \n10am – 11am
URL:https://elynevada.net/event/leaping-learners-3/2025-12-23/
LOCATION:White Pine County Library\, 950 Campton St\, Ely\, NV\, 89301\, United States
CATEGORIES:Community
ATTACH;FMTTYPE=image/jpeg:https://elynevada.net/wp-content/uploads/2024/02/liiiiiiiiiiiiiiiiibbbbbbbbbbbbbbbrrrrrrraaaaaaarrrrrrrrryyyyyyyyyyy.jpg
END:VEVENT
BEGIN:VEVENT
DTSTART;TZID=America/Los_Angeles:20251223T130000
DTEND;TZID=America/Los_Angeles:20251223T143000
DTSTAMP:20260423T045027
CREATED:20200530T015021Z
LAST-MODIFIED:20250303T214854Z
UID:10003929-1766494800-1766500200@elynevada.net
SUMMARY:NNRY Santa's Reindeer Flyer
DESCRIPTION:The Nevada Northern Railway celebrates the holiday season with an adventure to the North Pole on Santa’s Reindeer Flyer Christmas Train! \nHead to NNRY.Com For Full Schedule and Times
URL:https://elynevada.net/event/nevada-northern-railway-santas-reindeer-flyer/2025-12-23/1/
LOCATION:Nevada Northern Railway\, 1100 Avenue A\, Ely\, NV\, 89301\, United States
CATEGORIES:Arts & Culture,Community
ATTACH;FMTTYPE=image/jpeg:https://elynevada.net/wp-content/uploads/2020/05/NNR_RndrFlyr_800x600_Ad-r.jpg
END:VEVENT
BEGIN:VEVENT
DTSTART;TZID=America/Los_Angeles:20251223T163000
DTEND;TZID=America/Los_Angeles:20251223T180000
DTSTAMP:20260423T045027
CREATED:20200530T015021Z
LAST-MODIFIED:20250303T214854Z
UID:10003930-1766507400-1766512800@elynevada.net
SUMMARY:NNRY Santa's Reindeer Flyer
DESCRIPTION:The Nevada Northern Railway celebrates the holiday season with an adventure to the North Pole on Santa’s Reindeer Flyer Christmas Train! \nHead to NNRY.Com For Full Schedule and Times
URL:https://elynevada.net/event/nevada-northern-railway-santas-reindeer-flyer/2025-12-23/2/
LOCATION:Nevada Northern Railway\, 1100 Avenue A\, Ely\, NV\, 89301\, United States
CATEGORIES:Arts & Culture,Community
ATTACH;FMTTYPE=image/jpeg:https://elynevada.net/wp-content/uploads/2020/05/NNR_RndrFlyr_800x600_Ad-r.jpg
END:VEVENT
BEGIN:VEVENT
DTSTART;TZID=America/Los_Angeles:20251225T110000
DTEND;TZID=America/Los_Angeles:20251225T140000
DTSTAMP:20260423T045027
CREATED:20201209T051659Z
LAST-MODIFIED:20251125T004031Z
UID:10000376-1766660400-1766671200@elynevada.net
SUMMARY:White Pine Community Christmas Dinner
DESCRIPTION:Community Christmas Dinner – 2024\nThe White Pine Ministerial Association invites you to the Community Christmas Dinner! This Christmas Dinner serves those unable to attend Christmas with others or their families and provides them with a giant\, festive feast. For Meal Delivery/Donations call (775) 296-2665. To volunteer or more information\, call (775) 293-2585. ALL CALLS MUST BE MADE BY DECEMBER 23rd! \nFeel free to spend Christmas\, December 25th\, at the Bristlecone Convention Center in Ely\, Nevada! \nChristmas Dinner Schedule:\nEcumenical Service: 9:00 a.m. \nDinner Served: 11:00 a.m. – 2:00 p.m. \nDiscover More To Do in White Pine County HERE!\nFollow Updates About This Event HERE!
URL:https://elynevada.net/event/white-pine-community-christmas-dinner/
LOCATION:Bristlecone Convention Center\, 150 Sixth Street\, Ely\, NV\, 89301\, United States
CATEGORIES:Community,Holiday
ATTACH;FMTTYPE=image/png:https://elynevada.net/wp-content/uploads/2020/12/Community-Christmas-Dinner.png
END:VEVENT
BEGIN:VEVENT
DTSTART;TZID=America/Los_Angeles:20251226T100000
DTEND;TZID=America/Los_Angeles:20251226T110000
DTSTAMP:20260423T045027
CREATED:20250228T003642Z
LAST-MODIFIED:20250228T003643Z
UID:10003862-1766743200-1766746800@elynevada.net
SUMMARY:WPC Library Lego Club
DESCRIPTION:WPC Library Lego Club\nFOURTH FRIDAY
URL:https://elynevada.net/event/wpc-library-lego-club/2025-12-26/
LOCATION:White Pine County Library\, 950 Campton St\, Ely\, NV\, 89301\, United States
CATEGORIES:Community
ATTACH;FMTTYPE=image/jpeg:https://elynevada.net/wp-content/uploads/2024/02/liiiiiiiiiiiiiiiiibbbbbbbbbbbbbbbrrrrrrraaaaaaarrrrrrrrryyyyyyyyyyy.jpg
END:VEVENT
BEGIN:VEVENT
DTSTART;TZID=America/Los_Angeles:20251226T163000
DTEND;TZID=America/Los_Angeles:20251226T180000
DTSTAMP:20260423T045027
CREATED:20200530T015021Z
LAST-MODIFIED:20250303T214854Z
UID:10003931-1766766600-1766772000@elynevada.net
SUMMARY:NNRY Santa's Reindeer Flyer
DESCRIPTION:The Nevada Northern Railway celebrates the holiday season with an adventure to the North Pole on Santa’s Reindeer Flyer Christmas Train! \nHead to NNRY.Com For Full Schedule and Times
URL:https://elynevada.net/event/nevada-northern-railway-santas-reindeer-flyer/2025-12-26/
LOCATION:Nevada Northern Railway\, 1100 Avenue A\, Ely\, NV\, 89301\, United States
CATEGORIES:Arts & Culture,Community
ATTACH;FMTTYPE=image/jpeg:https://elynevada.net/wp-content/uploads/2020/05/NNR_RndrFlyr_800x600_Ad-r.jpg
END:VEVENT
BEGIN:VEVENT
DTSTART;TZID=America/Los_Angeles:20251227T163000
DTEND;TZID=America/Los_Angeles:20251227T180000
DTSTAMP:20260423T045027
CREATED:20200530T015021Z
LAST-MODIFIED:20250303T214854Z
UID:10003932-1766853000-1766858400@elynevada.net
SUMMARY:NNRY Santa's Reindeer Flyer
DESCRIPTION:The Nevada Northern Railway celebrates the holiday season with an adventure to the North Pole on Santa’s Reindeer Flyer Christmas Train! \nHead to NNRY.Com For Full Schedule and Times
URL:https://elynevada.net/event/nevada-northern-railway-santas-reindeer-flyer/2025-12-27/
LOCATION:Nevada Northern Railway\, 1100 Avenue A\, Ely\, NV\, 89301\, United States
CATEGORIES:Arts & Culture,Community
ATTACH;FMTTYPE=image/jpeg:https://elynevada.net/wp-content/uploads/2020/05/NNR_RndrFlyr_800x600_Ad-r.jpg
END:VEVENT
BEGIN:VEVENT
DTSTART;TZID=America/Los_Angeles:20251230T100000
DTEND;TZID=America/Los_Angeles:20251230T110000
DTSTAMP:20260423T045027
CREATED:20250227T234924Z
LAST-MODIFIED:20250227T234925Z
UID:10003801-1767088800-1767092400@elynevada.net
SUMMARY:Leaping Learners
DESCRIPTION:Leaping Learners\nAges 3 – 4 \nA Traditional Preschool Story Hour \n10am – 11am
URL:https://elynevada.net/event/leaping-learners-3/2025-12-30/
LOCATION:White Pine County Library\, 950 Campton St\, Ely\, NV\, 89301\, United States
CATEGORIES:Community
ATTACH;FMTTYPE=image/jpeg:https://elynevada.net/wp-content/uploads/2024/02/liiiiiiiiiiiiiiiiibbbbbbbbbbbbbbbrrrrrrraaaaaaarrrrrrrrryyyyyyyyyyy.jpg
END:VEVENT
BEGIN:VEVENT
DTSTART;TZID=America/Los_Angeles:20260101T180000
DTEND;TZID=America/Los_Angeles:20260101T203000
DTSTAMP:20260423T045027
CREATED:20240405T001511Z
LAST-MODIFIED:20240405T001511Z
UID:10002623-1767290400-1767299400@elynevada.net
SUMMARY:Ely Elks Lodge Bingo
DESCRIPTION:Ely Elks Lodge Bingo\nBingo every first Thursday at the Ely Elks Lodge. Hot dogs and Chili are sold. Great time\, great people\, and BINGO!!!
URL:https://elynevada.net/event/ely-elks-lodge-bingo-2/2026-01-01/
LOCATION:Ely Elks Lodge\, 694 Campton St.\, Ely\, NV\, 89301\, United States
CATEGORIES:Community,Sports
ATTACH;FMTTYPE=image/png:https://elynevada.net/wp-content/uploads/2023/01/Ely-Elks-Lodge-Bingo.png
ORGANIZER;CN="Ely Elks Lodge":MAILTO:elyelks1469@att.net
END:VEVENT
BEGIN:VEVENT
DTSTART;TZID=America/Los_Angeles:20260103T173000
DTEND;TZID=America/Los_Angeles:20260103T190000
DTSTAMP:20260423T045027
CREATED:20250107T204841Z
LAST-MODIFIED:20260113T231504Z
UID:10004096-1767461400-1767466800@elynevada.net
SUMMARY:GET MOONED Full Moon Hike in Baker
DESCRIPTION:GET MOONED Full Moon Hike in Baker\nA part of Baker’s “GET” series\, there are Full Moon Hikes every month. Meet at the Bristlecone General Store and you’ll venture on a 2-3 mile hike in the area with the light of the moon as your guide. \n“Full moons offer us a chance to reflect\, refresh and renew our senses.”
URL:https://elynevada.net/event/get-mooned-full-moon-hike-in-baker/2026-01-03/
LOCATION:Bristlecone General Store\, 115 S. Baker Ave.\, Baker\, NV\, 89311\, United States
CATEGORIES:Community,Sports
ATTACH;FMTTYPE=image/png:https://elynevada.net/wp-content/uploads/2025/01/GET-MOONED-2026.png
ORGANIZER;CN="Bristlecone General Store":MAILTO:stay@stargazernevada.com
END:VEVENT
BEGIN:VEVENT
DTSTART;TZID=America/Los_Angeles:20260106T100000
DTEND;TZID=America/Los_Angeles:20260106T110000
DTSTAMP:20260423T045027
CREATED:20250227T234924Z
LAST-MODIFIED:20250227T234925Z
UID:10003802-1767693600-1767697200@elynevada.net
SUMMARY:Leaping Learners
DESCRIPTION:Leaping Learners\nAges 3 – 4 \nA Traditional Preschool Story Hour \n10am – 11am
URL:https://elynevada.net/event/leaping-learners-3/2026-01-06/
LOCATION:White Pine County Library\, 950 Campton St\, Ely\, NV\, 89301\, United States
CATEGORIES:Community
ATTACH;FMTTYPE=image/jpeg:https://elynevada.net/wp-content/uploads/2024/02/liiiiiiiiiiiiiiiiibbbbbbbbbbbbbbbrrrrrrraaaaaaarrrrrrrrryyyyyyyyyyy.jpg
END:VEVENT
BEGIN:VEVENT
DTSTART;TZID=America/Los_Angeles:20260106T180000
DTEND;TZID=America/Los_Angeles:20260106T203000
DTSTAMP:20260423T045027
CREATED:20260107T190349Z
LAST-MODIFIED:20260107T190350Z
UID:10004077-1767722400-1767731400@elynevada.net
SUMMARY:Ely Cornhole League
DESCRIPTION:2026 Ely Cornhole League\nJoin the 2026 Ely Cornhole League! All proceeds benefit the WPHS Girls Basketball Teams. \nGrab a partner or come solo. All skill levels welcome. Family-friendly event. \nPrizes\, cash bar\, music & fun! \nEvery Tuesday at 6:00pm\, January 6th – February 24th at the Bristlecone Convention Center. \n6:00pm-8:30pm \nRegistration Fee: $60 per team \nTo register or get more information\, contact Jaime at (775) 934-1658
URL:https://elynevada.net/event/ely-cornhole-league/2026-01-06/
LOCATION:Bristlecone Convention Center\, 150 Sixth Street\, Ely\, NV\, 89301\, United States
CATEGORIES:Community,Sports
ATTACH;FMTTYPE=image/jpeg:https://elynevada.net/wp-content/uploads/2026/01/Cornhole-League-2026.jpg
END:VEVENT
BEGIN:VEVENT
DTSTART;TZID=America/Los_Angeles:20260109T100000
DTEND;TZID=America/Los_Angeles:20260109T110000
DTSTAMP:20260423T045027
CREATED:20250228T002349Z
LAST-MODIFIED:20250228T002350Z
UID:10003843-1767952800-1767956400@elynevada.net
SUMMARY:WPC Library Chess Club
DESCRIPTION:WPC Library Chess Club\nSecond Friday
URL:https://elynevada.net/event/wpc-library-chess-club/2026-01-09/
LOCATION:White Pine County Library\, 950 Campton St\, Ely\, NV\, 89301\, United States
CATEGORIES:Community
ATTACH;FMTTYPE=image/jpeg:https://elynevada.net/wp-content/uploads/2024/02/liiiiiiiiiiiiiiiiibbbbbbbbbbbbbbbrrrrrrraaaaaaarrrrrrrrryyyyyyyyyyy.jpg
END:VEVENT
BEGIN:VEVENT
DTSTART;TZID=America/Los_Angeles:20260111T130000
DTEND;TZID=America/Los_Angeles:20260111T170000
DTSTAMP:20260423T045027
CREATED:20260107T191508Z
LAST-MODIFIED:20260107T191509Z
UID:10004085-1768136400-1768150800@elynevada.net
SUMMARY:National Puzzle Day Celebration
DESCRIPTION:National Puzzle Day Celebration\nVisit the Bristlecone General Store for their National Puzzle Day Celebration! \nThe store has partnered with Nevada Humanities & the National Puzzle Day movement to add joy and connection to life. \nPuzzles and games for all ages will be set up around the store. Come in anytime and join the cooperative fun! \nNational Puzzle Day is actually on January 29th\, but has turned into National Puzzle Month… so the General Store has made sure to celebrate!
URL:https://elynevada.net/event/national-puzzle-day-celebration/
LOCATION:Bristlecone General Store\, 115 S. Baker Ave.\, Baker\, NV\, 89311\, United States
CATEGORIES:Community,Party
ATTACH;FMTTYPE=image/jpeg:https://elynevada.net/wp-content/uploads/2026/01/National-Puzzle-Day-Celebration-2026.jpg
ORGANIZER;CN="Bristlecone General Store":MAILTO:stay@stargazernevada.com
END:VEVENT
BEGIN:VEVENT
DTSTART;TZID=America/Los_Angeles:20260113T100000
DTEND;TZID=America/Los_Angeles:20260113T110000
DTSTAMP:20260423T045027
CREATED:20250227T234924Z
LAST-MODIFIED:20250227T234925Z
UID:10003803-1768298400-1768302000@elynevada.net
SUMMARY:Leaping Learners
DESCRIPTION:Leaping Learners\nAges 3 – 4 \nA Traditional Preschool Story Hour \n10am – 11am
URL:https://elynevada.net/event/leaping-learners-3/2026-01-13/
LOCATION:White Pine County Library\, 950 Campton St\, Ely\, NV\, 89301\, United States
CATEGORIES:Community
ATTACH;FMTTYPE=image/jpeg:https://elynevada.net/wp-content/uploads/2024/02/liiiiiiiiiiiiiiiiibbbbbbbbbbbbbbbrrrrrrraaaaaaarrrrrrrrryyyyyyyyyyy.jpg
END:VEVENT
BEGIN:VEVENT
DTSTART;TZID=America/Los_Angeles:20260113T180000
DTEND;TZID=America/Los_Angeles:20260113T203000
DTSTAMP:20260423T045027
CREATED:20260107T190349Z
LAST-MODIFIED:20260107T190350Z
UID:10004078-1768327200-1768336200@elynevada.net
SUMMARY:Ely Cornhole League
DESCRIPTION:2026 Ely Cornhole League\nJoin the 2026 Ely Cornhole League! All proceeds benefit the WPHS Girls Basketball Teams. \nGrab a partner or come solo. All skill levels welcome. Family-friendly event. \nPrizes\, cash bar\, music & fun! \nEvery Tuesday at 6:00pm\, January 6th – February 24th at the Bristlecone Convention Center. \n6:00pm-8:30pm \nRegistration Fee: $60 per team \nTo register or get more information\, contact Jaime at (775) 934-1658
URL:https://elynevada.net/event/ely-cornhole-league/2026-01-13/
LOCATION:Bristlecone Convention Center\, 150 Sixth Street\, Ely\, NV\, 89301\, United States
CATEGORIES:Community,Sports
ATTACH;FMTTYPE=image/jpeg:https://elynevada.net/wp-content/uploads/2026/01/Cornhole-League-2026.jpg
END:VEVENT
BEGIN:VEVENT
DTSTART;TZID=America/Los_Angeles:20260116T090000
DTEND;TZID=America/Los_Angeles:20260116T200000
DTSTAMP:20260423T045027
CREATED:20251208T223529Z
LAST-MODIFIED:20260116T002725Z
UID:10004072-1768554000-1768593600@elynevada.net
SUMMARY:Fire & Ice Winter Festival - 2026
DESCRIPTION:Fire & Ice Winter Festival – 2026\nIt’s here: The Fire and Ice Winter Festival – 2026 celebrates everything White Pine County offers during the winter months. \nThe community-wide festival will once again have multiple events throughout the area for people of all ages. Locations include Nevada Northern Railway\, downtown businesses\, and Ward Mtn Recreation Area\, and Cave Lake State Park. Bring the entire family down for activities around sports\, arts\, food and drink\, tournaments\, live music and more. Snow Sculptures are entirely dependent on the weather\, but keep your fingers crossed! Teams interested in competing should contact the convention center at (775) 289-3720. \n  \nFriday January 16th –9am-4:30pm\, Desert Rose Ceramics: Open Ceramics Painting11am-4:30pm: White Pine Public Museum is Open!3:30pm-4:30pm\, Downtown Ely: Mural Walking Tour\, Meet at Economy Drug6:30pm\, Bristlecone Convention Center: FREE Concert\, feat. Runaway Fire\nCalTech DSA 2000 Space Trivia w/ Prizes During Band Set Breaks\n\nSaturday\, January 17th –8am\, Ward Mtn. Recreation Area: Ely Outdoor Enthusiasts Bristlecone Birkebeiner Winter Fest9am-4:30pm\, Desert Rose Ceramics: Open Ceramics Painting11am-4:30pm: White Pine Public Museum is Open!12:00pm-5:00pm\, Shooters Bar & Grill: Pool Tournament1:00pm\, Nevada Northern Railway: Train Excursion through Robinson Canyon1:00pm-4:00pm\, Sunset Lanes Bowling Center: Bowling Tournament2:00pm\, Ely Central Theater: Feature Length Movie4:30pm-8:00pm\, Outpost Bar: Pool Tournament6:00pm\, Nevada Northern Railway: Fireworks Off the Back of the Train7:00pm\, Nevada Northern Railway: Art Sculpture Bonfire\, A Food Truck Will Be Parked & Open\n7:00pm\, Nevada Northern Railway: CalTech DSA 2000 Stargazing Station w/ Professional-Grade Telescopes7:00pm\, Ely Central Theater: Feature Length Movie8:00pm\, Outpost Bar: Karaoke!!!\n\nSunday\, January 18th –8:00am\, Broadbent Park: Art Contest Begins!!!9:00am\, Cave Lake State Park: Morning Hike11am-4:30pm: White Pine Public Museum is Open!11:00am-3:00pm\, Broadbent Park: A Food Truck Will Be Parked & Open\n11:00am-3:00pm\, Broadbent Park: CalTech DSA 2000 Daytime Sun Telescopes Set Up for Viewing11:00am-3:00pm\, Broadbent Park: Ice Horseshoe Tournament11:00am-3:00pm\, Broadbent Park: Cornhole Tournament\, Must Register Before Event\, Call (775) 296-64952:00pm\, Broadbent Park: Ice Sculpture Contest Ends & Displays Are Ready For Judging!2:00pm\, Ely Central Theater: Feature Length Movie\n5:00pm\, The Outpost: Sip and Paint Night5:30pm\, Broadbent Park: Fireworks Display presented by Great Basin Pyrotechnics6:30pm\, Veterans Park\, Ely: Nighttime Glow Disc Golf Tournament\, Sign-Up in Advance\, Call (775) 289-37207:00pm\, Ely Central Theater: Feature Length Movie\n\n\n\nMore Info about the Bristlecone Birkebeiner can be found HERE!\nMore Info for the entire festival can be found HERE!
URL:https://elynevada.net/event/fire-ice-winter-festival-2026/2026-01-16/
LOCATION:Ely\, NV\, 89301\, United States
CATEGORIES:Arts & Culture,Community,Party,Sports
ATTACH;FMTTYPE=image/png:https://elynevada.net/wp-content/uploads/2025/12/image-15.png
ORGANIZER;CN="White PIne County Tourism and Recreation":MAILTO:nicole.collard@elynevada.net
END:VEVENT
END:VCALENDAR