BEGIN:VCALENDAR
VERSION:2.0
PRODID:-//Welcome To Ely - ECPv6.15.20//NONSGML v1.0//EN
CALSCALE:GREGORIAN
METHOD:PUBLISH
X-WR-CALNAME:Welcome To Ely
X-ORIGINAL-URL:https://elynevada.net
X-WR-CALDESC:Events for Welcome To Ely
REFRESH-INTERVAL;VALUE=DURATION:PT1H
X-Robots-Tag:noindex
X-PUBLISHED-TTL:PT1H
BEGIN:VTIMEZONE
TZID:UTC
BEGIN:STANDARD
TZOFFSETFROM:+0000
TZOFFSETTO:+0000
TZNAME:UTC
DTSTART:20170101T000000
END:STANDARD
END:VTIMEZONE
BEGIN:VEVENT
DTSTART;VALUE=DATE:20180704
DTEND;VALUE=DATE:20180705
DTSTAMP:20260425T094432
CREATED:20180619T120006Z
LAST-MODIFIED:20180619T120104Z
UID:10000039-1530662400-1530748799@elynevada.net
SUMMARY:Independence Day Celebration
DESCRIPTION:What better way to celebrate your country’s independence than with your fellow Americans? The White Pine County Tourism and Recreation Board invites anyone anywhere to come and enjoy a free\, delicious breakfast to celebrate the independence of our country. \nThis breakfast will take place at the Bristlecone Convention Center located on the southeast corner of 6th Street and Lyons Avenue. \n\n\n\n\n\n\nOld Fashioned July 4th of July Parade\n\n\n\n\n\n\n\n\n\n\n\n\n\nParade begins at 11:00 a.m.\nThe patriotism of Ely\, Nevada shows through in its annual Fourth of July Parade. \nThe main street\, Highway 50\, is closed off to traffic and at 11 a.m. the fun begins. The parade begins with the American and Nevada state flags displayed by The Pony Express horseback riders. Following the flags\, the Grand Marshall waves to everyone. \nAfter the parade has ended\, there will be games\, face painting\, and booths at Broadbent Park\, where the parade began. The streets are always crowded at this once a year event\, so if you want a great view of the parade\, and the possibility of catching candy or Frisbees\, get there early.  Many barbeques will be planned while waiting for the parade to begin\, so be prepared! \n\n\n\n\n\n\nRed\, White\, and Blue Golf Tournament\n\n\n\n\n\n\n1:00 p.m. at the White Pine Golf Course \n\n\n\n\n\n\nWhite Pine Golf Course is an 18-hole course which was built in 1928. \nIt has a USGA course rating of 72.3\, which is 0.1% higher than the average for all Golf Courses. \nWhite Pine Golf Course is a par 73 course. It is 6\,843 yards long\, which is 264 more than the average for all Golf Courses. \n\n\n\n\nThere is a $28 green fee $40 with a cart. \n  \n\n\n\n\n\n\n4th of July Fireworks Express\n\n\n\n\n\n\nMonday\, July 4 at 6:30 p.m.\n\n\n\n\n\n\nOn Monday\, the 4th of July\, watch the fireworks from the best seats in White Pine County. \nOn board\, passengers have the option to purchase candy\, soda\, and water. They’ll also be able to view panoramic vistas and travel through two tunnels. \nTicket Prices:\nAdults— $39\nChildren (4–12)— $20\nChildren 3 and under ride free \nClick Here to learn more about the Northern Nevada Railway. \nClick Here to visit their official website. \nThe Fireworks Express is scheduled to depart from the Nevada Northern Railway Complex located on the Northeast end of Ely\, just South of the White Pine Golf Course.
URL:https://elynevada.net/event/independence-day-celebration/
LOCATION:NV
CATEGORIES:Arts & Culture
ATTACH;FMTTYPE=image/jpeg:https://elynevada.net/wp-content/uploads/2018/06/train.jpg
END:VEVENT
BEGIN:VEVENT
DTSTART;VALUE=DATE:20180630
DTEND;VALUE=DATE:20180701
DTSTAMP:20260425T094432
CREATED:20180619T121457Z
LAST-MODIFIED:20180619T121716Z
UID:10000034-1530316800-1530403199@elynevada.net
SUMMARY:14th Annual White Pine Gymkhana
DESCRIPTION:Gymkhana is an equestrian event consisting of speed pattern racing and timed games for riders on horses. These events often emphasize children’s participation and may be organized by a recognized Pony Club or a 4-H club. In parts of the western United States\, this type of competition is usually called an “O-Mok-See” (also spelled “omoksee” or without hyphenation as “o mok see”) competition\, a term derived from a Native American phrase said to mean “games on horseback.” Very small events with little or no prize money\, designed for beginners or riders at a local level\, are sometimes called playdays. Gymkhana is the word used in most of the rest of the English-speaking world\, including the United Kingdom\, and both the east and west coasts of the United States. \n\n\n\nGymkhana includes timed speed events such as barrel racing\, pole bending\, keyhole race\, keg race (also known as “down and back”)\, flag racing\, and stake race. Some organizations include ride and run\, musical mats\, egg stomp\, $1 bill race or “ride a buck”\, and sack race. \nMost of these events are designed to display precise\, controlled actions and tight teamwork between horse and rider at speed\, and demonstrate many skills such as flying lead changes\, sliding stops and more. Most clubs offer a variety of classes for all ages and abilities of people\, allowing riders to compete at the speed level at which they are most capable and comfortable.
URL:https://elynevada.net/event/14th-annual-white-pine-gymkhana/
LOCATION:White Pine County Fairgrounds\, 78 n mcgill hwy\, Ely\, NV\, United States
CATEGORIES:Sports
ATTACH;FMTTYPE=image/jpeg:https://elynevada.net/wp-content/uploads/2018/06/western-13_1.jpg
END:VEVENT
BEGIN:VEVENT
DTSTART;VALUE=DATE:20180622
DTEND;VALUE=DATE:20180625
DTSTAMP:20260425T094432
CREATED:20180619T115225Z
LAST-MODIFIED:20180619T115225Z
UID:10000038-1529625600-1529884799@elynevada.net
SUMMARY:White Pine Motorcycle Rally
DESCRIPTION:
URL:https://elynevada.net/event/white-pine-motorcycle-rally/
LOCATION:NV
CATEGORIES:Sports
ORGANIZER;CN="Stardust Ranch Brothel":MAILTO:stardustranchbrothel@gmail.com
END:VEVENT
BEGIN:VEVENT
DTSTART;VALUE=DATE:20180620
DTEND;VALUE=DATE:20180624
DTSTAMP:20260425T094432
CREATED:20180619T111658Z
LAST-MODIFIED:20180619T111658Z
UID:10000048-1529452800-1529798399@elynevada.net
SUMMARY:83rd Annual NSFA Training Conference
DESCRIPTION:Wednesday\nWednesday will start with the golf tournament at the White Pine Golf Course followed by trap shooting at the Steptoe Valley Trap Club. A reunion dinner will be held at the Ely VFD Fire Hall. \nThursday\nThursday will kick off with manipulative skills followed by Opening Ceremonies with a motivational speech from a keynote speaker. \nThursday afternoon will have several training opportunities. There will be three training sessions of Forcible Entry prop/breaching\, EMS – triaging mass casualty incidents\, and Wildland Urban Interface. \nThursday will conclude with dinner at the local Elk’s lodge. \nFriday\nFriday will start with the manipulative skills competition with courses continuing from Thursday; followed by 3 training sessions and live fire training going into the afternoon( the live fire safety briefing is a mandatory session for those participating in the live fire training). \nFriday evening will conclude with dinner and horseshoes. \nSaturday\nSaturday will begin with the Firefighter Memorial Parade that leads into the NSFA Business Meeting. \nSaturday afternoon will mark the start of the water fight and monkey drill competitions. \nSaturday evening will conclude the conference with the NSFA Banquet. \nReady to register?\n\nMake sure your NSFA dues are up-to-date.\n\nPrint\, Fill out\, and Mail the NSFA Membership Application; or\nComing Soon!!! Pay your dues online!\n\n\nRegister for conference!\n\nFill out\, Print\, and Mail the 83rd Annual Fire Training Conference Registration Form; or\nRegister for Conference online!\n\n\nFind a Place to stay. (see available hotels above)\nCheck out some of the conference events. (see event highlights above)\nCome to Conference!\n\n*Register before June 7th to avoid a late registration fee! If you register after June 6th\, an additional $15.00 Late Registration Fee will be added to your total due. Meals may not be available for late registrants and a refund will be given.
URL:https://elynevada.net/event/83rd-annual-nsfa-training-conference/
LOCATION:NV
CATEGORIES:Conference
ATTACH;FMTTYPE=image/jpeg:https://elynevada.net/wp-content/uploads/2018/06/83conferencelogo1-300x267.jpg
END:VEVENT
BEGIN:VEVENT
DTSTART;TZID=UTC:20180609T080000
DTEND;TZID=UTC:20180609T170000
DTSTAMP:20260425T094432
CREATED:20180514T115732Z
LAST-MODIFIED:20180514T115735Z
UID:10000134-1528531200-1528563600@elynevada.net
SUMMARY:Fears\, Tears\, and Beers
DESCRIPTION:
URL:https://elynevada.net/event/fears-tears-and-beers/
LOCATION:Broadbent Park
CATEGORIES:Races,Sports
ATTACH;FMTTYPE=image/jpeg:https://elynevada.net/wp-content/uploads/2018/05/PJ-6216_1200-site-1.jpg
END:VEVENT
END:VCALENDAR