BEGIN:VCALENDAR
VERSION:2.0
PRODID:-//Welcome To Ely - ECPv6.15.20//NONSGML v1.0//EN
CALSCALE:GREGORIAN
METHOD:PUBLISH
X-ORIGINAL-URL:https://elynevada.net
X-WR-CALDESC:Events for Welcome To Ely
REFRESH-INTERVAL;VALUE=DURATION:PT1H
X-Robots-Tag:noindex
X-PUBLISHED-TTL:PT1H
BEGIN:VTIMEZONE
TZID:America/Los_Angeles
BEGIN:DAYLIGHT
TZOFFSETFROM:-0800
TZOFFSETTO:-0700
TZNAME:PDT
DTSTART:20230312T100000
END:DAYLIGHT
BEGIN:STANDARD
TZOFFSETFROM:-0700
TZOFFSETTO:-0800
TZNAME:PST
DTSTART:20231105T090000
END:STANDARD
BEGIN:DAYLIGHT
TZOFFSETFROM:-0800
TZOFFSETTO:-0700
TZNAME:PDT
DTSTART:20240310T100000
END:DAYLIGHT
BEGIN:STANDARD
TZOFFSETFROM:-0700
TZOFFSETTO:-0800
TZNAME:PST
DTSTART:20241103T090000
END:STANDARD
BEGIN:DAYLIGHT
TZOFFSETFROM:-0800
TZOFFSETTO:-0700
TZNAME:PDT
DTSTART:20250309T100000
END:DAYLIGHT
BEGIN:STANDARD
TZOFFSETFROM:-0700
TZOFFSETTO:-0800
TZNAME:PST
DTSTART:20251102T090000
END:STANDARD
END:VTIMEZONE
BEGIN:VEVENT
DTSTART;TZID=America/Los_Angeles:20240606T154500
DTEND;TZID=America/Los_Angeles:20240606T164500
DTSTAMP:20260425T062628
CREATED:20240321T181611Z
LAST-MODIFIED:20240321T181612Z
UID:10002091-1717688700-1717692300@elynevada.net
SUMMARY:Atlas Club
DESCRIPTION:Atlas Club\nAges 8-10
URL:https://elynevada.net/event/atlas-club-2/2024-06-06/
LOCATION:White Pine County Library\, 950 Campton St\, Ely\, NV\, 89301\, United States
CATEGORIES:Community
ATTACH;FMTTYPE=image/jpeg:https://elynevada.net/wp-content/uploads/2024/02/liiiiiiiiiiiiiiiiibbbbbbbbbbbbbbbrrrrrrraaaaaaarrrrrrrrryyyyyyyyyyy.jpg
END:VEVENT
BEGIN:VEVENT
DTSTART;TZID=America/Los_Angeles:20240606T163000
DTEND;TZID=America/Los_Angeles:20240606T180000
DTSTAMP:20260425T062628
CREATED:20240201T070211Z
LAST-MODIFIED:20240820T204434Z
UID:10002909-1717691400-1717696800@elynevada.net
SUMMARY:NNRY Robinson Canyon Excursion
DESCRIPTION:NNRY Robinson Canyon Excursion\nThe NNRY’s Regular Excursion Train through Robinson Canyon.
URL:https://elynevada.net/event/nnry-robinson-canyon-excursion/2024-06-06/
LOCATION:Nevada Northern Railway\, 1100 Avenue A\, Ely\, NV\, 89301\, United States
CATEGORIES:History
ATTACH;FMTTYPE=image/jpeg:https://elynevada.net/wp-content/uploads/2024/01/NNRY-Diesel-204.jpg
END:VEVENT
BEGIN:VEVENT
DTSTART;TZID=America/Los_Angeles:20240606T180000
DTEND;TZID=America/Los_Angeles:20240606T203000
DTSTAMP:20260425T062628
CREATED:20240405T001511Z
LAST-MODIFIED:20240405T001511Z
UID:10002549-1717696800-1717705800@elynevada.net
SUMMARY:Ely Elks Lodge Bingo
DESCRIPTION:Ely Elks Lodge Bingo\nBingo every first Thursday at the Ely Elks Lodge. Hot dogs and Chili are sold. Great time\, great people\, and BINGO!!!
URL:https://elynevada.net/event/ely-elks-lodge-bingo-2/2024-06-06/
LOCATION:Ely Elks Lodge\, 694 Campton St.\, Ely\, NV\, 89301\, United States
CATEGORIES:Community,Sports
ATTACH;FMTTYPE=image/png:https://elynevada.net/wp-content/uploads/2023/01/Ely-Elks-Lodge-Bingo.png
ORGANIZER;CN="Ely Elks Lodge":MAILTO:elyelks1469@att.net
END:VEVENT
BEGIN:VEVENT
DTSTART;TZID=America/Los_Angeles:20240607T100000
DTEND;TZID=America/Los_Angeles:20240607T160000
DTSTAMP:20260425T062628
CREATED:20220126T050016Z
LAST-MODIFIED:20240503T214517Z
UID:10002736-1717754400-1717776000@elynevada.net
SUMMARY:Ely Renaissance Village Open
DESCRIPTION:Ely Renaissance Village Open!\nFor the ultimate heritage experience of White Pine County\, the Ely Renaissance Village may top the list.\nTour a total of nine houses\, seven of which have each been themed after a different ethnic background that helped shape our community. The Village is made for vacation planning and is open Fridays and Saturdays in the summer. Check out the 360 video below\, which allows you to click and drag different views as it provides you a feel for the site before visiting it in person: https://bit.ly/3hGMr5d\n\nLearn More Here!\n\nTravel Nevada
URL:https://elynevada.net/event/ely-renaissance-village-open/2024-06-07/
LOCATION:Ely Renaissance Village\, 400\, Ely\, NV\, 89301\, United States
CATEGORIES:Community,History
ATTACH;FMTTYPE=image/jpeg:https://elynevada.net/wp-content/uploads/2022/01/CoopyRenVillage4_SM.jpg
END:VEVENT
BEGIN:VEVENT
DTSTART;TZID=America/Los_Angeles:20240607T163000
DTEND;TZID=America/Los_Angeles:20240607T180000
DTSTAMP:20260425T062628
CREATED:20240201T070211Z
LAST-MODIFIED:20240820T204434Z
UID:10002910-1717777800-1717783200@elynevada.net
SUMMARY:NNRY Robinson Canyon Excursion
DESCRIPTION:NNRY Robinson Canyon Excursion\nThe NNRY’s Regular Excursion Train through Robinson Canyon.
URL:https://elynevada.net/event/nnry-robinson-canyon-excursion/2024-06-07/
LOCATION:Nevada Northern Railway\, 1100 Avenue A\, Ely\, NV\, 89301\, United States
CATEGORIES:History
ATTACH;FMTTYPE=image/jpeg:https://elynevada.net/wp-content/uploads/2024/01/NNRY-Diesel-204.jpg
END:VEVENT
BEGIN:VEVENT
DTSTART;TZID=America/Los_Angeles:20240607T180000
DTEND;TZID=America/Los_Angeles:20240607T200000
DTSTAMP:20260425T062628
CREATED:20230615T134139Z
LAST-MODIFIED:20240506T210429Z
UID:10002709-1717783200-1717790400@elynevada.net
SUMMARY:First Friday Night Markets in Baker
DESCRIPTION:First Friday Night Markets in Baker\n\nMark your calendars and join the fun!! There’s a new event in downtown Baker\, NV!\n\n\n\nThe First Friday Night Market is happening from 6-8pm on June 7\, July 5\, August 2\, September 6 and October 4.\n\n\n\nThroughout downtown Baker there will be outside activities\, music and specialty items for sale\, along with delicious dining options.\n\n\n\nCome take a stroll! Enjoy an evening under the Great Basin skies! Bring your family and friends! Fun for all ages.
URL:https://elynevada.net/event/first-friday-night-markets-in-baker/
LOCATION:Downtown Baker\, Baker\, NV\, United States
CATEGORIES:Arts & Culture,Community
END:VEVENT
BEGIN:VEVENT
DTSTART;VALUE=DATE:20240608
DTEND;VALUE=DATE:20240609
DTSTAMP:20260425T062628
CREATED:20230124T075934Z
LAST-MODIFIED:20240322T203649Z
UID:10000540-1717804800-1717891199@elynevada.net
SUMMARY:Fears\, Tears\, and Beers 2024
DESCRIPTION:Fears\, Tears\, and Beers 2024\nFears\, Tears\, and Beers 2024 is the enduro format mountain bike event of the season! Pedal your bike to the top of the mountain and then you are timed at specific sections of the course. There will be 2-6 timed sections\, mostly twisty downhills and sprint sections. The sum of the times on these special tests will determine the winner.\n\nThe event takes place on BLM and USFS administered lands under special use permits.\n\nMen’s and women’s events for all classes.\n\nFun Run: Shorter in length and less climbing than the beginner class\, 2 timed sections\nBeginner Class: 17.5 miles\, 2\,300′ elevation gain\, 3 timed sections\nSport Class: 26.6 miles\, 3\,500′ elevation gain\, 4 timed sections\nExpert/Pro Class: 33.3 miles\, 5\,400′ elevation gain\, 6 timed sections\nBe prepared for the weather. We have had everything from hot and sunny to very wet and snowing. \nAfter-party/awards ceremony at Bristlecone Convention Center\nRacers eat free\, others will need purchase wristband for $10.\n\nThe event is also great for visitors. Music and celebrating all day at Broadbent Park. Bring your binoculars and lawn chairs to watch the Expert and Pro classes take on the final downhill timed section.\n\nJune 8th – Check in begins at 8:00 a.m. Races start 9 a.m.\nFun Ride\, Beginners\, Sport\, Expert and Pro\n1st 2nd and 3rd awarded in each class\nContact Kent Robertson-(775-289-6042) or Kelly Ernest-(775-296-0910) for more information. \nStay Updated by Following This Event on Facebook HERE!\nLearn More and Register For the Event HERE!
URL:https://elynevada.net/event/fears-tears-and-beers-2024/
LOCATION:Ely\, NV\, 89301\, United States
CATEGORIES:History,Races,Sports
ATTACH;FMTTYPE=image/jpeg:https://elynevada.net/wp-content/uploads/2023/01/Fears-Tears-and-Beers-2023.jpg
ORGANIZER;CN="Great Basin Trails Stewardship":MAILTO:krobeg@mwpower.net
END:VEVENT
BEGIN:VEVENT
DTSTART;TZID=America/Los_Angeles:20240608T080000
DTEND;TZID=America/Los_Angeles:20240608T100000
DTSTAMP:20260425T062628
CREATED:20240523T232310Z
LAST-MODIFIED:20240523T232311Z
UID:10002819-1717833600-1717840800@elynevada.net
SUMMARY:FREE FISHING DAY
DESCRIPTION: 
URL:https://elynevada.net/event/free-fishing-day/
LOCATION:Comins Lake\, Lake in Nevada\, Ely\, NV\, United States
CATEGORIES:Sports
ATTACH;FMTTYPE=image/png:https://elynevada.net/wp-content/uploads/2024/05/2.png
END:VEVENT
BEGIN:VEVENT
DTSTART;TZID=America/Los_Angeles:20240608T100000
DTEND;TZID=America/Los_Angeles:20240608T160000
DTSTAMP:20260425T062628
CREATED:20220126T050016Z
LAST-MODIFIED:20240503T214517Z
UID:10002737-1717840800-1717862400@elynevada.net
SUMMARY:Ely Renaissance Village Open
DESCRIPTION:Ely Renaissance Village Open!\nFor the ultimate heritage experience of White Pine County\, the Ely Renaissance Village may top the list.\nTour a total of nine houses\, seven of which have each been themed after a different ethnic background that helped shape our community. The Village is made for vacation planning and is open Fridays and Saturdays in the summer. Check out the 360 video below\, which allows you to click and drag different views as it provides you a feel for the site before visiting it in person: https://bit.ly/3hGMr5d\n\nLearn More Here!\n\nTravel Nevada
URL:https://elynevada.net/event/ely-renaissance-village-open/2024-06-08/
LOCATION:Ely Renaissance Village\, 400\, Ely\, NV\, 89301\, United States
CATEGORIES:Community,History
ATTACH;FMTTYPE=image/jpeg:https://elynevada.net/wp-content/uploads/2022/01/CoopyRenVillage4_SM.jpg
END:VEVENT
BEGIN:VEVENT
DTSTART;TZID=America/Los_Angeles:20240609T113000
DTEND;TZID=America/Los_Angeles:20240609T130000
DTSTAMP:20260425T062628
CREATED:20240201T064344Z
LAST-MODIFIED:20240820T204722Z
UID:10002956-1717932600-1717938000@elynevada.net
SUMMARY:NNRY Sunday Mornin' Excursion Train
DESCRIPTION:NNRY Excursion Train\nThe NNRY’s Regular Excursion Train through Robinson Canyon or Valley Vista. \nBook Your Ticket\, Discover Which Train is Running\, and More at www.NNRY.com!
URL:https://elynevada.net/event/nnry-sunday-mornin-excursion-train/2024-06-09/
LOCATION:Nevada Northern Railway\, 1100 Avenue A\, Ely\, NV\, 89301\, United States
CATEGORIES:History
ATTACH;FMTTYPE=image/jpeg:https://elynevada.net/wp-content/uploads/2020/11/Test-7.jpg
END:VEVENT
BEGIN:VEVENT
DTSTART;TZID=America/Los_Angeles:20240610T093000
DTEND;TZID=America/Los_Angeles:20240610T230000
DTSTAMP:20260425T062628
CREATED:20240201T065113Z
LAST-MODIFIED:20240820T205023Z
UID:10002983-1718011800-1718060400@elynevada.net
SUMMARY:NNRY Excursion Train
DESCRIPTION:NNRY Excursion Train\nThe NNRY’s Regular Excursion Train through Robinson Canyon or Valley Vista. \nBook Your Ticket\, Discover Which Train is Running\, and More at www.NNRY.com!
URL:https://elynevada.net/event/nnry-excursion-train-2/2024-06-10/
LOCATION:Nevada Northern Railway\, 1100 Avenue A\, Ely\, NV\, 89301\, United States
CATEGORIES:History
ATTACH;FMTTYPE=image/jpeg:https://elynevada.net/wp-content/uploads/2020/11/Test-7.jpg
END:VEVENT
BEGIN:VEVENT
DTSTART;TZID=America/Los_Angeles:20240610T153000
DTEND;TZID=America/Los_Angeles:20240610T170000
DTSTAMP:20260425T062628
CREATED:20240321T181441Z
LAST-MODIFIED:20240321T181442Z
UID:10001978-1718033400-1718038800@elynevada.net
SUMMARY:11&Up Club
DESCRIPTION:11&Up Club\n3:45 – 5 PM
URL:https://elynevada.net/event/11up-club-2/2024-06-10/
LOCATION:White Pine County Library\, 950 Campton St\, Ely\, NV\, 89301\, United States
CATEGORIES:Community
ATTACH;FMTTYPE=image/jpeg:https://elynevada.net/wp-content/uploads/2024/02/liiiiiiiiiiiiiiiiibbbbbbbbbbbbbbbrrrrrrraaaaaaarrrrrrrrryyyyyyyyyyy.jpg
END:VEVENT
BEGIN:VEVENT
DTSTART;TZID=America/Los_Angeles:20240610T153000
DTEND;TZID=America/Los_Angeles:20240610T180000
DTSTAMP:20260425T062628
CREATED:20240321T181428Z
LAST-MODIFIED:20240321T181428Z
UID:10001929-1718033400-1718042400@elynevada.net
SUMMARY:Roaring Readers
DESCRIPTION:Roaring Readers\nAges 5-7: 3:35-4:45 PM
URL:https://elynevada.net/event/roaring-readers-2/2024-06-10/
LOCATION:White Pine County Library\, 950 Campton St\, Ely\, NV\, 89301\, United States
CATEGORIES:Community
ATTACH;FMTTYPE=image/jpeg:https://elynevada.net/wp-content/uploads/2024/02/liiiiiiiiiiiiiiiiibbbbbbbbbbbbbbbrrrrrrraaaaaaarrrrrrrrryyyyyyyyyyy.jpg
END:VEVENT
BEGIN:VEVENT
DTSTART;TZID=America/Los_Angeles:20240610T154500
DTEND;TZID=America/Los_Angeles:20240610T164500
DTSTAMP:20260425T062628
CREATED:20240321T181611Z
LAST-MODIFIED:20240321T181612Z
UID:10002092-1718034300-1718037900@elynevada.net
SUMMARY:Atlas Club
DESCRIPTION:Atlas Club\nAges 8-10
URL:https://elynevada.net/event/atlas-club-2/2024-06-10/
LOCATION:White Pine County Library\, 950 Campton St\, Ely\, NV\, 89301\, United States
CATEGORIES:Community
ATTACH;FMTTYPE=image/jpeg:https://elynevada.net/wp-content/uploads/2024/02/liiiiiiiiiiiiiiiiibbbbbbbbbbbbbbbrrrrrrraaaaaaarrrrrrrrryyyyyyyyyyy.jpg
END:VEVENT
BEGIN:VEVENT
DTSTART;TZID=America/Los_Angeles:20240611T093000
DTEND;TZID=America/Los_Angeles:20240611T230000
DTSTAMP:20260425T062628
CREATED:20240201T065113Z
LAST-MODIFIED:20240820T205023Z
UID:10002984-1718098200-1718146800@elynevada.net
SUMMARY:NNRY Excursion Train
DESCRIPTION:NNRY Excursion Train\nThe NNRY’s Regular Excursion Train through Robinson Canyon or Valley Vista. \nBook Your Ticket\, Discover Which Train is Running\, and More at www.NNRY.com!
URL:https://elynevada.net/event/nnry-excursion-train-2/2024-06-11/
LOCATION:Nevada Northern Railway\, 1100 Avenue A\, Ely\, NV\, 89301\, United States
CATEGORIES:History
ATTACH;FMTTYPE=image/jpeg:https://elynevada.net/wp-content/uploads/2020/11/Test-7.jpg
END:VEVENT
BEGIN:VEVENT
DTSTART;TZID=America/Los_Angeles:20240612T093000
DTEND;TZID=America/Los_Angeles:20240612T230000
DTSTAMP:20260425T062628
CREATED:20240201T065113Z
LAST-MODIFIED:20240820T205023Z
UID:10002985-1718184600-1718233200@elynevada.net
SUMMARY:NNRY Excursion Train
DESCRIPTION:NNRY Excursion Train\nThe NNRY’s Regular Excursion Train through Robinson Canyon or Valley Vista. \nBook Your Ticket\, Discover Which Train is Running\, and More at www.NNRY.com!
URL:https://elynevada.net/event/nnry-excursion-train-2/2024-06-12/
LOCATION:Nevada Northern Railway\, 1100 Avenue A\, Ely\, NV\, 89301\, United States
CATEGORIES:History
ATTACH;FMTTYPE=image/jpeg:https://elynevada.net/wp-content/uploads/2020/11/Test-7.jpg
END:VEVENT
BEGIN:VEVENT
DTSTART;TZID=America/Los_Angeles:20240613T154500
DTEND;TZID=America/Los_Angeles:20240613T164500
DTSTAMP:20260425T062628
CREATED:20240321T181611Z
LAST-MODIFIED:20240321T181612Z
UID:10002093-1718293500-1718297100@elynevada.net
SUMMARY:Atlas Club
DESCRIPTION:Atlas Club\nAges 8-10
URL:https://elynevada.net/event/atlas-club-2/2024-06-13/
LOCATION:White Pine County Library\, 950 Campton St\, Ely\, NV\, 89301\, United States
CATEGORIES:Community
ATTACH;FMTTYPE=image/jpeg:https://elynevada.net/wp-content/uploads/2024/02/liiiiiiiiiiiiiiiiibbbbbbbbbbbbbbbrrrrrrraaaaaaarrrrrrrrryyyyyyyyyyy.jpg
END:VEVENT
BEGIN:VEVENT
DTSTART;TZID=America/Los_Angeles:20240613T163000
DTEND;TZID=America/Los_Angeles:20240613T180000
DTSTAMP:20260425T062628
CREATED:20240201T070211Z
LAST-MODIFIED:20240820T204434Z
UID:10002911-1718296200-1718301600@elynevada.net
SUMMARY:NNRY Robinson Canyon Excursion
DESCRIPTION:NNRY Robinson Canyon Excursion\nThe NNRY’s Regular Excursion Train through Robinson Canyon.
URL:https://elynevada.net/event/nnry-robinson-canyon-excursion/2024-06-13/
LOCATION:Nevada Northern Railway\, 1100 Avenue A\, Ely\, NV\, 89301\, United States
CATEGORIES:History
ATTACH;FMTTYPE=image/jpeg:https://elynevada.net/wp-content/uploads/2024/01/NNRY-Diesel-204.jpg
END:VEVENT
BEGIN:VEVENT
DTSTART;TZID=America/Los_Angeles:20240614T100000
DTEND;TZID=America/Los_Angeles:20240614T160000
DTSTAMP:20260425T062628
CREATED:20220126T050016Z
LAST-MODIFIED:20240503T214517Z
UID:10002738-1718359200-1718380800@elynevada.net
SUMMARY:Ely Renaissance Village Open
DESCRIPTION:Ely Renaissance Village Open!\nFor the ultimate heritage experience of White Pine County\, the Ely Renaissance Village may top the list.\nTour a total of nine houses\, seven of which have each been themed after a different ethnic background that helped shape our community. The Village is made for vacation planning and is open Fridays and Saturdays in the summer. Check out the 360 video below\, which allows you to click and drag different views as it provides you a feel for the site before visiting it in person: https://bit.ly/3hGMr5d\n\nLearn More Here!\n\nTravel Nevada
URL:https://elynevada.net/event/ely-renaissance-village-open/2024-06-14/
LOCATION:Ely Renaissance Village\, 400\, Ely\, NV\, 89301\, United States
CATEGORIES:Community,History
ATTACH;FMTTYPE=image/jpeg:https://elynevada.net/wp-content/uploads/2022/01/CoopyRenVillage4_SM.jpg
END:VEVENT
BEGIN:VEVENT
DTSTART;TZID=America/Los_Angeles:20240614T163000
DTEND;TZID=America/Los_Angeles:20240614T180000
DTSTAMP:20260425T062628
CREATED:20240201T070211Z
LAST-MODIFIED:20240820T204434Z
UID:10002912-1718382600-1718388000@elynevada.net
SUMMARY:NNRY Robinson Canyon Excursion
DESCRIPTION:NNRY Robinson Canyon Excursion\nThe NNRY’s Regular Excursion Train through Robinson Canyon.
URL:https://elynevada.net/event/nnry-robinson-canyon-excursion/2024-06-14/
LOCATION:Nevada Northern Railway\, 1100 Avenue A\, Ely\, NV\, 89301\, United States
CATEGORIES:History
ATTACH;FMTTYPE=image/jpeg:https://elynevada.net/wp-content/uploads/2024/01/NNRY-Diesel-204.jpg
END:VEVENT
BEGIN:VEVENT
DTSTART;TZID=America/Los_Angeles:20240615T070000
DTEND;TZID=America/Los_Angeles:20240615T130000
DTSTAMP:20260425T062629
CREATED:20230125T052725Z
LAST-MODIFIED:20240322T204119Z
UID:10000541-1718434800-1718456400@elynevada.net
SUMMARY:Ward Mountain Trail Run 2024
DESCRIPTION:Ward Mountain Trail Run 2024\nThe Ward Mountain Trail Run 2024 on June 15th starts and ends at the Ward Mountain Campground (Group Site A) in Ely\, Nevada. Choose from 2+\, 5.5+\, 8.5+\, and 13+ mile courses that winds through mostly single-track trails of Ward Mountain. You don’t want to miss this race with outstanding trails and scenery! Register quickly because this event closes at 100 participants!\n\nPrices:\n2+ miles = $25\n5.5+ miles = $35\n8.5+ miles = $45\n13+ mles = $55\n\nDogs will be permitted for an extra $5. One dog per participant of 13 years or older. Specific rules apply for those running with dogs.\n\nEvent details can be found at elyoutdoorenthusiasts.org\nDiscover More Events to do this summer HERE!
URL:https://elynevada.net/event/ward-mountain-trail-run-2023/
LOCATION:NV
CATEGORIES:Community,Sports
ATTACH;FMTTYPE=image/jpeg:https://elynevada.net/wp-content/uploads/2023/01/Ward-Mountain-Trail-Run-2023.jpg
END:VEVENT
BEGIN:VEVENT
DTSTART;TZID=America/Los_Angeles:20240615T100000
DTEND;TZID=America/Los_Angeles:20240615T160000
DTSTAMP:20260425T062629
CREATED:20220126T050016Z
LAST-MODIFIED:20240503T214517Z
UID:10002739-1718445600-1718467200@elynevada.net
SUMMARY:Ely Renaissance Village Open
DESCRIPTION:Ely Renaissance Village Open!\nFor the ultimate heritage experience of White Pine County\, the Ely Renaissance Village may top the list.\nTour a total of nine houses\, seven of which have each been themed after a different ethnic background that helped shape our community. The Village is made for vacation planning and is open Fridays and Saturdays in the summer. Check out the 360 video below\, which allows you to click and drag different views as it provides you a feel for the site before visiting it in person: https://bit.ly/3hGMr5d\n\nLearn More Here!\n\nTravel Nevada
URL:https://elynevada.net/event/ely-renaissance-village-open/2024-06-15/
LOCATION:Ely Renaissance Village\, 400\, Ely\, NV\, 89301\, United States
CATEGORIES:Community,History
ATTACH;FMTTYPE=image/jpeg:https://elynevada.net/wp-content/uploads/2022/01/CoopyRenVillage4_SM.jpg
END:VEVENT
BEGIN:VEVENT
DTSTART;TZID=America/Los_Angeles:20240615T120000
DTEND;TZID=America/Los_Angeles:20240615T150000
DTSTAMP:20260425T062629
CREATED:20240504T000701Z
LAST-MODIFIED:20240504T000701Z
UID:10002809-1718452800-1718463600@elynevada.net
SUMMARY:Adventures With Storytelling
DESCRIPTION:Adventures With Storytelling\nAdventures With Storytelling Featuring: Ginger
URL:https://elynevada.net/event/adventures-with-storytelling/
LOCATION:White Pine County Library\, 950 Campton St\, Ely\, NV\, 89301\, United States
END:VEVENT
BEGIN:VEVENT
DTSTART;TZID=America/Los_Angeles:20240615T133000
DTEND;TZID=America/Los_Angeles:20240615T160000
DTSTAMP:20260425T062629
CREATED:20240515T234724Z
LAST-MODIFIED:20240515T234726Z
UID:10002813-1718458200-1718467200@elynevada.net
SUMMARY:Summer Reading Program Kick Off Tie Dye Extravaganza!
DESCRIPTION:Summer Reading Program Kick Off Tie Dye Extravaganza!\nThe White Pine County Library presents Summer Reading Program Kick Off Tie Dye Extravaganza! \nBring your own item to tie dye. The Library will supply the dye! \nRegister for the Summer Reading Program! \n1:30pm \nor \nImmediately after the Story Telling Event on Saturday\, June 15th\, 2024 \nAt Veterans Park in front of the White Pine County Library. \nANY WHITE COTTON ITEM WILL DO! Sponsored by KGHM Robinson Mine.
URL:https://elynevada.net/event/summer-reading-program-kick-off-tie-dye-extravaganza/
LOCATION:White Pine County Library\, 950 Campton St\, Ely\, NV\, 89301\, United States
CATEGORIES:Arts & Culture,Community
ATTACH;FMTTYPE=image/jpeg:https://elynevada.net/wp-content/uploads/2024/05/Pastel-Modern-Cute-Abstract-Grand-Opening-Flyer-A4-1.jpg
END:VEVENT
BEGIN:VEVENT
DTSTART;TZID=America/Los_Angeles:20240615T160000
DTEND;TZID=America/Los_Angeles:20240615T183000
DTSTAMP:20260425T062629
CREATED:20240506T222508Z
LAST-MODIFIED:20240506T223216Z
UID:10002810-1718467200-1718476200@elynevada.net
SUMMARY:Fourth Annual Motorcycle Rodeo
DESCRIPTION:Fourth Annual Motorcycle Rodeo\nThe Fourth Annual Motorcycle Rodeo is coming to the White Pine County Fairgrounds on June 15th! Hosted by White Pine Productions\, catch a glimpse of an event with all the technicality of a traditional rodeo but motor-crossed to the max.\n\nBeginning at 4:00 p.m.\, expect 3 exciting events: straight away sprints\, poles\, and barrels! Enter now\, and the winner of each division wins a custom belt buckle!\n\nThere are no restrictions on dirt bikes\, and quads are welcomes\, but spots are limited. Contact Ben Noyes at (435) 691 – 2536 to register.\nRegistration CLOSES June 7\, 2024. There will be NO “DAY-OF” SIGN UPS.\n\nEntry Fee: $50.00\nMandatory Rider Pre Meeting at 3:30pm\nSpectator Fee: $10.00\nGrand Entry at 4:00pm / Bar & Concessions\n\nSponsored By:\nPMK1 LLC/Hot-potato Property\nCopper Queen/Ramada Inn\nJW Electric\nPattern Energy/Spring Valley Wind Energy\nFirst National Bank\nSahara Motors\nKGHM Robinson Mine\n\nAbout White Pine Productions:\nWhite Pine Productions are hosts to many events throughout the year. Their events typically cover all things rodeo: 4D barrel racing\, poles\, roping\, etc.\nAll take place at the White Pine County Fairgrounds. White Pine Productions is currently running their 2024 Summer Series of events.\nFor the full list\, check out group on Facebook HERE\, or contact:\n\nBen Noyes (435) 691-2536\nJamie Noyes (775) 293-0892\nDon't Know Where to Stay? Check Out Our Lodging Options HERE!\nDiscover More To See and Do in White Pine County HERE!
URL:https://elynevada.net/event/fourth-annual-motorcycle-rodeo/
LOCATION:White Pine County Fairgrounds\, 78 n mcgill hwy\, Ely\, NV\, United States
CATEGORIES:Community,Sports
ATTACH;FMTTYPE=image/jpeg:https://elynevada.net/wp-content/uploads/2024/05/Motorcycle-Rodeo_2024_1640x856.jpg
ORGANIZER;CN="White Pine Productions":MAILTO:wpprosnv@gmail.com
END:VEVENT
BEGIN:VEVENT
DTSTART;TZID=America/Los_Angeles:20240615T170000
DTEND;TZID=America/Los_Angeles:20240615T200000
DTSTAMP:20260425T062629
CREATED:20240521T194115Z
LAST-MODIFIED:20240521T194136Z
UID:10002814-1718470800-1718481600@elynevada.net
SUMMARY:A Robin Knows Party
DESCRIPTION:A Robin Knows Party\nEveryone is invited to the Ely Renaissance Village’s 20th birthday party with a celebration of the site’s recent short film\, A Robin Knows. \nCast members from A Robin Knows will be in their respective houses and in full dress. \nJune 15th \n5pm-8pm \nExpect food\, drinks\, and live music! \nA ticket is a $10 donation for the Renaissance Village
URL:https://elynevada.net/event/a-robin-knows-party/
LOCATION:Ely Renaissance Village\, 400\, Ely\, NV\, 89301\, United States
CATEGORIES:Arts & Culture,Community
ATTACH;FMTTYPE=image/jpeg:https://elynevada.net/wp-content/uploads/2024/05/A-Robin-Knows-Party-scaled.jpg
END:VEVENT
BEGIN:VEVENT
DTSTART;TZID=America/Los_Angeles:20240616T113000
DTEND;TZID=America/Los_Angeles:20240616T130000
DTSTAMP:20260425T062629
CREATED:20240201T064344Z
LAST-MODIFIED:20240820T204722Z
UID:10002957-1718537400-1718542800@elynevada.net
SUMMARY:NNRY Sunday Mornin' Excursion Train
DESCRIPTION:NNRY Excursion Train\nThe NNRY’s Regular Excursion Train through Robinson Canyon or Valley Vista. \nBook Your Ticket\, Discover Which Train is Running\, and More at www.NNRY.com!
URL:https://elynevada.net/event/nnry-sunday-mornin-excursion-train/2024-06-16/
LOCATION:Nevada Northern Railway\, 1100 Avenue A\, Ely\, NV\, 89301\, United States
CATEGORIES:History
ATTACH;FMTTYPE=image/jpeg:https://elynevada.net/wp-content/uploads/2020/11/Test-7.jpg
END:VEVENT
BEGIN:VEVENT
DTSTART;TZID=America/Los_Angeles:20240617T093000
DTEND;TZID=America/Los_Angeles:20240617T230000
DTSTAMP:20260425T062629
CREATED:20240201T065113Z
LAST-MODIFIED:20240820T205023Z
UID:10002986-1718616600-1718665200@elynevada.net
SUMMARY:NNRY Excursion Train
DESCRIPTION:NNRY Excursion Train\nThe NNRY’s Regular Excursion Train through Robinson Canyon or Valley Vista. \nBook Your Ticket\, Discover Which Train is Running\, and More at www.NNRY.com!
URL:https://elynevada.net/event/nnry-excursion-train-2/2024-06-17/
LOCATION:Nevada Northern Railway\, 1100 Avenue A\, Ely\, NV\, 89301\, United States
CATEGORIES:History
ATTACH;FMTTYPE=image/jpeg:https://elynevada.net/wp-content/uploads/2020/11/Test-7.jpg
END:VEVENT
BEGIN:VEVENT
DTSTART;TZID=America/Los_Angeles:20240617T153000
DTEND;TZID=America/Los_Angeles:20240617T170000
DTSTAMP:20260425T062629
CREATED:20240321T181441Z
LAST-MODIFIED:20240321T181442Z
UID:10001979-1718638200-1718643600@elynevada.net
SUMMARY:11&Up Club
DESCRIPTION:11&Up Club\n3:45 – 5 PM
URL:https://elynevada.net/event/11up-club-2/2024-06-17/
LOCATION:White Pine County Library\, 950 Campton St\, Ely\, NV\, 89301\, United States
CATEGORIES:Community
ATTACH;FMTTYPE=image/jpeg:https://elynevada.net/wp-content/uploads/2024/02/liiiiiiiiiiiiiiiiibbbbbbbbbbbbbbbrrrrrrraaaaaaarrrrrrrrryyyyyyyyyyy.jpg
END:VEVENT
BEGIN:VEVENT
DTSTART;TZID=America/Los_Angeles:20240617T153000
DTEND;TZID=America/Los_Angeles:20240617T180000
DTSTAMP:20260425T062629
CREATED:20240321T181428Z
LAST-MODIFIED:20240321T181428Z
UID:10001930-1718638200-1718647200@elynevada.net
SUMMARY:Roaring Readers
DESCRIPTION:Roaring Readers\nAges 5-7: 3:35-4:45 PM
URL:https://elynevada.net/event/roaring-readers-2/2024-06-17/
LOCATION:White Pine County Library\, 950 Campton St\, Ely\, NV\, 89301\, United States
CATEGORIES:Community
ATTACH;FMTTYPE=image/jpeg:https://elynevada.net/wp-content/uploads/2024/02/liiiiiiiiiiiiiiiiibbbbbbbbbbbbbbbrrrrrrraaaaaaarrrrrrrrryyyyyyyyyyy.jpg
END:VEVENT
END:VCALENDAR