BEGIN:VCALENDAR
VERSION:2.0
PRODID:-//Welcome To Ely - ECPv6.15.20//NONSGML v1.0//EN
CALSCALE:GREGORIAN
METHOD:PUBLISH
X-WR-CALNAME:Welcome To Ely
X-ORIGINAL-URL:https://elynevada.net
X-WR-CALDESC:Events for Welcome To Ely
REFRESH-INTERVAL;VALUE=DURATION:PT1H
X-Robots-Tag:noindex
X-PUBLISHED-TTL:PT1H
BEGIN:VTIMEZONE
TZID:America/Los_Angeles
BEGIN:DAYLIGHT
TZOFFSETFROM:-0800
TZOFFSETTO:-0700
TZNAME:PDT
DTSTART:20240310T100000
END:DAYLIGHT
BEGIN:STANDARD
TZOFFSETFROM:-0700
TZOFFSETTO:-0800
TZNAME:PST
DTSTART:20241103T090000
END:STANDARD
BEGIN:DAYLIGHT
TZOFFSETFROM:-0800
TZOFFSETTO:-0700
TZNAME:PDT
DTSTART:20250309T100000
END:DAYLIGHT
BEGIN:STANDARD
TZOFFSETFROM:-0700
TZOFFSETTO:-0800
TZNAME:PST
DTSTART:20251102T090000
END:STANDARD
BEGIN:DAYLIGHT
TZOFFSETFROM:-0800
TZOFFSETTO:-0700
TZNAME:PDT
DTSTART:20260308T100000
END:DAYLIGHT
BEGIN:STANDARD
TZOFFSETFROM:-0700
TZOFFSETTO:-0800
TZNAME:PST
DTSTART:20261101T090000
END:STANDARD
END:VTIMEZONE
BEGIN:VTIMEZONE
TZID:UTC
BEGIN:STANDARD
TZOFFSETFROM:+0000
TZOFFSETTO:+0000
TZNAME:UTC
DTSTART:20240101T000000
END:STANDARD
END:VTIMEZONE
BEGIN:VEVENT
DTSTART;TZID=America/Los_Angeles:20251004T130000
DTEND;TZID=America/Los_Angeles:20251004T150000
DTSTAMP:20260423T142957
CREATED:20250225T223530Z
LAST-MODIFIED:20250303T210956Z
UID:10003489-1759582800-1759590000@elynevada.net
SUMMARY:NNRY Excursion Train
DESCRIPTION:NNRY Excursion Train\nThe NNRY’s Regular Excursion Train through Robinson Canyon or Valley Vista. \nBook Your Ticket\, Discover Which Train is Running\, and More at www.NNRY.com!
URL:https://elynevada.net/event/nnry-excursion-train-3-2/2025-10-04/
LOCATION:Nevada Northern Railway\, 1100 Avenue A\, Ely\, NV\, 89301\, United States
CATEGORIES:History
ATTACH;FMTTYPE=image/jpeg:https://elynevada.net/wp-content/uploads/2020/11/Test-7.jpg
END:VEVENT
BEGIN:VEVENT
DTSTART;TZID=UTC:20251004T130000
DTEND;TZID=UTC:20251004T150000
DTSTAMP:20260423T142957
CREATED:20240202T063134Z
LAST-MODIFIED:20250303T210501Z
UID:10003891-1759582800-1759590000@elynevada.net
SUMMARY:Pumpkin Patch Train
DESCRIPTION:Pumpkin Patch Train\nEnjoy a steam powered train ride to the pumpkin patch. At the end of the track the train will stop\, the conductor will let the passengers off to be greeted by the pumpkin patch and a photo op area is available for a small fall-themed celebration photograph. Passengers will get to choose a pumpkin from the patch to take home with them. The Pumpkin Train runs Oct. 5 and Oct. 12 at 1 p.m. Tickets are $45 for adults\, $38 for seniors and $20 for children ages 4-12\, while children under four ride for free. \nTickets and More Info at www.NNRY.com
URL:https://elynevada.net/event/pumpkin-patch-train/2025-10-04/
LOCATION:Nevada Northern Railway\, 1100 Avenue A\, Ely\, NV\, 89301\, United States
CATEGORIES:Community
ATTACH;FMTTYPE=image/png:https://elynevada.net/wp-content/uploads/2024/02/Mask-group-1-1024x646-1.png
END:VEVENT
BEGIN:VEVENT
DTSTART;TZID=America/Los_Angeles:20251004T100000
DTEND;TZID=America/Los_Angeles:20251004T160000
DTSTAMP:20260423T142957
CREATED:20250128T193920Z
LAST-MODIFIED:20250128T194014Z
UID:10003311-1759572000-1759593600@elynevada.net
SUMMARY:Ely Renaissance Village OPEN
DESCRIPTION:Ely Renaissance Village Open!\nFor the ultimate heritage experience of White Pine County\, the Ely Renaissance Village may top the list.\nTour a total of nine houses\, seven of which have each been themed after a different ethnic background that helped shape our community. The Village is made for vacation planning and is open Fridays and Saturdays in the summer. Check out the 360 video below\, which allows you to click and drag different views as it provides you a feel for the site before visiting it in person: https://bit.ly/3hGMr5d\n\nLearn More Here!
URL:https://elynevada.net/event/ely-renaissance-village-open-2/2025-10-04/
LOCATION:Ely Renaissance Village\, 400\, Ely\, NV\, 89301\, United States
CATEGORIES:Arts & Culture,Community,History
ATTACH;FMTTYPE=image/jpeg:https://elynevada.net/wp-content/uploads/2022/01/CoopyRenVillage4_SM.jpg
END:VEVENT
BEGIN:VEVENT
DTSTART;TZID=America/Los_Angeles:20251003T163000
DTEND;TZID=America/Los_Angeles:20251003T180000
DTSTAMP:20260423T142957
CREATED:20240321T180927Z
LAST-MODIFIED:20250225T224311Z
UID:10003522-1759509000-1759514400@elynevada.net
SUMMARY:NNRY Excursion Train
DESCRIPTION:NNRY Excursion Train\nThe NNRY’s Regular Excursion Train through Robinson Canyon. \nBook Your Ticket\, Discover Which Train is Running\, and More at www.NNRY.com!
URL:https://elynevada.net/event/nnry-excursion-train-3/2025-10-03/
LOCATION:Nevada Northern Railway\, 1100 Avenue A\, Ely\, NV\, 89301\, United States
CATEGORIES:History
ATTACH;FMTTYPE=image/jpeg:https://elynevada.net/wp-content/uploads/2020/11/Test-7.jpg
END:VEVENT
BEGIN:VEVENT
DTSTART;TZID=America/Los_Angeles:20251003T100000
DTEND;TZID=America/Los_Angeles:20251003T160000
DTSTAMP:20260423T142957
CREATED:20250128T193920Z
LAST-MODIFIED:20250128T194014Z
UID:10003310-1759485600-1759507200@elynevada.net
SUMMARY:Ely Renaissance Village OPEN
DESCRIPTION:Ely Renaissance Village Open!\nFor the ultimate heritage experience of White Pine County\, the Ely Renaissance Village may top the list.\nTour a total of nine houses\, seven of which have each been themed after a different ethnic background that helped shape our community. The Village is made for vacation planning and is open Fridays and Saturdays in the summer. Check out the 360 video below\, which allows you to click and drag different views as it provides you a feel for the site before visiting it in person: https://bit.ly/3hGMr5d\n\nLearn More Here!
URL:https://elynevada.net/event/ely-renaissance-village-open-2/2025-10-03/
LOCATION:Ely Renaissance Village\, 400\, Ely\, NV\, 89301\, United States
CATEGORIES:Arts & Culture,Community,History
ATTACH;FMTTYPE=image/jpeg:https://elynevada.net/wp-content/uploads/2022/01/CoopyRenVillage4_SM.jpg
END:VEVENT
BEGIN:VEVENT
DTSTART;TZID=America/Los_Angeles:20251002T180000
DTEND;TZID=America/Los_Angeles:20251002T203000
DTSTAMP:20260423T142957
CREATED:20240405T001511Z
LAST-MODIFIED:20240405T001511Z
UID:10002621-1759428000-1759437000@elynevada.net
SUMMARY:Ely Elks Lodge Bingo
DESCRIPTION:Ely Elks Lodge Bingo\nBingo every first Thursday at the Ely Elks Lodge. Hot dogs and Chili are sold. Great time\, great people\, and BINGO!!!
URL:https://elynevada.net/event/ely-elks-lodge-bingo-2/2025-10-02/
LOCATION:Ely Elks Lodge\, 694 Campton St.\, Ely\, NV\, 89301\, United States
CATEGORIES:Community,Sports
ATTACH;FMTTYPE=image/png:https://elynevada.net/wp-content/uploads/2023/01/Ely-Elks-Lodge-Bingo.png
ORGANIZER;CN="Ely Elks Lodge":MAILTO:elyelks1469@att.net
END:VEVENT
BEGIN:VEVENT
DTSTART;TZID=America/Los_Angeles:20251001T093000
DTEND;TZID=America/Los_Angeles:20251001T110000
DTSTAMP:20260423T142957
CREATED:20250225T234716Z
LAST-MODIFIED:20250227T185028Z
UID:10003653-1759311000-1759316400@elynevada.net
SUMMARY:NNRY Diesel Locomotive Train
DESCRIPTION:NNRY Diesel Locomotive Train\nThe NNRY’s Diesel Locomotive Train to the Valley Vista or Robinson Canyon. \nBook Your Ticket and More at www.NNRY.com!
URL:https://elynevada.net/event/nnry-diesel-locomotive-train/2025-10-01/
LOCATION:Nevada Northern Railway\, 1100 Avenue A\, Ely\, NV\, 89301\, United States
CATEGORIES:History
ATTACH;FMTTYPE=image/jpeg:https://elynevada.net/wp-content/uploads/2024/01/NNRY-Diesel-204.jpg
END:VEVENT
BEGIN:VEVENT
DTSTART;TZID=America/Los_Angeles:20250930T100000
DTEND;TZID=America/Los_Angeles:20250930T110000
DTSTAMP:20260423T142957
CREATED:20250227T234924Z
LAST-MODIFIED:20250227T234925Z
UID:10003788-1759226400-1759230000@elynevada.net
SUMMARY:Leaping Learners
DESCRIPTION:Leaping Learners\nAges 3 – 4 \nA Traditional Preschool Story Hour \n10am – 11am
URL:https://elynevada.net/event/leaping-learners-3/2025-09-30/
LOCATION:White Pine County Library\, 950 Campton St\, Ely\, NV\, 89301\, United States
CATEGORIES:Community
ATTACH;FMTTYPE=image/jpeg:https://elynevada.net/wp-content/uploads/2024/02/liiiiiiiiiiiiiiiiibbbbbbbbbbbbbbbrrrrrrraaaaaaarrrrrrrrryyyyyyyyyyy.jpg
END:VEVENT
BEGIN:VEVENT
DTSTART;TZID=America/Los_Angeles:20250930T093000
DTEND;TZID=America/Los_Angeles:20250930T110000
DTSTAMP:20260423T142957
CREATED:20250225T234716Z
LAST-MODIFIED:20250227T185028Z
UID:10003652-1759224600-1759230000@elynevada.net
SUMMARY:NNRY Diesel Locomotive Train
DESCRIPTION:NNRY Diesel Locomotive Train\nThe NNRY’s Diesel Locomotive Train to the Valley Vista or Robinson Canyon. \nBook Your Ticket and More at www.NNRY.com!
URL:https://elynevada.net/event/nnry-diesel-locomotive-train/2025-09-30/
LOCATION:Nevada Northern Railway\, 1100 Avenue A\, Ely\, NV\, 89301\, United States
CATEGORIES:History
ATTACH;FMTTYPE=image/jpeg:https://elynevada.net/wp-content/uploads/2024/01/NNRY-Diesel-204.jpg
END:VEVENT
BEGIN:VEVENT
DTSTART;TZID=America/Los_Angeles:20250929T093000
DTEND;TZID=America/Los_Angeles:20250929T110000
DTSTAMP:20260423T142957
CREATED:20250225T233324Z
LAST-MODIFIED:20250225T233325Z
UID:10003613-1759138200-1759143600@elynevada.net
SUMMARY:NNRY Steam Train to Robinson Canyon
DESCRIPTION:NNRY Steam Excursion Train to Robinson Canyon\nThe NNRY’s Regular Steam Excursion Train through Robinson Canyon. \nBook Your Ticket and More at www.NNRY.com!
URL:https://elynevada.net/event/nnry-steam-train-to-robinson-canyon/2025-09-29/
LOCATION:Nevada Northern Railway\, 1100 Avenue A\, Ely\, NV\, 89301\, United States
CATEGORIES:History
ATTACH;FMTTYPE=image/jpeg:https://elynevada.net/wp-content/uploads/2024/02/Locomotive40.jpg
END:VEVENT
BEGIN:VEVENT
DTSTART;TZID=America/Los_Angeles:20250928T140000
DTEND;TZID=America/Los_Angeles:20250928T160000
DTSTAMP:20260423T142957
CREATED:20250909T200400Z
LAST-MODIFIED:20250909T200424Z
UID:10004056-1759068000-1759075200@elynevada.net
SUMMARY:Finding Nevada Wild - Author Talk & Book Signing
DESCRIPTION:Finding Nevada Wild – Author Talk & Book Signing\nJoin us for an afternoon with author Sydney Martinez at the White Pine Public Museum in Ely\, Nevada\, on September 28th from 2 to 4 PM.\n\nSydney will share stories from her book Finding Nevada Wild\, which explores the unique terrain\, culture\, and people of Nevada’s most mysterious places. This free event includes a book signing\, a Q&A session\, and a chance to discover hidden gems of the Silver State. Everyone is welcome to attend! Bring your friends and enjoy an engaging and inspiring afternoon with us!
URL:https://elynevada.net/event/finding-nevada-wild-author-talk-book-signing/
LOCATION:White Pine Public Museum\, 2000 East Aultman Street\, Ely\, NV\, 89301\, United States
CATEGORIES:Arts & Culture,Community,Fundraiser,History
ATTACH;FMTTYPE=image/jpeg:https://elynevada.net/wp-content/uploads/2025/09/Finding-Nevada-Wild-Poster-Sydney-Martiznez-Visit.jpg
ORGANIZER;CN="White Pine Public Museum":MAILTO:wpmusuemnv@gmail.com
END:VEVENT
BEGIN:VEVENT
DTSTART;TZID=America/Los_Angeles:20250928T113000
DTEND;TZID=America/Los_Angeles:20250928T120000
DTSTAMP:20260423T142957
CREATED:20250225T232241Z
LAST-MODIFIED:20250228T000300Z
UID:10003590-1759059000-1759060800@elynevada.net
SUMMARY:NNRY Steam Train to Robinson Canyon
DESCRIPTION:NNRY Steam Excursion Train to Robinson Canyon\nThe NNRY’s Regular Steam Excursion Train through Robinson Canyon. \nBook Your Ticket and More at www.NNRY.com!
URL:https://elynevada.net/event/nnry-excursion-trains-to-robinson-canyon-steam/2025-09-28/
LOCATION:Nevada Northern Railway\, 1100 Avenue A\, Ely\, NV\, 89301\, United States
CATEGORIES:History
ATTACH;FMTTYPE=image/jpeg:https://elynevada.net/wp-content/uploads/2024/02/Locomotive40.jpg
END:VEVENT
BEGIN:VEVENT
DTSTART;TZID=America/Los_Angeles:20250927T130000
DTEND;TZID=America/Los_Angeles:20250927T150000
DTSTAMP:20260423T142957
CREATED:20250225T223530Z
LAST-MODIFIED:20250303T210956Z
UID:10003487-1758978000-1758985200@elynevada.net
SUMMARY:NNRY Excursion Train
DESCRIPTION:NNRY Excursion Train\nThe NNRY’s Regular Excursion Train through Robinson Canyon or Valley Vista. \nBook Your Ticket\, Discover Which Train is Running\, and More at www.NNRY.com!
URL:https://elynevada.net/event/nnry-excursion-train-3-2/2025-09-27/
LOCATION:Nevada Northern Railway\, 1100 Avenue A\, Ely\, NV\, 89301\, United States
CATEGORIES:History
ATTACH;FMTTYPE=image/jpeg:https://elynevada.net/wp-content/uploads/2020/11/Test-7.jpg
END:VEVENT
BEGIN:VEVENT
DTSTART;TZID=America/Los_Angeles:20250927T100000
DTEND;TZID=America/Los_Angeles:20250927T160000
DTSTAMP:20260423T142957
CREATED:20250128T193920Z
LAST-MODIFIED:20250128T194014Z
UID:10003309-1758967200-1758988800@elynevada.net
SUMMARY:Ely Renaissance Village OPEN
DESCRIPTION:Ely Renaissance Village Open!\nFor the ultimate heritage experience of White Pine County\, the Ely Renaissance Village may top the list.\nTour a total of nine houses\, seven of which have each been themed after a different ethnic background that helped shape our community. The Village is made for vacation planning and is open Fridays and Saturdays in the summer. Check out the 360 video below\, which allows you to click and drag different views as it provides you a feel for the site before visiting it in person: https://bit.ly/3hGMr5d\n\nLearn More Here!
URL:https://elynevada.net/event/ely-renaissance-village-open-2/2025-09-27/
LOCATION:Ely Renaissance Village\, 400\, Ely\, NV\, 89301\, United States
CATEGORIES:Arts & Culture,Community,History
ATTACH;FMTTYPE=image/jpeg:https://elynevada.net/wp-content/uploads/2022/01/CoopyRenVillage4_SM.jpg
END:VEVENT
BEGIN:VEVENT
DTSTART;TZID=America/Los_Angeles:20250927T100000
DTEND;TZID=America/Los_Angeles:20250927T140000
DTSTAMP:20260423T142957
CREATED:20240617T234249Z
LAST-MODIFIED:20250908T203536Z
UID:10002829-1758967200-1758981600@elynevada.net
SUMMARY:Ely Airport Open House
DESCRIPTION:Ely Airport Open House\nInviting All Pilots! The Ely Airport Open House is Presented by the Ely Jet Center & Ely Yelland Field. \nSeptember 27\, 2025 \n10am-2pm \nFamily Event\, No Admission \n@ the Ely Airport Yelland Field \nFood & drinks\, aircraft displays\, drones\, and med flights.
URL:https://elynevada.net/event/ely-airport-open-house/
LOCATION:Yelland Field
CATEGORIES:Community,History
ATTACH;FMTTYPE=image/jpeg:https://elynevada.net/wp-content/uploads/2024/06/Airport-Open-House-2025-Poster.jpg
END:VEVENT
BEGIN:VEVENT
DTSTART;TZID=America/Los_Angeles:20250926T183000
DTEND;TZID=America/Los_Angeles:20250926T203000
DTSTAMP:20260423T142957
CREATED:20250917T195052Z
LAST-MODIFIED:20250917T195053Z
UID:10004062-1758911400-1758918600@elynevada.net
SUMMARY:Free Community First Aid Classes
DESCRIPTION:Free Community First Aid Classes\nWhen: Sept 23rd-26th\, 2025 \nWhy: Learn basic first aid to serve and support your family\, community and more \nAll Ages Event: \nLund Tuesday Sept 23rd 6:00pm at Lund Fire Station \nEly Wednesday Sept 24th 6:30pm at Fire Station 1 by the Airport \nMcGill Thursday Sept 25th 6:30pm at McGill fire Station \nRuth Friday Sept 26th 6:30pm at the Ruth Community Center
URL:https://elynevada.net/event/free-community-first-aid-classes/2025-09-26/
LOCATION:NV
CATEGORIES:Community
ATTACH;FMTTYPE=image/jpeg:https://elynevada.net/wp-content/uploads/2025/09/free-first-aid-flyer-2025.jpg
END:VEVENT
BEGIN:VEVENT
DTSTART;TZID=America/Los_Angeles:20250926T163000
DTEND;TZID=America/Los_Angeles:20250926T180000
DTSTAMP:20260423T142957
CREATED:20240321T180927Z
LAST-MODIFIED:20250225T224311Z
UID:10003521-1758904200-1758909600@elynevada.net
SUMMARY:NNRY Excursion Train
DESCRIPTION:NNRY Excursion Train\nThe NNRY’s Regular Excursion Train through Robinson Canyon. \nBook Your Ticket\, Discover Which Train is Running\, and More at www.NNRY.com!
URL:https://elynevada.net/event/nnry-excursion-train-3/2025-09-26/
LOCATION:Nevada Northern Railway\, 1100 Avenue A\, Ely\, NV\, 89301\, United States
CATEGORIES:History
ATTACH;FMTTYPE=image/jpeg:https://elynevada.net/wp-content/uploads/2020/11/Test-7.jpg
END:VEVENT
BEGIN:VEVENT
DTSTART;TZID=America/Los_Angeles:20250926T100000
DTEND;TZID=America/Los_Angeles:20250926T160000
DTSTAMP:20260423T142957
CREATED:20250128T193920Z
LAST-MODIFIED:20250128T194014Z
UID:10003308-1758880800-1758902400@elynevada.net
SUMMARY:Ely Renaissance Village OPEN
DESCRIPTION:Ely Renaissance Village Open!\nFor the ultimate heritage experience of White Pine County\, the Ely Renaissance Village may top the list.\nTour a total of nine houses\, seven of which have each been themed after a different ethnic background that helped shape our community. The Village is made for vacation planning and is open Fridays and Saturdays in the summer. Check out the 360 video below\, which allows you to click and drag different views as it provides you a feel for the site before visiting it in person: https://bit.ly/3hGMr5d\n\nLearn More Here!
URL:https://elynevada.net/event/ely-renaissance-village-open-2/2025-09-26/
LOCATION:Ely Renaissance Village\, 400\, Ely\, NV\, 89301\, United States
CATEGORIES:Arts & Culture,Community,History
ATTACH;FMTTYPE=image/jpeg:https://elynevada.net/wp-content/uploads/2022/01/CoopyRenVillage4_SM.jpg
END:VEVENT
BEGIN:VEVENT
DTSTART;TZID=America/Los_Angeles:20250926T100000
DTEND;TZID=America/Los_Angeles:20250926T110000
DTSTAMP:20260423T142957
CREATED:20250228T003642Z
LAST-MODIFIED:20250228T003643Z
UID:10003859-1758880800-1758884400@elynevada.net
SUMMARY:WPC Library Lego Club
DESCRIPTION:WPC Library Lego Club\nFOURTH FRIDAY
URL:https://elynevada.net/event/wpc-library-lego-club/2025-09-26/
LOCATION:White Pine County Library\, 950 Campton St\, Ely\, NV\, 89301\, United States
CATEGORIES:Community
ATTACH;FMTTYPE=image/jpeg:https://elynevada.net/wp-content/uploads/2024/02/liiiiiiiiiiiiiiiiibbbbbbbbbbbbbbbrrrrrrraaaaaaarrrrrrrrryyyyyyyyyyy.jpg
END:VEVENT
BEGIN:VEVENT
DTSTART;TZID=America/Los_Angeles:20250925T183000
DTEND;TZID=America/Los_Angeles:20250925T203000
DTSTAMP:20260423T142957
CREATED:20250917T195052Z
LAST-MODIFIED:20250917T195053Z
UID:10004061-1758825000-1758832200@elynevada.net
SUMMARY:Free Community First Aid Classes
DESCRIPTION:Free Community First Aid Classes\nWhen: Sept 23rd-26th\, 2025 \nWhy: Learn basic first aid to serve and support your family\, community and more \nAll Ages Event: \nLund Tuesday Sept 23rd 6:00pm at Lund Fire Station \nEly Wednesday Sept 24th 6:30pm at Fire Station 1 by the Airport \nMcGill Thursday Sept 25th 6:30pm at McGill fire Station \nRuth Friday Sept 26th 6:30pm at the Ruth Community Center
URL:https://elynevada.net/event/free-community-first-aid-classes/2025-09-25/
LOCATION:NV
CATEGORIES:Community
ATTACH;FMTTYPE=image/jpeg:https://elynevada.net/wp-content/uploads/2025/09/free-first-aid-flyer-2025.jpg
END:VEVENT
BEGIN:VEVENT
DTSTART;TZID=America/Los_Angeles:20250924T183000
DTEND;TZID=America/Los_Angeles:20250924T203000
DTSTAMP:20260423T142957
CREATED:20250917T195052Z
LAST-MODIFIED:20250917T195053Z
UID:10004060-1758738600-1758745800@elynevada.net
SUMMARY:Free Community First Aid Classes
DESCRIPTION:Free Community First Aid Classes\nWhen: Sept 23rd-26th\, 2025 \nWhy: Learn basic first aid to serve and support your family\, community and more \nAll Ages Event: \nLund Tuesday Sept 23rd 6:00pm at Lund Fire Station \nEly Wednesday Sept 24th 6:30pm at Fire Station 1 by the Airport \nMcGill Thursday Sept 25th 6:30pm at McGill fire Station \nRuth Friday Sept 26th 6:30pm at the Ruth Community Center
URL:https://elynevada.net/event/free-community-first-aid-classes/2025-09-24/
LOCATION:NV
CATEGORIES:Community
ATTACH;FMTTYPE=image/jpeg:https://elynevada.net/wp-content/uploads/2025/09/free-first-aid-flyer-2025.jpg
END:VEVENT
BEGIN:VEVENT
DTSTART;TZID=America/Los_Angeles:20250924T093000
DTEND;TZID=America/Los_Angeles:20250924T110000
DTSTAMP:20260423T142957
CREATED:20250225T234716Z
LAST-MODIFIED:20250227T185028Z
UID:10003651-1758706200-1758711600@elynevada.net
SUMMARY:NNRY Diesel Locomotive Train
DESCRIPTION:NNRY Diesel Locomotive Train\nThe NNRY’s Diesel Locomotive Train to the Valley Vista or Robinson Canyon. \nBook Your Ticket and More at www.NNRY.com!
URL:https://elynevada.net/event/nnry-diesel-locomotive-train/2025-09-24/
LOCATION:Nevada Northern Railway\, 1100 Avenue A\, Ely\, NV\, 89301\, United States
CATEGORIES:History
ATTACH;FMTTYPE=image/jpeg:https://elynevada.net/wp-content/uploads/2024/01/NNRY-Diesel-204.jpg
END:VEVENT
BEGIN:VEVENT
DTSTART;TZID=America/Los_Angeles:20250923T180000
DTEND;TZID=America/Los_Angeles:20250923T200000
DTSTAMP:20260423T142957
CREATED:20250917T195052Z
LAST-MODIFIED:20250917T195053Z
UID:10004059-1758650400-1758657600@elynevada.net
SUMMARY:Free Community First Aid Classes
DESCRIPTION:Free Community First Aid Classes\nWhen: Sept 23rd-26th\, 2025 \nWhy: Learn basic first aid to serve and support your family\, community and more \nAll Ages Event: \nLund Tuesday Sept 23rd 6:00pm at Lund Fire Station \nEly Wednesday Sept 24th 6:30pm at Fire Station 1 by the Airport \nMcGill Thursday Sept 25th 6:30pm at McGill fire Station \nRuth Friday Sept 26th 6:30pm at the Ruth Community Center
URL:https://elynevada.net/event/free-community-first-aid-classes/2025-09-23/
LOCATION:NV
CATEGORIES:Community
ATTACH;FMTTYPE=image/jpeg:https://elynevada.net/wp-content/uploads/2025/09/free-first-aid-flyer-2025.jpg
END:VEVENT
BEGIN:VEVENT
DTSTART;TZID=America/Los_Angeles:20250923T100000
DTEND;TZID=America/Los_Angeles:20250923T110000
DTSTAMP:20260423T142957
CREATED:20250227T234924Z
LAST-MODIFIED:20250227T234925Z
UID:10003787-1758621600-1758625200@elynevada.net
SUMMARY:Leaping Learners
DESCRIPTION:Leaping Learners\nAges 3 – 4 \nA Traditional Preschool Story Hour \n10am – 11am
URL:https://elynevada.net/event/leaping-learners-3/2025-09-23/
LOCATION:White Pine County Library\, 950 Campton St\, Ely\, NV\, 89301\, United States
CATEGORIES:Community
ATTACH;FMTTYPE=image/jpeg:https://elynevada.net/wp-content/uploads/2024/02/liiiiiiiiiiiiiiiiibbbbbbbbbbbbbbbrrrrrrraaaaaaarrrrrrrrryyyyyyyyyyy.jpg
END:VEVENT
BEGIN:VEVENT
DTSTART;TZID=America/Los_Angeles:20250923T093000
DTEND;TZID=America/Los_Angeles:20250923T110000
DTSTAMP:20260423T142957
CREATED:20250225T234716Z
LAST-MODIFIED:20250227T185028Z
UID:10003650-1758619800-1758625200@elynevada.net
SUMMARY:NNRY Diesel Locomotive Train
DESCRIPTION:NNRY Diesel Locomotive Train\nThe NNRY’s Diesel Locomotive Train to the Valley Vista or Robinson Canyon. \nBook Your Ticket and More at www.NNRY.com!
URL:https://elynevada.net/event/nnry-diesel-locomotive-train/2025-09-23/
LOCATION:Nevada Northern Railway\, 1100 Avenue A\, Ely\, NV\, 89301\, United States
CATEGORIES:History
ATTACH;FMTTYPE=image/jpeg:https://elynevada.net/wp-content/uploads/2024/01/NNRY-Diesel-204.jpg
END:VEVENT
BEGIN:VEVENT
DTSTART;TZID=America/Los_Angeles:20250922T093000
DTEND;TZID=America/Los_Angeles:20250922T110000
DTSTAMP:20260423T142957
CREATED:20250225T233324Z
LAST-MODIFIED:20250225T233325Z
UID:10003612-1758533400-1758538800@elynevada.net
SUMMARY:NNRY Steam Train to Robinson Canyon
DESCRIPTION:NNRY Steam Excursion Train to Robinson Canyon\nThe NNRY’s Regular Steam Excursion Train through Robinson Canyon. \nBook Your Ticket and More at www.NNRY.com!
URL:https://elynevada.net/event/nnry-steam-train-to-robinson-canyon/2025-09-22/
LOCATION:Nevada Northern Railway\, 1100 Avenue A\, Ely\, NV\, 89301\, United States
CATEGORIES:History
ATTACH;FMTTYPE=image/jpeg:https://elynevada.net/wp-content/uploads/2024/02/Locomotive40.jpg
END:VEVENT
BEGIN:VEVENT
DTSTART;TZID=America/Los_Angeles:20250921T140000
DTEND;TZID=America/Los_Angeles:20250921T153000
DTSTAMP:20260423T142957
CREATED:20250107T205433Z
LAST-MODIFIED:20250408T182844Z
UID:10003980-1758463200-1758468600@elynevada.net
SUMMARY:GET LIT Book Club
DESCRIPTION:GET LIT Book Club\nBristlecone General Store Book Club
URL:https://elynevada.net/event/get-lit-book-club/2025-09-21/
LOCATION:Bristlecone General Store\, 115 S. Baker Ave.\, Baker\, NV\, 89311\, United States
CATEGORIES:Arts & Culture
ATTACH;FMTTYPE=image/jpeg:https://elynevada.net/wp-content/uploads/2025/01/Get-Lit-2025-First-Half.jpg
ORGANIZER;CN="Bristlecone General Store":MAILTO:stay@stargazernevada.com
END:VEVENT
BEGIN:VEVENT
DTSTART;TZID=America/Los_Angeles:20250921T113000
DTEND;TZID=America/Los_Angeles:20250921T120000
DTSTAMP:20260423T142957
CREATED:20250225T232241Z
LAST-MODIFIED:20250228T000300Z
UID:10003589-1758454200-1758456000@elynevada.net
SUMMARY:NNRY Steam Train to Robinson Canyon
DESCRIPTION:NNRY Steam Excursion Train to Robinson Canyon\nThe NNRY’s Regular Steam Excursion Train through Robinson Canyon. \nBook Your Ticket and More at www.NNRY.com!
URL:https://elynevada.net/event/nnry-excursion-trains-to-robinson-canyon-steam/2025-09-21/
LOCATION:Nevada Northern Railway\, 1100 Avenue A\, Ely\, NV\, 89301\, United States
CATEGORIES:History
ATTACH;FMTTYPE=image/jpeg:https://elynevada.net/wp-content/uploads/2024/02/Locomotive40.jpg
END:VEVENT
BEGIN:VEVENT
DTSTART;TZID=UTC:20250920T183000
DTEND;TZID=UTC:20250920T200000
DTSTAMP:20260423T142957
CREATED:20240201T083802Z
LAST-MODIFIED:20250303T205441Z
UID:10000982-1758393000-1758398400@elynevada.net
SUMMARY:Taste of Italy Dinner Train
DESCRIPTION:Taste of Italy Dinner Train\n\n\nTaste of Italy Dinner Train\n\n\n\n\nThis is an annual gala fundraiser for the railroad. Your coaches will be pulled by one of our century-old steam locomotives for a special dinner trip on the Nevada Northern Railway mainline. It will be our pleasure to serve you a classic\, multi-course Italian meal\, complete with flowing wine\, and dessert. Adults only on this train. \nTaste of Italy Train Ride is sponsored by: \n\nThe Gianoli Family\nFirst National Bank of Ely\nHector Briceno & Isela Suarez of Ely’s own Mr. Gino’s\n\n\nTickets and More Info at www.NNRY.com
URL:https://elynevada.net/event/taste-of-italy-dinner-train/
LOCATION:Nevada Northern Railway\, 1100 Avenue A\, Ely\, NV\, 89301\, United States
CATEGORIES:Arts & Culture,Community,History
ATTACH;FMTTYPE=image/png:https://elynevada.net/wp-content/uploads/2024/02/Mask-group-8-1024x646-1.png
END:VEVENT
BEGIN:VEVENT
DTSTART;TZID=America/Los_Angeles:20250920T130000
DTEND;TZID=America/Los_Angeles:20250920T150000
DTSTAMP:20260423T142957
CREATED:20250225T223530Z
LAST-MODIFIED:20250303T210956Z
UID:10003485-1758373200-1758380400@elynevada.net
SUMMARY:NNRY Excursion Train
DESCRIPTION:NNRY Excursion Train\nThe NNRY’s Regular Excursion Train through Robinson Canyon or Valley Vista. \nBook Your Ticket\, Discover Which Train is Running\, and More at www.NNRY.com!
URL:https://elynevada.net/event/nnry-excursion-train-3-2/2025-09-20/
LOCATION:Nevada Northern Railway\, 1100 Avenue A\, Ely\, NV\, 89301\, United States
CATEGORIES:History
ATTACH;FMTTYPE=image/jpeg:https://elynevada.net/wp-content/uploads/2020/11/Test-7.jpg
END:VEVENT
END:VCALENDAR