BEGIN:VCALENDAR
VERSION:2.0
PRODID:-//Welcome To Ely - ECPv6.15.20//NONSGML v1.0//EN
CALSCALE:GREGORIAN
METHOD:PUBLISH
X-ORIGINAL-URL:https://elynevada.net
X-WR-CALDESC:Events for Welcome To Ely
REFRESH-INTERVAL;VALUE=DURATION:PT1H
X-Robots-Tag:noindex
X-PUBLISHED-TTL:PT1H
BEGIN:VTIMEZONE
TZID:UTC
BEGIN:STANDARD
TZOFFSETFROM:+0000
TZOFFSETTO:+0000
TZNAME:UTC
DTSTART:20220101T000000
END:STANDARD
END:VTIMEZONE
BEGIN:VTIMEZONE
TZID:America/Los_Angeles
BEGIN:DAYLIGHT
TZOFFSETFROM:-0800
TZOFFSETTO:-0700
TZNAME:PDT
DTSTART:20220313T100000
END:DAYLIGHT
BEGIN:STANDARD
TZOFFSETFROM:-0700
TZOFFSETTO:-0800
TZNAME:PST
DTSTART:20221106T090000
END:STANDARD
BEGIN:DAYLIGHT
TZOFFSETFROM:-0800
TZOFFSETTO:-0700
TZNAME:PDT
DTSTART:20230312T100000
END:DAYLIGHT
BEGIN:STANDARD
TZOFFSETFROM:-0700
TZOFFSETTO:-0800
TZNAME:PST
DTSTART:20231105T090000
END:STANDARD
BEGIN:DAYLIGHT
TZOFFSETFROM:-0800
TZOFFSETTO:-0700
TZNAME:PDT
DTSTART:20240310T100000
END:DAYLIGHT
BEGIN:STANDARD
TZOFFSETFROM:-0700
TZOFFSETTO:-0800
TZNAME:PST
DTSTART:20241103T090000
END:STANDARD
END:VTIMEZONE
BEGIN:VEVENT
DTSTART;VALUE=DATE:20230203
DTEND;VALUE=DATE:20230206
DTSTAMP:20260423T073450
CREATED:20221214T071028Z
LAST-MODIFIED:20221214T071233Z
UID:10000324-1675382400-1675641599@elynevada.net
SUMMARY:NNRY Winter Steam Photo Weekend Spectacular
DESCRIPTION:NNRY Winter Steam Photo Weekend Spectacular\nIf you think you were born one hundred years too late to witness the glory of steam railroading\, then we have good news for you: you weren’t. There still exists a place where steam locomotives rule the rails. \nHidden away in the high desert of east central Nevada is a time capsule like no other\, the Nevada Northern Railway National Historic Landmark. Annually during the first two weekends in February\, time travel is possible. Come to Ely Nevada\, set your watch back a century\, and photograph railroading as it was in the last century. \nThe Nevada Northern Railway is not a mishmash of equipment from different railroads or different countries\, nor is the equipment prettified or garish. This is the original railroad equipment in the original paint schemes in the original setting\, on the original Nevada Northern Railway mainline.  All of this equipment has been on the property for decades\, and some if it more than a century\, all of it still operating on the original track that was graded and laid a century ago. \nThis was the time when steam moved mountains. The real business of this railroad was copper and copper was king! It was the reason that the railroad was built in the first place. Ore trains ran day and night\, year-round. The demand for copper was insatiable. It was the miracle metal that made all of the newfangled inventions\, such as the electric light and the telephone\, possible. Today our trains still move from the mine to the mill—steam powered\, of course. \nWhat can you expect during the photo shoots? World-class photographic opportunities\, steam locomotives pulling vintage freight and passenger cars that are original to the railroad. Here\, trains are still made up with wooden cars whose origins date back as far as 1872. The crews will be in period dress\, adding to the experience. \nSo why come to Ely in the winter? If you think that Steam locomotive 93 looks good on an 85-degree day in August but wait till you see it on a frosty February day. Billowing white clouds of steam plus plumes of black & gray smoke towering above the canyons and valleys. Snow? Weather here can be capricious! It can range from blizzard conditions to cobalt blue skies sometimes within minutes. In the past we’ve experienced every type of meteorological conditions that wintertime Ely experiences\, including shirtsleeve weather. But regardless of the weather\, the show goes on. \n \n  \nParticipants have won numerous photo contests\, recording timeless scenes of a historical railroad that are second to none. Many of the “Winter Spectacular” photos rival the best that National Geographic has to offer. \nOf course locomotives\, rolling stock and tracks are a big and obvious part of this railroad. But its just part of what makes a railroad work. You also need the infrastructure: Enginehouse\, machine shop\, carpenter shop\, blacksmith shop\, depot and dispatcher building. Oh and don’t forget\, the locomotives go nowhere without stopping at the coaling tower and water standpipes. We have those too\, the original ones! \nConsidered by William L. Withuhn\, Curator emeritus\, History of Technology and Transportation at the Smithsonian Institution\, “Among all railroad historic sites anywhere in North America\, the Nevada Northern Railway complex at East Ely is-no question in my view-the most complete\, most authentic\, and best cared-for\, bar none. It’s a living American treasure and a stand-out one. Historic tracks\, original depot and office building\, Enginehouse\, Freight Station\, three original steam locomotives\, five historic and rare wooden passenger cars\, Kennecott diesel engines\, 60 early freight cars\, working machine shop\, foundry-even the coaling tower and water tower that are icons of the site-everything is still there.” \nWhat will we have running for the next photo shoot?  It varies from year-to-year\, but in general we have a broad range of original\, Vintage Nevada Northern Railway equipment running out on the main line and in the East Ely yard. \n\nWe’ll have steam pulling our original wooden passenger consist made up of a RPO/baggage car and passenger car.  This consist has been serving passengers and departing from this depot for over a century now.\nShould there be a mishap on the tracks here\, we’ll send for the big hook; our original century old operating steam powered wrecking crane. This wrecking crane is pulled by a century old 2-8-0 steam locomotive that looks like it just rolled out of the American Locomotive Company shops. The wreck train consists of the crane\, flat car\, tool car\, outfit car and\, of course\, a caboose.  (Don’t worry – even if there is no mishap we will stage one to demonstrate the big hook in action\, under steam)\nOnce the tracks are cleared\, it’s time to get on with the business of railroading. Freight trains can once again roll and so will ore trains.  We will roll our fleet of original ore cars with our original locomotives.\nMost of the freight in the last century moved in boxcars. No self respecting railroad would be without boxcars – and the N. N. Ry is no different. A fleet of our original wooden boxcars with arch-bar trucks\, built in 1912 are in top condition and are ready for their next load.  Most model railroaders would give anything to have a vintage freight fleet like this.  You will see the real-life\, full scale 1912 freight roll by time-after-time this weekend out on our original main-line.\n\n  \nLearn More About the Railroads Winter Steam Photo Weekend HERE!\nDiscover More White Pine County Events HERE!
URL:https://elynevada.net/event/nnry-winter-steam-photo-weekend-spectacular/2023-02-03/
LOCATION:Nevada Northern Railway\, 1100 Avenue A\, Ely\, NV\, 89301\, United States
CATEGORIES:Arts & Culture,Conference,History
ATTACH;FMTTYPE=image/jpeg:https://elynevada.net/wp-content/uploads/2022/12/train-pic.jpg
END:VEVENT
BEGIN:VEVENT
DTSTART;TZID=America/Los_Angeles:20230206T180000
DTEND;TZID=America/Los_Angeles:20230206T203000
DTSTAMP:20260423T073450
CREATED:20230104T033012Z
LAST-MODIFIED:20240405T001343Z
UID:10002533-1675706400-1675715400@elynevada.net
SUMMARY:Ely Elks Lodge Bingo
DESCRIPTION:Ely Elks Lodge Bingo\nBingo every first Thursday at the Ely Elks Lodge. Hot dogs and Chili are sold. Great time\, great people\, and BINGO!!!
URL:https://elynevada.net/event/ely-elks-lodge-bingo/2023-02-06/
LOCATION:Ely Elks Lodge\, 694 Campton St.\, Ely\, NV\, 89301\, United States
CATEGORIES:Community,Sports
ATTACH;FMTTYPE=image/png:https://elynevada.net/wp-content/uploads/2023/01/Ely-Elks-Lodge-Bingo.png
ORGANIZER;CN="Ely Elks Lodge":MAILTO:elyelks1469@att.net
END:VEVENT
BEGIN:VEVENT
DTSTART;TZID=UTC:20230206T180000
DTEND;TZID=UTC:20230206T210000
DTSTAMP:20260423T073450
CREATED:20230127T053906Z
LAST-MODIFIED:20230127T053911Z
UID:10000546-1675706400-1675717200@elynevada.net
SUMMARY:Bristlecone Bowmen Indoor League
DESCRIPTION:Bristlecone Bowmen Indoor League\nThe Bristlecone Bowmen\, our local archery group\, will be hosting their indoor league. \nEvery Monday starting on 1/30/23 for 4 weeks. \n4 Week Vegas 3 Spot \n6:00 P.M. \n$5 Entry Fee or $20 for all 4 weeks \nMemberships are due and the door code has changed for the archery barn in McGill. \nFor questions call Kort Johnson (775) 240-4045
URL:https://elynevada.net/event/bristlecone-bowmen-indoor-league/2023-02-06/
LOCATION:McGill Archery Barn\, Main Street (Hwy 50)\, McGill\, NV\, 89318\, United States
CATEGORIES:Sports
ATTACH;FMTTYPE=image/png:https://elynevada.net/wp-content/uploads/2023/01/Bristlecone-Bowman.png
ORGANIZER;CN="Bristlecone Bowmen":MAILTO:bristleconebowmenofficial@gmail.com
END:VEVENT
BEGIN:VEVENT
DTSTART;TZID=UTC:20230213T180000
DTEND;TZID=UTC:20230213T210000
DTSTAMP:20260423T073450
CREATED:20230127T053906Z
LAST-MODIFIED:20230127T053911Z
UID:10000547-1676311200-1676322000@elynevada.net
SUMMARY:Bristlecone Bowmen Indoor League
DESCRIPTION:Bristlecone Bowmen Indoor League\nThe Bristlecone Bowmen\, our local archery group\, will be hosting their indoor league. \nEvery Monday starting on 1/30/23 for 4 weeks. \n4 Week Vegas 3 Spot \n6:00 P.M. \n$5 Entry Fee or $20 for all 4 weeks \nMemberships are due and the door code has changed for the archery barn in McGill. \nFor questions call Kort Johnson (775) 240-4045
URL:https://elynevada.net/event/bristlecone-bowmen-indoor-league/2023-02-13/
LOCATION:McGill Archery Barn\, Main Street (Hwy 50)\, McGill\, NV\, 89318\, United States
CATEGORIES:Sports
ATTACH;FMTTYPE=image/png:https://elynevada.net/wp-content/uploads/2023/01/Bristlecone-Bowman.png
ORGANIZER;CN="Bristlecone Bowmen":MAILTO:bristleconebowmenofficial@gmail.com
END:VEVENT
BEGIN:VEVENT
DTSTART;VALUE=DATE:20230217
DTEND;VALUE=DATE:20230220
DTSTAMP:20260423T073450
CREATED:20221214T071028Z
LAST-MODIFIED:20221214T071233Z
UID:10000325-1676592000-1676851199@elynevada.net
SUMMARY:NNRY Winter Steam Photo Weekend Spectacular
DESCRIPTION:NNRY Winter Steam Photo Weekend Spectacular\nIf you think you were born one hundred years too late to witness the glory of steam railroading\, then we have good news for you: you weren’t. There still exists a place where steam locomotives rule the rails. \nHidden away in the high desert of east central Nevada is a time capsule like no other\, the Nevada Northern Railway National Historic Landmark. Annually during the first two weekends in February\, time travel is possible. Come to Ely Nevada\, set your watch back a century\, and photograph railroading as it was in the last century. \nThe Nevada Northern Railway is not a mishmash of equipment from different railroads or different countries\, nor is the equipment prettified or garish. This is the original railroad equipment in the original paint schemes in the original setting\, on the original Nevada Northern Railway mainline.  All of this equipment has been on the property for decades\, and some if it more than a century\, all of it still operating on the original track that was graded and laid a century ago. \nThis was the time when steam moved mountains. The real business of this railroad was copper and copper was king! It was the reason that the railroad was built in the first place. Ore trains ran day and night\, year-round. The demand for copper was insatiable. It was the miracle metal that made all of the newfangled inventions\, such as the electric light and the telephone\, possible. Today our trains still move from the mine to the mill—steam powered\, of course. \nWhat can you expect during the photo shoots? World-class photographic opportunities\, steam locomotives pulling vintage freight and passenger cars that are original to the railroad. Here\, trains are still made up with wooden cars whose origins date back as far as 1872. The crews will be in period dress\, adding to the experience. \nSo why come to Ely in the winter? If you think that Steam locomotive 93 looks good on an 85-degree day in August but wait till you see it on a frosty February day. Billowing white clouds of steam plus plumes of black & gray smoke towering above the canyons and valleys. Snow? Weather here can be capricious! It can range from blizzard conditions to cobalt blue skies sometimes within minutes. In the past we’ve experienced every type of meteorological conditions that wintertime Ely experiences\, including shirtsleeve weather. But regardless of the weather\, the show goes on. \n \n  \nParticipants have won numerous photo contests\, recording timeless scenes of a historical railroad that are second to none. Many of the “Winter Spectacular” photos rival the best that National Geographic has to offer. \nOf course locomotives\, rolling stock and tracks are a big and obvious part of this railroad. But its just part of what makes a railroad work. You also need the infrastructure: Enginehouse\, machine shop\, carpenter shop\, blacksmith shop\, depot and dispatcher building. Oh and don’t forget\, the locomotives go nowhere without stopping at the coaling tower and water standpipes. We have those too\, the original ones! \nConsidered by William L. Withuhn\, Curator emeritus\, History of Technology and Transportation at the Smithsonian Institution\, “Among all railroad historic sites anywhere in North America\, the Nevada Northern Railway complex at East Ely is-no question in my view-the most complete\, most authentic\, and best cared-for\, bar none. It’s a living American treasure and a stand-out one. Historic tracks\, original depot and office building\, Enginehouse\, Freight Station\, three original steam locomotives\, five historic and rare wooden passenger cars\, Kennecott diesel engines\, 60 early freight cars\, working machine shop\, foundry-even the coaling tower and water tower that are icons of the site-everything is still there.” \nWhat will we have running for the next photo shoot?  It varies from year-to-year\, but in general we have a broad range of original\, Vintage Nevada Northern Railway equipment running out on the main line and in the East Ely yard. \n\nWe’ll have steam pulling our original wooden passenger consist made up of a RPO/baggage car and passenger car.  This consist has been serving passengers and departing from this depot for over a century now.\nShould there be a mishap on the tracks here\, we’ll send for the big hook; our original century old operating steam powered wrecking crane. This wrecking crane is pulled by a century old 2-8-0 steam locomotive that looks like it just rolled out of the American Locomotive Company shops. The wreck train consists of the crane\, flat car\, tool car\, outfit car and\, of course\, a caboose.  (Don’t worry – even if there is no mishap we will stage one to demonstrate the big hook in action\, under steam)\nOnce the tracks are cleared\, it’s time to get on with the business of railroading. Freight trains can once again roll and so will ore trains.  We will roll our fleet of original ore cars with our original locomotives.\nMost of the freight in the last century moved in boxcars. No self respecting railroad would be without boxcars – and the N. N. Ry is no different. A fleet of our original wooden boxcars with arch-bar trucks\, built in 1912 are in top condition and are ready for their next load.  Most model railroaders would give anything to have a vintage freight fleet like this.  You will see the real-life\, full scale 1912 freight roll by time-after-time this weekend out on our original main-line.\n\n  \nLearn More About the Railroads Winter Steam Photo Weekend HERE!\nDiscover More White Pine County Events HERE!
URL:https://elynevada.net/event/nnry-winter-steam-photo-weekend-spectacular/2023-02-17/
LOCATION:Nevada Northern Railway\, 1100 Avenue A\, Ely\, NV\, 89301\, United States
CATEGORIES:Arts & Culture,Conference,History
ATTACH;FMTTYPE=image/jpeg:https://elynevada.net/wp-content/uploads/2022/12/train-pic.jpg
END:VEVENT
BEGIN:VEVENT
DTSTART;TZID=UTC:20230220T180000
DTEND;TZID=UTC:20230220T210000
DTSTAMP:20260423T073450
CREATED:20230127T053906Z
LAST-MODIFIED:20230127T053911Z
UID:10000548-1676916000-1676926800@elynevada.net
SUMMARY:Bristlecone Bowmen Indoor League
DESCRIPTION:Bristlecone Bowmen Indoor League\nThe Bristlecone Bowmen\, our local archery group\, will be hosting their indoor league. \nEvery Monday starting on 1/30/23 for 4 weeks. \n4 Week Vegas 3 Spot \n6:00 P.M. \n$5 Entry Fee or $20 for all 4 weeks \nMemberships are due and the door code has changed for the archery barn in McGill. \nFor questions call Kort Johnson (775) 240-4045
URL:https://elynevada.net/event/bristlecone-bowmen-indoor-league/2023-02-20/
LOCATION:McGill Archery Barn\, Main Street (Hwy 50)\, McGill\, NV\, 89318\, United States
CATEGORIES:Sports
ATTACH;FMTTYPE=image/png:https://elynevada.net/wp-content/uploads/2023/01/Bristlecone-Bowman.png
ORGANIZER;CN="Bristlecone Bowmen":MAILTO:bristleconebowmenofficial@gmail.com
END:VEVENT
BEGIN:VEVENT
DTSTART;TZID=UTC:20230225T170000
DTEND;TZID=UTC:20230225T200000
DTSTAMP:20260423T073451
CREATED:20230119T083003Z
LAST-MODIFIED:20230119T083006Z
UID:10000333-1677344400-1677355200@elynevada.net
SUMMARY:Ducks Unlimited Banquet
DESCRIPTION:Ducks Unlimited Banquet\nJoin the Ducks Unlimited for their Ducks Unlimited Banquet. \nThis will be a great night for a greater cause. Your attendance will help to ensure the future of elk\, other wildlife\, their habitat and our hunting heritage here in our great state!
URL:https://elynevada.net/event/ducks-unlimited-banquet/
LOCATION:Bristlecone Convention Center\, 150 Sixth Street\, Ely\, NV\, 89301\, United States
CATEGORIES:Community
ATTACH;FMTTYPE=image/jpeg:https://elynevada.net/wp-content/uploads/2023/01/Ducks-Unlimited-Banquet.jpg
END:VEVENT
BEGIN:VEVENT
DTSTART;TZID=UTC:20230226T140000
DTEND;TZID=UTC:20230226T160000
DTSTAMP:20260423T073451
CREATED:20230119T080049Z
LAST-MODIFIED:20230119T080052Z
UID:10000329-1677420000-1677427200@elynevada.net
SUMMARY:GET LIT
DESCRIPTION:GET LIT: February at Bristlecone General Store in Baker\nMark your calendar and start reading! Our next Bristlecone Book Club selection is Zen and the Art of Motorcycle Maintenance by Robert Pirsig. (It’s a classic that has inspired millions)
URL:https://elynevada.net/event/get-lit/
LOCATION:Bristlecone General Store\, 115 S. Baker Ave.\, Baker\, NV\, 89311\, United States
CATEGORIES:Arts & Culture,Community
ATTACH;FMTTYPE=image/jpeg:https://elynevada.net/wp-content/uploads/2023/01/GET-Series-for-beginning-2023.jpg
ORGANIZER;CN="Bristlecone General Store":MAILTO:stay@stargazernevada.com
END:VEVENT
END:VCALENDAR