BEGIN:VCALENDAR
VERSION:2.0
PRODID:-//Welcome To Ely - ECPv6.15.20//NONSGML v1.0//EN
CALSCALE:GREGORIAN
METHOD:PUBLISH
X-WR-CALNAME:Welcome To Ely
X-ORIGINAL-URL:https://elynevada.net
X-WR-CALDESC:Events for Welcome To Ely
REFRESH-INTERVAL;VALUE=DURATION:PT1H
X-Robots-Tag:noindex
X-PUBLISHED-TTL:PT1H
BEGIN:VTIMEZONE
TZID:America/Los_Angeles
BEGIN:DAYLIGHT
TZOFFSETFROM:-0800
TZOFFSETTO:-0700
TZNAME:PDT
DTSTART:20260308T100000
END:DAYLIGHT
BEGIN:STANDARD
TZOFFSETFROM:-0700
TZOFFSETTO:-0800
TZNAME:PST
DTSTART:20261101T090000
END:STANDARD
BEGIN:DAYLIGHT
TZOFFSETFROM:-0800
TZOFFSETTO:-0700
TZNAME:PDT
DTSTART:20270314T100000
END:DAYLIGHT
BEGIN:STANDARD
TZOFFSETFROM:-0700
TZOFFSETTO:-0800
TZNAME:PST
DTSTART:20271107T090000
END:STANDARD
BEGIN:DAYLIGHT
TZOFFSETFROM:-0800
TZOFFSETTO:-0700
TZNAME:PDT
DTSTART:20280312T100000
END:DAYLIGHT
BEGIN:STANDARD
TZOFFSETFROM:-0700
TZOFFSETTO:-0800
TZNAME:PST
DTSTART:20281105T090000
END:STANDARD
END:VTIMEZONE
BEGIN:VEVENT
DTSTART;TZID=America/Los_Angeles:20270201T063000
DTEND;TZID=America/Los_Angeles:20270201T070000
DTSTAMP:20260423T044020
CREATED:20260127T210739Z
LAST-MODIFIED:20260325T005141Z
UID:10004228-1801463400-1801465200@elynevada.net
SUMMARY:BeFitEly TBT
DESCRIPTION:BeFitEly Total Body Tone\nFull body strength training with progressive weight loading \nBuild strength from head to toe with our comprehensive full-body workout. You control the weight load\, starting light and progressing as you grow stronger. Perfect for building confidence and muscle definition. \n  \n\nFull body strength training\nProgressive weight loading\nBeginner to advanced options\nBuild at your own pace\n\n  \nPre Register at BeFitEly.com!
URL:https://elynevada.net/event/befitely-tbt/2027-02-01/
LOCATION:740 Autlman Street\, 740 Aultman Street\, Ely\, NV\, 89301\, United States
CATEGORIES:Community,Sports
ATTACH;FMTTYPE=image/jpeg:https://elynevada.net/wp-content/uploads/2026/01/BeFitEly-TBT.jpg
ORGANIZER;CN="BeFitEly":MAILTO:info@allaboardely.com
END:VEVENT
BEGIN:VEVENT
DTSTART;TZID=America/Los_Angeles:20270202T170000
DTEND;TZID=America/Los_Angeles:20270202T180000
DTSTAMP:20260423T044020
CREATED:20260127T211512Z
LAST-MODIFIED:20260127T211513Z
UID:10004527-1801587600-1801591200@elynevada.net
SUMMARY:BeFitEly Step & Sculpt
DESCRIPTION:BeFitEly Step & Sculpt\nModern cardio step aerobics meets strength sculpting \nGet your heart pumping with dynamic step aerobics while building lean muscle with targeted sculpting exercises using weights. This high-energy class combines the best of both worlds for a complete workout experience. \n\nCardio step aerobics\nSculpting with weights\nHigh-energy music\nAll fitness levels welcome\n\n  \nNo Sign Up – Just Come to Class. Learn more at BeFitEly.com
URL:https://elynevada.net/event/befitely-step-sculpt/2027-02-02/
LOCATION:740 Autlman Street\, 740 Aultman Street\, Ely\, NV\, 89301\, United States
CATEGORIES:Community,Sports
ATTACH;FMTTYPE=image/jpeg:https://elynevada.net/wp-content/uploads/2026/01/BeFitEly-Step-Sculpt.jpg
ORGANIZER;CN="BeFitEly":MAILTO:info@allaboardely.com
END:VEVENT
BEGIN:VEVENT
DTSTART;TZID=America/Los_Angeles:20270203T063000
DTEND;TZID=America/Los_Angeles:20270203T070000
DTSTAMP:20260423T044020
CREATED:20260127T210739Z
LAST-MODIFIED:20260325T005141Z
UID:10004376-1801636200-1801638000@elynevada.net
SUMMARY:BeFitEly TBT
DESCRIPTION:BeFitEly Total Body Tone\nFull body strength training with progressive weight loading \nBuild strength from head to toe with our comprehensive full-body workout. You control the weight load\, starting light and progressing as you grow stronger. Perfect for building confidence and muscle definition. \n  \n\nFull body strength training\nProgressive weight loading\nBeginner to advanced options\nBuild at your own pace\n\n  \nPre Register at BeFitEly.com!
URL:https://elynevada.net/event/befitely-tbt/2027-02-03/
LOCATION:740 Autlman Street\, 740 Aultman Street\, Ely\, NV\, 89301\, United States
CATEGORIES:Community,Sports
ATTACH;FMTTYPE=image/jpeg:https://elynevada.net/wp-content/uploads/2026/01/BeFitEly-TBT.jpg
ORGANIZER;CN="BeFitEly":MAILTO:info@allaboardely.com
END:VEVENT
BEGIN:VEVENT
DTSTART;TZID=America/Los_Angeles:20270204T170000
DTEND;TZID=America/Los_Angeles:20270204T180000
DTSTAMP:20260423T044020
CREATED:20260127T211512Z
LAST-MODIFIED:20260127T211513Z
UID:10004528-1801760400-1801764000@elynevada.net
SUMMARY:BeFitEly Step & Sculpt
DESCRIPTION:BeFitEly Step & Sculpt\nModern cardio step aerobics meets strength sculpting \nGet your heart pumping with dynamic step aerobics while building lean muscle with targeted sculpting exercises using weights. This high-energy class combines the best of both worlds for a complete workout experience. \n\nCardio step aerobics\nSculpting with weights\nHigh-energy music\nAll fitness levels welcome\n\n  \nNo Sign Up – Just Come to Class. Learn more at BeFitEly.com
URL:https://elynevada.net/event/befitely-step-sculpt/2027-02-04/
LOCATION:740 Autlman Street\, 740 Aultman Street\, Ely\, NV\, 89301\, United States
CATEGORIES:Community,Sports
ATTACH;FMTTYPE=image/jpeg:https://elynevada.net/wp-content/uploads/2026/01/BeFitEly-Step-Sculpt.jpg
ORGANIZER;CN="BeFitEly":MAILTO:info@allaboardely.com
END:VEVENT
BEGIN:VEVENT
DTSTART;TZID=America/Los_Angeles:20270204T180000
DTEND;TZID=America/Los_Angeles:20270204T203000
DTSTAMP:20260423T044020
CREATED:20240405T001511Z
LAST-MODIFIED:20240405T001511Z
UID:10002635-1801764000-1801773000@elynevada.net
SUMMARY:Ely Elks Lodge Bingo
DESCRIPTION:Ely Elks Lodge Bingo\nBingo every first Thursday at the Ely Elks Lodge. Hot dogs and Chili are sold. Great time\, great people\, and BINGO!!!
URL:https://elynevada.net/event/ely-elks-lodge-bingo-2/2027-02-04/
LOCATION:Ely Elks Lodge\, 694 Campton St.\, Ely\, NV\, 89301\, United States
CATEGORIES:Community,Sports
ATTACH;FMTTYPE=image/png:https://elynevada.net/wp-content/uploads/2023/01/Ely-Elks-Lodge-Bingo.png
ORGANIZER;CN="Ely Elks Lodge":MAILTO:elyelks1469@att.net
END:VEVENT
BEGIN:VEVENT
DTSTART;TZID=America/Los_Angeles:20270205T063000
DTEND;TZID=America/Los_Angeles:20270205T070000
DTSTAMP:20260423T044020
CREATED:20260127T210739Z
LAST-MODIFIED:20260325T005141Z
UID:10004229-1801809000-1801810800@elynevada.net
SUMMARY:BeFitEly TBT
DESCRIPTION:BeFitEly Total Body Tone\nFull body strength training with progressive weight loading \nBuild strength from head to toe with our comprehensive full-body workout. You control the weight load\, starting light and progressing as you grow stronger. Perfect for building confidence and muscle definition. \n  \n\nFull body strength training\nProgressive weight loading\nBeginner to advanced options\nBuild at your own pace\n\n  \nPre Register at BeFitEly.com!
URL:https://elynevada.net/event/befitely-tbt/2027-02-05/
LOCATION:740 Autlman Street\, 740 Aultman Street\, Ely\, NV\, 89301\, United States
CATEGORIES:Community,Sports
ATTACH;FMTTYPE=image/jpeg:https://elynevada.net/wp-content/uploads/2026/01/BeFitEly-TBT.jpg
ORGANIZER;CN="BeFitEly":MAILTO:info@allaboardely.com
END:VEVENT
BEGIN:VEVENT
DTSTART;TZID=America/Los_Angeles:20270208T063000
DTEND;TZID=America/Los_Angeles:20270208T070000
DTSTAMP:20260423T044020
CREATED:20260127T210739Z
LAST-MODIFIED:20260325T005141Z
UID:10004230-1802068200-1802070000@elynevada.net
SUMMARY:BeFitEly TBT
DESCRIPTION:BeFitEly Total Body Tone\nFull body strength training with progressive weight loading \nBuild strength from head to toe with our comprehensive full-body workout. You control the weight load\, starting light and progressing as you grow stronger. Perfect for building confidence and muscle definition. \n  \n\nFull body strength training\nProgressive weight loading\nBeginner to advanced options\nBuild at your own pace\n\n  \nPre Register at BeFitEly.com!
URL:https://elynevada.net/event/befitely-tbt/2027-02-08/
LOCATION:740 Autlman Street\, 740 Aultman Street\, Ely\, NV\, 89301\, United States
CATEGORIES:Community,Sports
ATTACH;FMTTYPE=image/jpeg:https://elynevada.net/wp-content/uploads/2026/01/BeFitEly-TBT.jpg
ORGANIZER;CN="BeFitEly":MAILTO:info@allaboardely.com
END:VEVENT
BEGIN:VEVENT
DTSTART;TZID=America/Los_Angeles:20270209T170000
DTEND;TZID=America/Los_Angeles:20270209T180000
DTSTAMP:20260423T044020
CREATED:20260127T211512Z
LAST-MODIFIED:20260127T211513Z
UID:10004529-1802192400-1802196000@elynevada.net
SUMMARY:BeFitEly Step & Sculpt
DESCRIPTION:BeFitEly Step & Sculpt\nModern cardio step aerobics meets strength sculpting \nGet your heart pumping with dynamic step aerobics while building lean muscle with targeted sculpting exercises using weights. This high-energy class combines the best of both worlds for a complete workout experience. \n\nCardio step aerobics\nSculpting with weights\nHigh-energy music\nAll fitness levels welcome\n\n  \nNo Sign Up – Just Come to Class. Learn more at BeFitEly.com
URL:https://elynevada.net/event/befitely-step-sculpt/2027-02-09/
LOCATION:740 Autlman Street\, 740 Aultman Street\, Ely\, NV\, 89301\, United States
CATEGORIES:Community,Sports
ATTACH;FMTTYPE=image/jpeg:https://elynevada.net/wp-content/uploads/2026/01/BeFitEly-Step-Sculpt.jpg
ORGANIZER;CN="BeFitEly":MAILTO:info@allaboardely.com
END:VEVENT
BEGIN:VEVENT
DTSTART;TZID=America/Los_Angeles:20270210T063000
DTEND;TZID=America/Los_Angeles:20270210T070000
DTSTAMP:20260423T044020
CREATED:20260127T210739Z
LAST-MODIFIED:20260325T005141Z
UID:10004377-1802241000-1802242800@elynevada.net
SUMMARY:BeFitEly TBT
DESCRIPTION:BeFitEly Total Body Tone\nFull body strength training with progressive weight loading \nBuild strength from head to toe with our comprehensive full-body workout. You control the weight load\, starting light and progressing as you grow stronger. Perfect for building confidence and muscle definition. \n  \n\nFull body strength training\nProgressive weight loading\nBeginner to advanced options\nBuild at your own pace\n\n  \nPre Register at BeFitEly.com!
URL:https://elynevada.net/event/befitely-tbt/2027-02-10/
LOCATION:740 Autlman Street\, 740 Aultman Street\, Ely\, NV\, 89301\, United States
CATEGORIES:Community,Sports
ATTACH;FMTTYPE=image/jpeg:https://elynevada.net/wp-content/uploads/2026/01/BeFitEly-TBT.jpg
ORGANIZER;CN="BeFitEly":MAILTO:info@allaboardely.com
END:VEVENT
BEGIN:VEVENT
DTSTART;TZID=America/Los_Angeles:20270211T170000
DTEND;TZID=America/Los_Angeles:20270211T180000
DTSTAMP:20260423T044020
CREATED:20260127T211512Z
LAST-MODIFIED:20260127T211513Z
UID:10004530-1802365200-1802368800@elynevada.net
SUMMARY:BeFitEly Step & Sculpt
DESCRIPTION:BeFitEly Step & Sculpt\nModern cardio step aerobics meets strength sculpting \nGet your heart pumping with dynamic step aerobics while building lean muscle with targeted sculpting exercises using weights. This high-energy class combines the best of both worlds for a complete workout experience. \n\nCardio step aerobics\nSculpting with weights\nHigh-energy music\nAll fitness levels welcome\n\n  \nNo Sign Up – Just Come to Class. Learn more at BeFitEly.com
URL:https://elynevada.net/event/befitely-step-sculpt/2027-02-11/
LOCATION:740 Autlman Street\, 740 Aultman Street\, Ely\, NV\, 89301\, United States
CATEGORIES:Community,Sports
ATTACH;FMTTYPE=image/jpeg:https://elynevada.net/wp-content/uploads/2026/01/BeFitEly-Step-Sculpt.jpg
ORGANIZER;CN="BeFitEly":MAILTO:info@allaboardely.com
END:VEVENT
BEGIN:VEVENT
DTSTART;TZID=America/Los_Angeles:20270212T063000
DTEND;TZID=America/Los_Angeles:20270212T070000
DTSTAMP:20260423T044020
CREATED:20260127T210739Z
LAST-MODIFIED:20260325T005141Z
UID:10004231-1802413800-1802415600@elynevada.net
SUMMARY:BeFitEly TBT
DESCRIPTION:BeFitEly Total Body Tone\nFull body strength training with progressive weight loading \nBuild strength from head to toe with our comprehensive full-body workout. You control the weight load\, starting light and progressing as you grow stronger. Perfect for building confidence and muscle definition. \n  \n\nFull body strength training\nProgressive weight loading\nBeginner to advanced options\nBuild at your own pace\n\n  \nPre Register at BeFitEly.com!
URL:https://elynevada.net/event/befitely-tbt/2027-02-12/
LOCATION:740 Autlman Street\, 740 Aultman Street\, Ely\, NV\, 89301\, United States
CATEGORIES:Community,Sports
ATTACH;FMTTYPE=image/jpeg:https://elynevada.net/wp-content/uploads/2026/01/BeFitEly-TBT.jpg
ORGANIZER;CN="BeFitEly":MAILTO:info@allaboardely.com
END:VEVENT
BEGIN:VEVENT
DTSTART;TZID=America/Los_Angeles:20270215T063000
DTEND;TZID=America/Los_Angeles:20270215T070000
DTSTAMP:20260423T044020
CREATED:20260127T210739Z
LAST-MODIFIED:20260325T005141Z
UID:10004232-1802673000-1802674800@elynevada.net
SUMMARY:BeFitEly TBT
DESCRIPTION:BeFitEly Total Body Tone\nFull body strength training with progressive weight loading \nBuild strength from head to toe with our comprehensive full-body workout. You control the weight load\, starting light and progressing as you grow stronger. Perfect for building confidence and muscle definition. \n  \n\nFull body strength training\nProgressive weight loading\nBeginner to advanced options\nBuild at your own pace\n\n  \nPre Register at BeFitEly.com!
URL:https://elynevada.net/event/befitely-tbt/2027-02-15/
LOCATION:740 Autlman Street\, 740 Aultman Street\, Ely\, NV\, 89301\, United States
CATEGORIES:Community,Sports
ATTACH;FMTTYPE=image/jpeg:https://elynevada.net/wp-content/uploads/2026/01/BeFitEly-TBT.jpg
ORGANIZER;CN="BeFitEly":MAILTO:info@allaboardely.com
END:VEVENT
BEGIN:VEVENT
DTSTART;TZID=America/Los_Angeles:20270216T170000
DTEND;TZID=America/Los_Angeles:20270216T180000
DTSTAMP:20260423T044020
CREATED:20260127T211512Z
LAST-MODIFIED:20260127T211513Z
UID:10004531-1802797200-1802800800@elynevada.net
SUMMARY:BeFitEly Step & Sculpt
DESCRIPTION:BeFitEly Step & Sculpt\nModern cardio step aerobics meets strength sculpting \nGet your heart pumping with dynamic step aerobics while building lean muscle with targeted sculpting exercises using weights. This high-energy class combines the best of both worlds for a complete workout experience. \n\nCardio step aerobics\nSculpting with weights\nHigh-energy music\nAll fitness levels welcome\n\n  \nNo Sign Up – Just Come to Class. Learn more at BeFitEly.com
URL:https://elynevada.net/event/befitely-step-sculpt/2027-02-16/
LOCATION:740 Autlman Street\, 740 Aultman Street\, Ely\, NV\, 89301\, United States
CATEGORIES:Community,Sports
ATTACH;FMTTYPE=image/jpeg:https://elynevada.net/wp-content/uploads/2026/01/BeFitEly-Step-Sculpt.jpg
ORGANIZER;CN="BeFitEly":MAILTO:info@allaboardely.com
END:VEVENT
BEGIN:VEVENT
DTSTART;TZID=America/Los_Angeles:20270217T063000
DTEND;TZID=America/Los_Angeles:20270217T070000
DTSTAMP:20260423T044020
CREATED:20260127T210739Z
LAST-MODIFIED:20260325T005141Z
UID:10004378-1802845800-1802847600@elynevada.net
SUMMARY:BeFitEly TBT
DESCRIPTION:BeFitEly Total Body Tone\nFull body strength training with progressive weight loading \nBuild strength from head to toe with our comprehensive full-body workout. You control the weight load\, starting light and progressing as you grow stronger. Perfect for building confidence and muscle definition. \n  \n\nFull body strength training\nProgressive weight loading\nBeginner to advanced options\nBuild at your own pace\n\n  \nPre Register at BeFitEly.com!
URL:https://elynevada.net/event/befitely-tbt/2027-02-17/
LOCATION:740 Autlman Street\, 740 Aultman Street\, Ely\, NV\, 89301\, United States
CATEGORIES:Community,Sports
ATTACH;FMTTYPE=image/jpeg:https://elynevada.net/wp-content/uploads/2026/01/BeFitEly-TBT.jpg
ORGANIZER;CN="BeFitEly":MAILTO:info@allaboardely.com
END:VEVENT
BEGIN:VEVENT
DTSTART;TZID=America/Los_Angeles:20270218T170000
DTEND;TZID=America/Los_Angeles:20270218T180000
DTSTAMP:20260423T044020
CREATED:20260127T211512Z
LAST-MODIFIED:20260127T211513Z
UID:10004532-1802970000-1802973600@elynevada.net
SUMMARY:BeFitEly Step & Sculpt
DESCRIPTION:BeFitEly Step & Sculpt\nModern cardio step aerobics meets strength sculpting \nGet your heart pumping with dynamic step aerobics while building lean muscle with targeted sculpting exercises using weights. This high-energy class combines the best of both worlds for a complete workout experience. \n\nCardio step aerobics\nSculpting with weights\nHigh-energy music\nAll fitness levels welcome\n\n  \nNo Sign Up – Just Come to Class. Learn more at BeFitEly.com
URL:https://elynevada.net/event/befitely-step-sculpt/2027-02-18/
LOCATION:740 Autlman Street\, 740 Aultman Street\, Ely\, NV\, 89301\, United States
CATEGORIES:Community,Sports
ATTACH;FMTTYPE=image/jpeg:https://elynevada.net/wp-content/uploads/2026/01/BeFitEly-Step-Sculpt.jpg
ORGANIZER;CN="BeFitEly":MAILTO:info@allaboardely.com
END:VEVENT
BEGIN:VEVENT
DTSTART;TZID=America/Los_Angeles:20270219T063000
DTEND;TZID=America/Los_Angeles:20270219T070000
DTSTAMP:20260423T044020
CREATED:20260127T210739Z
LAST-MODIFIED:20260325T005141Z
UID:10004233-1803018600-1803020400@elynevada.net
SUMMARY:BeFitEly TBT
DESCRIPTION:BeFitEly Total Body Tone\nFull body strength training with progressive weight loading \nBuild strength from head to toe with our comprehensive full-body workout. You control the weight load\, starting light and progressing as you grow stronger. Perfect for building confidence and muscle definition. \n  \n\nFull body strength training\nProgressive weight loading\nBeginner to advanced options\nBuild at your own pace\n\n  \nPre Register at BeFitEly.com!
URL:https://elynevada.net/event/befitely-tbt/2027-02-19/
LOCATION:740 Autlman Street\, 740 Aultman Street\, Ely\, NV\, 89301\, United States
CATEGORIES:Community,Sports
ATTACH;FMTTYPE=image/jpeg:https://elynevada.net/wp-content/uploads/2026/01/BeFitEly-TBT.jpg
ORGANIZER;CN="BeFitEly":MAILTO:info@allaboardely.com
END:VEVENT
BEGIN:VEVENT
DTSTART;TZID=America/Los_Angeles:20270222T063000
DTEND;TZID=America/Los_Angeles:20270222T070000
DTSTAMP:20260423T044020
CREATED:20260127T210739Z
LAST-MODIFIED:20260325T005141Z
UID:10004234-1803277800-1803279600@elynevada.net
SUMMARY:BeFitEly TBT
DESCRIPTION:BeFitEly Total Body Tone\nFull body strength training with progressive weight loading \nBuild strength from head to toe with our comprehensive full-body workout. You control the weight load\, starting light and progressing as you grow stronger. Perfect for building confidence and muscle definition. \n  \n\nFull body strength training\nProgressive weight loading\nBeginner to advanced options\nBuild at your own pace\n\n  \nPre Register at BeFitEly.com!
URL:https://elynevada.net/event/befitely-tbt/2027-02-22/
LOCATION:740 Autlman Street\, 740 Aultman Street\, Ely\, NV\, 89301\, United States
CATEGORIES:Community,Sports
ATTACH;FMTTYPE=image/jpeg:https://elynevada.net/wp-content/uploads/2026/01/BeFitEly-TBT.jpg
ORGANIZER;CN="BeFitEly":MAILTO:info@allaboardely.com
END:VEVENT
BEGIN:VEVENT
DTSTART;TZID=America/Los_Angeles:20270223T170000
DTEND;TZID=America/Los_Angeles:20270223T180000
DTSTAMP:20260423T044020
CREATED:20260127T211512Z
LAST-MODIFIED:20260127T211513Z
UID:10004533-1803402000-1803405600@elynevada.net
SUMMARY:BeFitEly Step & Sculpt
DESCRIPTION:BeFitEly Step & Sculpt\nModern cardio step aerobics meets strength sculpting \nGet your heart pumping with dynamic step aerobics while building lean muscle with targeted sculpting exercises using weights. This high-energy class combines the best of both worlds for a complete workout experience. \n\nCardio step aerobics\nSculpting with weights\nHigh-energy music\nAll fitness levels welcome\n\n  \nNo Sign Up – Just Come to Class. Learn more at BeFitEly.com
URL:https://elynevada.net/event/befitely-step-sculpt/2027-02-23/
LOCATION:740 Autlman Street\, 740 Aultman Street\, Ely\, NV\, 89301\, United States
CATEGORIES:Community,Sports
ATTACH;FMTTYPE=image/jpeg:https://elynevada.net/wp-content/uploads/2026/01/BeFitEly-Step-Sculpt.jpg
ORGANIZER;CN="BeFitEly":MAILTO:info@allaboardely.com
END:VEVENT
BEGIN:VEVENT
DTSTART;TZID=America/Los_Angeles:20270224T063000
DTEND;TZID=America/Los_Angeles:20270224T070000
DTSTAMP:20260423T044020
CREATED:20260127T210739Z
LAST-MODIFIED:20260325T005141Z
UID:10004379-1803450600-1803452400@elynevada.net
SUMMARY:BeFitEly TBT
DESCRIPTION:BeFitEly Total Body Tone\nFull body strength training with progressive weight loading \nBuild strength from head to toe with our comprehensive full-body workout. You control the weight load\, starting light and progressing as you grow stronger. Perfect for building confidence and muscle definition. \n  \n\nFull body strength training\nProgressive weight loading\nBeginner to advanced options\nBuild at your own pace\n\n  \nPre Register at BeFitEly.com!
URL:https://elynevada.net/event/befitely-tbt/2027-02-24/
LOCATION:740 Autlman Street\, 740 Aultman Street\, Ely\, NV\, 89301\, United States
CATEGORIES:Community,Sports
ATTACH;FMTTYPE=image/jpeg:https://elynevada.net/wp-content/uploads/2026/01/BeFitEly-TBT.jpg
ORGANIZER;CN="BeFitEly":MAILTO:info@allaboardely.com
END:VEVENT
BEGIN:VEVENT
DTSTART;TZID=America/Los_Angeles:20270225T170000
DTEND;TZID=America/Los_Angeles:20270225T180000
DTSTAMP:20260423T044020
CREATED:20260127T211512Z
LAST-MODIFIED:20260127T211513Z
UID:10004534-1803574800-1803578400@elynevada.net
SUMMARY:BeFitEly Step & Sculpt
DESCRIPTION:BeFitEly Step & Sculpt\nModern cardio step aerobics meets strength sculpting \nGet your heart pumping with dynamic step aerobics while building lean muscle with targeted sculpting exercises using weights. This high-energy class combines the best of both worlds for a complete workout experience. \n\nCardio step aerobics\nSculpting with weights\nHigh-energy music\nAll fitness levels welcome\n\n  \nNo Sign Up – Just Come to Class. Learn more at BeFitEly.com
URL:https://elynevada.net/event/befitely-step-sculpt/2027-02-25/
LOCATION:740 Autlman Street\, 740 Aultman Street\, Ely\, NV\, 89301\, United States
CATEGORIES:Community,Sports
ATTACH;FMTTYPE=image/jpeg:https://elynevada.net/wp-content/uploads/2026/01/BeFitEly-Step-Sculpt.jpg
ORGANIZER;CN="BeFitEly":MAILTO:info@allaboardely.com
END:VEVENT
BEGIN:VEVENT
DTSTART;TZID=America/Los_Angeles:20270226T063000
DTEND;TZID=America/Los_Angeles:20270226T070000
DTSTAMP:20260423T044020
CREATED:20260127T210739Z
LAST-MODIFIED:20260325T005141Z
UID:10004235-1803623400-1803625200@elynevada.net
SUMMARY:BeFitEly TBT
DESCRIPTION:BeFitEly Total Body Tone\nFull body strength training with progressive weight loading \nBuild strength from head to toe with our comprehensive full-body workout. You control the weight load\, starting light and progressing as you grow stronger. Perfect for building confidence and muscle definition. \n  \n\nFull body strength training\nProgressive weight loading\nBeginner to advanced options\nBuild at your own pace\n\n  \nPre Register at BeFitEly.com!
URL:https://elynevada.net/event/befitely-tbt/2027-02-26/
LOCATION:740 Autlman Street\, 740 Aultman Street\, Ely\, NV\, 89301\, United States
CATEGORIES:Community,Sports
ATTACH;FMTTYPE=image/jpeg:https://elynevada.net/wp-content/uploads/2026/01/BeFitEly-TBT.jpg
ORGANIZER;CN="BeFitEly":MAILTO:info@allaboardely.com
END:VEVENT
END:VCALENDAR