BEGIN:VCALENDAR
VERSION:2.0
PRODID:-//Welcome To Ely - ECPv6.15.20//NONSGML v1.0//EN
CALSCALE:GREGORIAN
METHOD:PUBLISH
X-WR-CALNAME:Welcome To Ely
X-ORIGINAL-URL:https://elynevada.net
X-WR-CALDESC:Events for Welcome To Ely
REFRESH-INTERVAL;VALUE=DURATION:PT1H
X-Robots-Tag:noindex
X-PUBLISHED-TTL:PT1H
BEGIN:VTIMEZONE
TZID:America/Los_Angeles
BEGIN:DAYLIGHT
TZOFFSETFROM:-0800
TZOFFSETTO:-0700
TZNAME:PDT
DTSTART:20250309T100000
END:DAYLIGHT
BEGIN:STANDARD
TZOFFSETFROM:-0700
TZOFFSETTO:-0800
TZNAME:PST
DTSTART:20251102T090000
END:STANDARD
BEGIN:DAYLIGHT
TZOFFSETFROM:-0800
TZOFFSETTO:-0700
TZNAME:PDT
DTSTART:20260308T100000
END:DAYLIGHT
BEGIN:STANDARD
TZOFFSETFROM:-0700
TZOFFSETTO:-0800
TZNAME:PST
DTSTART:20261101T090000
END:STANDARD
BEGIN:DAYLIGHT
TZOFFSETFROM:-0800
TZOFFSETTO:-0700
TZNAME:PDT
DTSTART:20270314T100000
END:DAYLIGHT
BEGIN:STANDARD
TZOFFSETFROM:-0700
TZOFFSETTO:-0800
TZNAME:PST
DTSTART:20271107T090000
END:STANDARD
END:VTIMEZONE
BEGIN:VEVENT
DTSTART;TZID=America/Los_Angeles:20260604T173000
DTEND;TZID=America/Los_Angeles:20260604T190000
DTSTAMP:20260422T175017
CREATED:20260202T233711Z
LAST-MODIFIED:20260202T233711Z
UID:10004978-1780594200-1780599600@elynevada.net
SUMMARY:White Pine BMX Local Race
DESCRIPTION:White Pine BMX Local Race\nThere are many ways to #RideElyNV and the White Pine BMX State Race should be on your list.
URL:https://elynevada.net/event/white-pine-bmx-local-race/2026-06-04/
LOCATION:White Pine BMX Track\, 913 E 16th\, Ely\, NV\, 89301\, United States
CATEGORIES:Sports
ATTACH;FMTTYPE=image/png:https://elynevada.net/wp-content/uploads/2026/02/White-Pine-BMX-2026-Season.png
ORGANIZER;CN="White Pine BMX":MAILTO:Whitepinebmx1850@gmail.com
END:VEVENT
BEGIN:VEVENT
DTSTART;TZID=America/Los_Angeles:20260611T173000
DTEND;TZID=America/Los_Angeles:20260611T190000
DTSTAMP:20260422T175017
CREATED:20260202T233711Z
LAST-MODIFIED:20260202T233711Z
UID:10004979-1781199000-1781204400@elynevada.net
SUMMARY:White Pine BMX Local Race
DESCRIPTION:White Pine BMX Local Race\nThere are many ways to #RideElyNV and the White Pine BMX State Race should be on your list.
URL:https://elynevada.net/event/white-pine-bmx-local-race/2026-06-11/
LOCATION:White Pine BMX Track\, 913 E 16th\, Ely\, NV\, 89301\, United States
CATEGORIES:Sports
ATTACH;FMTTYPE=image/png:https://elynevada.net/wp-content/uploads/2026/02/White-Pine-BMX-2026-Season.png
ORGANIZER;CN="White Pine BMX":MAILTO:Whitepinebmx1850@gmail.com
END:VEVENT
BEGIN:VEVENT
DTSTART;TZID=America/Los_Angeles:20260618T173000
DTEND;TZID=America/Los_Angeles:20260618T190000
DTSTAMP:20260422T175017
CREATED:20260202T233711Z
LAST-MODIFIED:20260202T233711Z
UID:10004980-1781803800-1781809200@elynevada.net
SUMMARY:White Pine BMX Local Race
DESCRIPTION:White Pine BMX Local Race\nThere are many ways to #RideElyNV and the White Pine BMX State Race should be on your list.
URL:https://elynevada.net/event/white-pine-bmx-local-race/2026-06-18/
LOCATION:White Pine BMX Track\, 913 E 16th\, Ely\, NV\, 89301\, United States
CATEGORIES:Sports
ATTACH;FMTTYPE=image/png:https://elynevada.net/wp-content/uploads/2026/02/White-Pine-BMX-2026-Season.png
ORGANIZER;CN="White Pine BMX":MAILTO:Whitepinebmx1850@gmail.com
END:VEVENT
BEGIN:VEVENT
DTSTART;TZID=America/Los_Angeles:20260625T173000
DTEND;TZID=America/Los_Angeles:20260625T190000
DTSTAMP:20260422T175017
CREATED:20260202T233711Z
LAST-MODIFIED:20260202T233711Z
UID:10004981-1782408600-1782414000@elynevada.net
SUMMARY:White Pine BMX Local Race
DESCRIPTION:White Pine BMX Local Race\nThere are many ways to #RideElyNV and the White Pine BMX State Race should be on your list.
URL:https://elynevada.net/event/white-pine-bmx-local-race/2026-06-25/
LOCATION:White Pine BMX Track\, 913 E 16th\, Ely\, NV\, 89301\, United States
CATEGORIES:Sports
ATTACH;FMTTYPE=image/png:https://elynevada.net/wp-content/uploads/2026/02/White-Pine-BMX-2026-Season.png
ORGANIZER;CN="White Pine BMX":MAILTO:Whitepinebmx1850@gmail.com
END:VEVENT
BEGIN:VEVENT
DTSTART;TZID=America/Los_Angeles:20260702T173000
DTEND;TZID=America/Los_Angeles:20260702T190000
DTSTAMP:20260422T175017
CREATED:20260202T233711Z
LAST-MODIFIED:20260202T233711Z
UID:10004982-1783013400-1783018800@elynevada.net
SUMMARY:White Pine BMX Local Race
DESCRIPTION:White Pine BMX Local Race\nThere are many ways to #RideElyNV and the White Pine BMX State Race should be on your list.
URL:https://elynevada.net/event/white-pine-bmx-local-race/2026-07-02/
LOCATION:White Pine BMX Track\, 913 E 16th\, Ely\, NV\, 89301\, United States
CATEGORIES:Sports
ATTACH;FMTTYPE=image/png:https://elynevada.net/wp-content/uploads/2026/02/White-Pine-BMX-2026-Season.png
ORGANIZER;CN="White Pine BMX":MAILTO:Whitepinebmx1850@gmail.com
END:VEVENT
BEGIN:VEVENT
DTSTART;TZID=America/Los_Angeles:20260709T173000
DTEND;TZID=America/Los_Angeles:20260709T190000
DTSTAMP:20260422T175018
CREATED:20260202T233711Z
LAST-MODIFIED:20260202T233711Z
UID:10004983-1783618200-1783623600@elynevada.net
SUMMARY:White Pine BMX Local Race
DESCRIPTION:White Pine BMX Local Race\nThere are many ways to #RideElyNV and the White Pine BMX State Race should be on your list.
URL:https://elynevada.net/event/white-pine-bmx-local-race/2026-07-09/
LOCATION:White Pine BMX Track\, 913 E 16th\, Ely\, NV\, 89301\, United States
CATEGORIES:Sports
ATTACH;FMTTYPE=image/png:https://elynevada.net/wp-content/uploads/2026/02/White-Pine-BMX-2026-Season.png
ORGANIZER;CN="White Pine BMX":MAILTO:Whitepinebmx1850@gmail.com
END:VEVENT
BEGIN:VEVENT
DTSTART;TZID=America/Los_Angeles:20260716T173000
DTEND;TZID=America/Los_Angeles:20260716T190000
DTSTAMP:20260422T175018
CREATED:20260202T233711Z
LAST-MODIFIED:20260202T233711Z
UID:10004984-1784223000-1784228400@elynevada.net
SUMMARY:White Pine BMX Local Race
DESCRIPTION:White Pine BMX Local Race\nThere are many ways to #RideElyNV and the White Pine BMX State Race should be on your list.
URL:https://elynevada.net/event/white-pine-bmx-local-race/2026-07-16/
LOCATION:White Pine BMX Track\, 913 E 16th\, Ely\, NV\, 89301\, United States
CATEGORIES:Sports
ATTACH;FMTTYPE=image/png:https://elynevada.net/wp-content/uploads/2026/02/White-Pine-BMX-2026-Season.png
ORGANIZER;CN="White Pine BMX":MAILTO:Whitepinebmx1850@gmail.com
END:VEVENT
BEGIN:VEVENT
DTSTART;TZID=America/Los_Angeles:20260723T173000
DTEND;TZID=America/Los_Angeles:20260723T190000
DTSTAMP:20260422T175018
CREATED:20260202T233711Z
LAST-MODIFIED:20260202T233711Z
UID:10004985-1784827800-1784833200@elynevada.net
SUMMARY:White Pine BMX Local Race
DESCRIPTION:White Pine BMX Local Race\nThere are many ways to #RideElyNV and the White Pine BMX State Race should be on your list.
URL:https://elynevada.net/event/white-pine-bmx-local-race/2026-07-23/
LOCATION:White Pine BMX Track\, 913 E 16th\, Ely\, NV\, 89301\, United States
CATEGORIES:Sports
ATTACH;FMTTYPE=image/png:https://elynevada.net/wp-content/uploads/2026/02/White-Pine-BMX-2026-Season.png
ORGANIZER;CN="White Pine BMX":MAILTO:Whitepinebmx1850@gmail.com
END:VEVENT
BEGIN:VEVENT
DTSTART;TZID=America/Los_Angeles:20260730T173000
DTEND;TZID=America/Los_Angeles:20260730T190000
DTSTAMP:20260422T175018
CREATED:20260202T233711Z
LAST-MODIFIED:20260202T233711Z
UID:10004986-1785432600-1785438000@elynevada.net
SUMMARY:White Pine BMX Local Race
DESCRIPTION:White Pine BMX Local Race\nThere are many ways to #RideElyNV and the White Pine BMX State Race should be on your list.
URL:https://elynevada.net/event/white-pine-bmx-local-race/2026-07-30/
LOCATION:White Pine BMX Track\, 913 E 16th\, Ely\, NV\, 89301\, United States
CATEGORIES:Sports
ATTACH;FMTTYPE=image/png:https://elynevada.net/wp-content/uploads/2026/02/White-Pine-BMX-2026-Season.png
ORGANIZER;CN="White Pine BMX":MAILTO:Whitepinebmx1850@gmail.com
END:VEVENT
BEGIN:VEVENT
DTSTART;TZID=America/Los_Angeles:20260806T173000
DTEND;TZID=America/Los_Angeles:20260806T190000
DTSTAMP:20260422T175018
CREATED:20260202T233711Z
LAST-MODIFIED:20260202T233711Z
UID:10004987-1786037400-1786042800@elynevada.net
SUMMARY:White Pine BMX Local Race
DESCRIPTION:White Pine BMX Local Race\nThere are many ways to #RideElyNV and the White Pine BMX State Race should be on your list.
URL:https://elynevada.net/event/white-pine-bmx-local-race/2026-08-06/
LOCATION:White Pine BMX Track\, 913 E 16th\, Ely\, NV\, 89301\, United States
CATEGORIES:Sports
ATTACH;FMTTYPE=image/png:https://elynevada.net/wp-content/uploads/2026/02/White-Pine-BMX-2026-Season.png
ORGANIZER;CN="White Pine BMX":MAILTO:Whitepinebmx1850@gmail.com
END:VEVENT
BEGIN:VEVENT
DTSTART;TZID=America/Los_Angeles:20260813T173000
DTEND;TZID=America/Los_Angeles:20260813T190000
DTSTAMP:20260422T175018
CREATED:20260202T233711Z
LAST-MODIFIED:20260202T233711Z
UID:10004988-1786642200-1786647600@elynevada.net
SUMMARY:White Pine BMX Local Race
DESCRIPTION:White Pine BMX Local Race\nThere are many ways to #RideElyNV and the White Pine BMX State Race should be on your list.
URL:https://elynevada.net/event/white-pine-bmx-local-race/2026-08-13/
LOCATION:White Pine BMX Track\, 913 E 16th\, Ely\, NV\, 89301\, United States
CATEGORIES:Sports
ATTACH;FMTTYPE=image/png:https://elynevada.net/wp-content/uploads/2026/02/White-Pine-BMX-2026-Season.png
ORGANIZER;CN="White Pine BMX":MAILTO:Whitepinebmx1850@gmail.com
END:VEVENT
BEGIN:VEVENT
DTSTART;TZID=America/Los_Angeles:20260820T173000
DTEND;TZID=America/Los_Angeles:20260820T190000
DTSTAMP:20260422T175018
CREATED:20260202T233711Z
LAST-MODIFIED:20260202T233711Z
UID:10004989-1787247000-1787252400@elynevada.net
SUMMARY:White Pine BMX Local Race
DESCRIPTION:White Pine BMX Local Race\nThere are many ways to #RideElyNV and the White Pine BMX State Race should be on your list.
URL:https://elynevada.net/event/white-pine-bmx-local-race/2026-08-20/
LOCATION:White Pine BMX Track\, 913 E 16th\, Ely\, NV\, 89301\, United States
CATEGORIES:Sports
ATTACH;FMTTYPE=image/png:https://elynevada.net/wp-content/uploads/2026/02/White-Pine-BMX-2026-Season.png
ORGANIZER;CN="White Pine BMX":MAILTO:Whitepinebmx1850@gmail.com
END:VEVENT
BEGIN:VEVENT
DTSTART;TZID=America/Los_Angeles:20260827T173000
DTEND;TZID=America/Los_Angeles:20260827T190000
DTSTAMP:20260422T175018
CREATED:20260202T233711Z
LAST-MODIFIED:20260202T233711Z
UID:10004990-1787851800-1787857200@elynevada.net
SUMMARY:White Pine BMX Local Race
DESCRIPTION:White Pine BMX Local Race\nThere are many ways to #RideElyNV and the White Pine BMX State Race should be on your list.
URL:https://elynevada.net/event/white-pine-bmx-local-race/2026-08-27/
LOCATION:White Pine BMX Track\, 913 E 16th\, Ely\, NV\, 89301\, United States
CATEGORIES:Sports
ATTACH;FMTTYPE=image/png:https://elynevada.net/wp-content/uploads/2026/02/White-Pine-BMX-2026-Season.png
ORGANIZER;CN="White Pine BMX":MAILTO:Whitepinebmx1850@gmail.com
END:VEVENT
END:VCALENDAR