BEGIN:VCALENDAR
VERSION:2.0
PRODID:-//Welcome To Ely - ECPv6.15.20//NONSGML v1.0//EN
CALSCALE:GREGORIAN
METHOD:PUBLISH
X-WR-CALNAME:Welcome To Ely
X-ORIGINAL-URL:https://elynevada.net
X-WR-CALDESC:Events for Welcome To Ely
REFRESH-INTERVAL;VALUE=DURATION:PT1H
X-Robots-Tag:noindex
X-PUBLISHED-TTL:PT1H
BEGIN:VTIMEZONE
TZID:UTC
BEGIN:STANDARD
TZOFFSETFROM:+0000
TZOFFSETTO:+0000
TZNAME:UTC
DTSTART:20200101T000000
END:STANDARD
END:VTIMEZONE
BEGIN:VEVENT
DTSTART;VALUE=DATE:20210630
DTEND;VALUE=DATE:20210702
DTSTAMP:20260423T095454
CREATED:20200225T051321Z
LAST-MODIFIED:20210622T050424Z
UID:10000336-1625011200-1625183999@elynevada.net
SUMMARY:White Pine High School All Class Reunion
DESCRIPTION:Everyone is invited to the White Pine High School All-Class Reunion! The 2021 Reunion will be from July 2nd through July 4th. This will be an exciting weekend filled with numerous events beginning Thursday evening and culminating with the fireworks Sunday evening at the White Pine Golf Course. This is the schedule for the weekend: \n \n \n\n  \nThe Traveling Vietnam Wall will be in Ely at Broadbent Park beginning July 1st through July 4th. This is a very exciting event for White Pine County. White Pine County has 15 heroes depicted on the wall. It is a perfect opportunity to reflect on the Vietnam Veterans who gave their all. \nTo register in the amount of $50.00 per person and $75.00 per couple\, please contact the White Pine Chamber of Commerce at (775)289-8877 or email WPAllClassReunion@gmail.com. Registration includes a t-shirt\, lanyard\, wristband and gate entry fees for Thursday and Saturday night events. This summer will be a busy construction season in Ely\, please make your hotel reservations early or you may not get a room! \nLooking forward to seeing everyone here for the All-Class Reunion!
URL:https://elynevada.net/event/classreunion/
LOCATION:Ely\, NV\, 89301\, United States
CATEGORIES:Community,History
ATTACH;FMTTYPE=image/jpeg:https://elynevada.net/wp-content/uploads/2018/05/museum-mural.jpg
END:VEVENT
END:VCALENDAR