BEGIN:VCALENDAR
VERSION:2.0
PRODID:-//Welcome To Ely - ECPv6.15.20//NONSGML v1.0//EN
CALSCALE:GREGORIAN
METHOD:PUBLISH
X-WR-CALNAME:Welcome To Ely
X-ORIGINAL-URL:https://elynevada.net
X-WR-CALDESC:Events for Welcome To Ely
REFRESH-INTERVAL;VALUE=DURATION:PT1H
X-Robots-Tag:noindex
X-PUBLISHED-TTL:PT1H
BEGIN:VTIMEZONE
TZID:UTC
BEGIN:STANDARD
TZOFFSETFROM:+0000
TZOFFSETTO:+0000
TZNAME:UTC
DTSTART:20180101T000000
END:STANDARD
END:VTIMEZONE
BEGIN:VEVENT
DTSTART;TZID=UTC:20191214T140000
DTEND;TZID=UTC:20191214T160000
DTSTAMP:20260423T092831
CREATED:20191127T043018Z
LAST-MODIFIED:20191127T044227Z
UID:10000223-1576332000-1576339200@elynevada.net
SUMMARY:Ladies Christmas Tea
DESCRIPTION:Bayside-Ely Women’s Annual Ladies Christmas Tea.
URL:https://elynevada.net/event/ladies-christmas-tea/
LOCATION:Bristlecone Convention Center\, 150 Sixth Street\, Ely\, NV\, 89301\, United States
ATTACH;FMTTYPE=image/jpeg:https://elynevada.net/wp-content/uploads/2019/11/52013961_2306082986338369_7606469853825728512_n.jpg
ORGANIZER;CN="Bayside-Ely Women":MAILTO:http://www.bayside-ely.org/?fbclid=IwAR2Mevz0iiPBucvxIaeyM_nns7TqQfw1FE3RYABVlNUspa2pzCkmgV6lOEA
END:VEVENT
END:VCALENDAR